BEGIN:VCALENDAR
VERSION:2.0
PRODID:-//jEvents 2.0 for Joomla//EN
CALSCALE:GREGORIAN
METHOD:PUBLISH
BEGIN:VTIMEZONE
TZID:America/Toronto
BEGIN:STANDARD
DTSTART:20220203T100000
RDATE:20220313T030000
TZOFFSETFROM:-0400
TZOFFSETTO:-0500
TZNAME:America/Toronto EST
END:STANDARD
BEGIN:STANDARD
DTSTART:20221106T010000
RDATE:20230312T030000
TZOFFSETFROM:-0400
TZOFFSETTO:-0500
TZNAME:America/Toronto EST
END:STANDARD
BEGIN:STANDARD
DTSTART:20231105T010000
RDATE:20240310T030000
TZOFFSETFROM:-0400
TZOFFSETTO:-0500
TZNAME:America/Toronto EST
END:STANDARD
BEGIN:STANDARD
DTSTART:20241103T010000
RDATE:20250309T030000
TZOFFSETFROM:-0400
TZOFFSETTO:-0500
TZNAME:America/Toronto EST
END:STANDARD
BEGIN:STANDARD
DTSTART:20251102T010000
RDATE:20260308T030000
TZOFFSETFROM:-0400
TZOFFSETTO:-0500
TZNAME:America/Toronto EST
END:STANDARD
BEGIN:STANDARD
DTSTART:20261101T010000
RDATE:20270314T030000
TZOFFSETFROM:-0400
TZOFFSETTO:-0500
TZNAME:America/Toronto EST
END:STANDARD
BEGIN:STANDARD
DTSTART:20271107T010000
RDATE:20280312T030000
TZOFFSETFROM:-0400
TZOFFSETTO:-0500
TZNAME:America/Toronto EST
END:STANDARD
BEGIN:STANDARD
DTSTART:20281105T010000
RDATE:20290311T030000
TZOFFSETFROM:-0400
TZOFFSETTO:-0500
TZNAME:America/Toronto EST
END:STANDARD
BEGIN:STANDARD
DTSTART:20291104T010000
RDATE:20300310T030000
TZOFFSETFROM:-0400
TZOFFSETTO:-0500
TZNAME:America/Toronto EST
END:STANDARD
BEGIN:STANDARD
DTSTART:20301103T010000
RDATE:20310309T030000
TZOFFSETFROM:-0400
TZOFFSETTO:-0500
TZNAME:America/Toronto EST
END:STANDARD
BEGIN:STANDARD
DTSTART:20311102T010000
RDATE:20320314T030000
TZOFFSETFROM:-0400
TZOFFSETTO:-0500
TZNAME:America/Toronto EST
END:STANDARD
BEGIN:DAYLIGHT
DTSTART:20220313T030000
RDATE:20221106T010000
TZOFFSETFROM:-0500
TZOFFSETTO:-0400
TZNAME:America/Toronto EDT
END:DAYLIGHT
BEGIN:DAYLIGHT
DTSTART:20230312T030000
RDATE:20231105T010000
TZOFFSETFROM:-0500
TZOFFSETTO:-0400
TZNAME:America/Toronto EDT
END:DAYLIGHT
BEGIN:DAYLIGHT
DTSTART:20240310T030000
RDATE:20241103T010000
TZOFFSETFROM:-0500
TZOFFSETTO:-0400
TZNAME:America/Toronto EDT
END:DAYLIGHT
BEGIN:DAYLIGHT
DTSTART:20250309T030000
RDATE:20251102T010000
TZOFFSETFROM:-0500
TZOFFSETTO:-0400
TZNAME:America/Toronto EDT
END:DAYLIGHT
BEGIN:DAYLIGHT
DTSTART:20260308T030000
RDATE:20261101T010000
TZOFFSETFROM:-0500
TZOFFSETTO:-0400
TZNAME:America/Toronto EDT
END:DAYLIGHT
BEGIN:DAYLIGHT
DTSTART:20270314T030000
RDATE:20271107T010000
TZOFFSETFROM:-0500
TZOFFSETTO:-0400
TZNAME:America/Toronto EDT
END:DAYLIGHT
BEGIN:DAYLIGHT
DTSTART:20280312T030000
RDATE:20281105T010000
TZOFFSETFROM:-0500
TZOFFSETTO:-0400
TZNAME:America/Toronto EDT
END:DAYLIGHT
BEGIN:DAYLIGHT
DTSTART:20290311T030000
RDATE:20291104T010000
TZOFFSETFROM:-0500
TZOFFSETTO:-0400
TZNAME:America/Toronto EDT
END:DAYLIGHT
BEGIN:DAYLIGHT
DTSTART:20300310T030000
RDATE:20301103T010000
TZOFFSETFROM:-0500
TZOFFSETTO:-0400
TZNAME:America/Toronto EDT
END:DAYLIGHT
BEGIN:DAYLIGHT
DTSTART:20310309T030000
RDATE:20311102T010000
TZOFFSETFROM:-0500
TZOFFSETTO:-0400
TZNAME:America/Toronto EDT
END:DAYLIGHT
END:VTIMEZONE
BEGIN:VEVENT
UID:59f2629712ef45887a13c2e73d17e8f2
CATEGORIES:Durham Events
CREATED:20221213T153255
SUMMARY:Admissions Open House
LOCATION:Trafalgar Castle School
DESCRIPTION:Join us for our in-person Admissions Open House, Saturday, February 4 from 
 10 to 12 noon\nOur dedicated Admissions team is eager to meet you and share
  the many opportunities available to students at Trafalgar Castle School. W
 e recognize that finding the right school can be overwhelming and we are he
 re to help families every step of the way, from initial inquiry through to 
 enrolment!\n \nREGISTER TODAY (https://docs.google.com/forms/d/e/1FAIpQLScj
 D5lqQ-SukNgratR-HtXExM1udbvLGVfKxrsrS_yz2zMa6A/viewform)\n
X-ALT-DESC;FMTTYPE=text/html:<p>Join us for our in-person Admissions Open House, Saturday, February 4 fr
 om 10 to 12 noon</p><p>Our dedicated Admissions team is eager to meet you a
 nd share the many opportunities available to students at Trafalgar Castle S
 chool. We recognize that finding the right school can be overwhelming and w
 e are here to help families every step of the way, from initial inquiry thr
 ough to enrolment!</p><p> </p><p><a href="https://docs.google.com/forms/d/e
 /1FAIpQLScjD5lqQ-SukNgratR-HtXExM1udbvLGVfKxrsrS_yz2zMa6A/viewform">REGISTE
 R TODAY</a></p>
CONTACT:Admissions
DTSTAMP:20260421T075231
DTSTART;TZID=America/Toronto:20230204T100000
DTEND;TZID=America/Toronto:20230204T120000
SEQUENCE:0
TRANSP:OPAQUE
END:VEVENT
END:VCALENDAR