BEGIN:VCALENDAR
VERSION:2.0
PRODID:-//jEvents 2.0 for Joomla//EN
CALSCALE:GREGORIAN
METHOD:PUBLISH
BEGIN:VTIMEZONE
TZID:America/Toronto
BEGIN:STANDARD
DTSTART:20220126T180000
RDATE:20220313T030000
TZOFFSETFROM:-0400
TZOFFSETTO:-0500
TZNAME:America/Toronto EST
END:STANDARD
BEGIN:STANDARD
DTSTART:20221106T010000
RDATE:20230312T030000
TZOFFSETFROM:-0400
TZOFFSETTO:-0500
TZNAME:America/Toronto EST
END:STANDARD
BEGIN:STANDARD
DTSTART:20231105T010000
RDATE:20240310T030000
TZOFFSETFROM:-0400
TZOFFSETTO:-0500
TZNAME:America/Toronto EST
END:STANDARD
BEGIN:STANDARD
DTSTART:20241103T010000
RDATE:20250309T030000
TZOFFSETFROM:-0400
TZOFFSETTO:-0500
TZNAME:America/Toronto EST
END:STANDARD
BEGIN:STANDARD
DTSTART:20251102T010000
RDATE:20260308T030000
TZOFFSETFROM:-0400
TZOFFSETTO:-0500
TZNAME:America/Toronto EST
END:STANDARD
BEGIN:STANDARD
DTSTART:20261101T010000
RDATE:20270314T030000
TZOFFSETFROM:-0400
TZOFFSETTO:-0500
TZNAME:America/Toronto EST
END:STANDARD
BEGIN:STANDARD
DTSTART:20271107T010000
RDATE:20280312T030000
TZOFFSETFROM:-0400
TZOFFSETTO:-0500
TZNAME:America/Toronto EST
END:STANDARD
BEGIN:STANDARD
DTSTART:20281105T010000
RDATE:20290311T030000
TZOFFSETFROM:-0400
TZOFFSETTO:-0500
TZNAME:America/Toronto EST
END:STANDARD
BEGIN:STANDARD
DTSTART:20291104T010000
RDATE:20300310T030000
TZOFFSETFROM:-0400
TZOFFSETTO:-0500
TZNAME:America/Toronto EST
END:STANDARD
BEGIN:STANDARD
DTSTART:20301103T010000
RDATE:20310309T030000
TZOFFSETFROM:-0400
TZOFFSETTO:-0500
TZNAME:America/Toronto EST
END:STANDARD
BEGIN:STANDARD
DTSTART:20311102T010000
RDATE:20320314T030000
TZOFFSETFROM:-0400
TZOFFSETTO:-0500
TZNAME:America/Toronto EST
END:STANDARD
BEGIN:DAYLIGHT
DTSTART:20220313T030000
RDATE:20221106T010000
TZOFFSETFROM:-0500
TZOFFSETTO:-0400
TZNAME:America/Toronto EDT
END:DAYLIGHT
BEGIN:DAYLIGHT
DTSTART:20230312T030000
RDATE:20231105T010000
TZOFFSETFROM:-0500
TZOFFSETTO:-0400
TZNAME:America/Toronto EDT
END:DAYLIGHT
BEGIN:DAYLIGHT
DTSTART:20240310T030000
RDATE:20241103T010000
TZOFFSETFROM:-0500
TZOFFSETTO:-0400
TZNAME:America/Toronto EDT
END:DAYLIGHT
BEGIN:DAYLIGHT
DTSTART:20250309T030000
RDATE:20251102T010000
TZOFFSETFROM:-0500
TZOFFSETTO:-0400
TZNAME:America/Toronto EDT
END:DAYLIGHT
BEGIN:DAYLIGHT
DTSTART:20260308T030000
RDATE:20261101T010000
TZOFFSETFROM:-0500
TZOFFSETTO:-0400
TZNAME:America/Toronto EDT
END:DAYLIGHT
BEGIN:DAYLIGHT
DTSTART:20270314T030000
RDATE:20271107T010000
TZOFFSETFROM:-0500
TZOFFSETTO:-0400
TZNAME:America/Toronto EDT
END:DAYLIGHT
BEGIN:DAYLIGHT
DTSTART:20280312T030000
RDATE:20281105T010000
TZOFFSETFROM:-0500
TZOFFSETTO:-0400
TZNAME:America/Toronto EDT
END:DAYLIGHT
BEGIN:DAYLIGHT
DTSTART:20290311T030000
RDATE:20291104T010000
TZOFFSETFROM:-0500
TZOFFSETTO:-0400
TZNAME:America/Toronto EDT
END:DAYLIGHT
BEGIN:DAYLIGHT
DTSTART:20300310T030000
RDATE:20301103T010000
TZOFFSETFROM:-0500
TZOFFSETTO:-0400
TZNAME:America/Toronto EDT
END:DAYLIGHT
BEGIN:DAYLIGHT
DTSTART:20310309T030000
RDATE:20311102T010000
TZOFFSETFROM:-0500
TZOFFSETTO:-0400
TZNAME:America/Toronto EDT
END:DAYLIGHT
END:VTIMEZONE
BEGIN:VEVENT
UID:5369e77a4b44ac6e3159b2c90c6c5fd5
CATEGORIES:Durham Events
CREATED:20230106T082523
SUMMARY:Murder Mystery: Loyal Order of Goose
LOCATION:731 Wilson Road South\, Oshawa\, Ont
DESCRIPTION:A dinner and interactive "Who Dunnit" comedy/murder mystery where YOU are p
 art of the story! It's the 47th Annual General Meeting of the Loyal Order o
 f Goose, and you have a bone to pick with the board! But before things even
  get to elections, someone is murdered right before your eyes! Who does the
  killing, why, and when did they have the opportunity to do it? You help to
  figure it out! As a Member of the Goose, you are called upon to attend thi
 s important gathering of the flock for updates on the finances, a fire that
  struck the Nest some 6 months ago, and to vote on who will be your next Bo
 ard President.  You’ve heard rumour there may changes coming for who can ev
 en be a member and that might affect you! During dinner, two candidates run
 ning for President will briefly speak as to why they should lead the Goose.
  Could the best choice be the incumbent, Ronald Rump? Word is, he has spent
  a lot of our money this past year on things that maybe weren’t great choic
 es. Or is it Lucy Lark, long-time member and brilliant Ornithologist? Just 
 3 months ago, she discovered a mass die-off of geese in the marsh, then qui
 ckly found the source of the poison and acted on its cleanup. What do each 
 of them think about the International Flock of Flamingos? Are they a threat
  to the Goose?  Apparently Vice President Conway Collie is unhappy about th
 e finances handled by this new Treasurer Molly Mason, who was just simply a
 ppointed to the role six months ago by Ronald. Thank goodness Membership Di
 rector Fran Felix and Secretary Betty Ballad have been on the ball about re
 cording minutes and put info out in the Gooseletter to the membership! Ther
 e might even be a reporter at the meeting to cover the election. You must b
 e there! You must be heard.  Two Dinner Options:Roast Beef plate with green
 s, mashed potato, gravy, dinner roll, salad, tea/coffeeOR Vegetarian Lasagn
 a with, garlic bread, salad Dessert - Choice of Carrot cake or Apple PieA f
 ully engaging event – some of you will even get scripted lines!Everyone pla
 ys a part at their table in determining the facts, questioning the suspects
  Friday January 27th ,2023 6pm arrival time (important interactions/greetin
 gs)6:30pm dinnerHosted at the Loyal Order of Moose lodge at 731 Wilson Road
  South, OshawaDinner and an interactive show for just $40 per person ($35 p
 er person if coming as a couple!) Proceeds to United Way and the JHS Durham
  Women’s Drop-In Program Examine the clues, consider the suspects, engage i
 n solving the mystery! Just $40 a person or $70 a couple for dinner and a f
 un, interative evening! Cash bar on site run by the Moose Lodge. A fundrais
 er for the United Way and the Women's Support Program through the John Howa
 rd Society of Durham, generously hosted at the Oshawa Loyal Order of Moose.
X-ALT-DESC;FMTTYPE=text/html:<div class="" data-block="true" data-editor="c6mjh" data-offset-key="47rcr-
 0-0"><div class="public-DraftStyleDefault-block public-DraftStyleDefault-lt
 r" data-offset-key="47rcr-0-0"><span style="text-decoration: underline;"><s
 trong>A dinner and interactive "Who Dunnit" comedy/murder mystery where YOU
  are part of the story!</strong></span></div></div><div class="" data-block
 ="true" data-editor="c6mjh" data-offset-key="b7a3a-0-0"><div class="public-
 DraftStyleDefault-block public-DraftStyleDefault-ltr" data-offset-key="b7a3
 a-0-0"><span data-offset-key="b7a3a-0-0"> </span></div></div><div class="" 
 data-block="true" data-editor="c6mjh" data-offset-key="aoqre-0-0"><div clas
 s="public-DraftStyleDefault-block public-DraftStyleDefault-ltr" data-offset
 -key="aoqre-0-0"><span data-offset-key="aoqre-0-0">It's the 47th Annual Gen
 eral Meeting of the </span><span data-offset-key="aoqre-0-1">Loyal Order of
  Goose</span><span data-offset-key="aoqre-0-2">, and you have a bone to pic
 k with the board! But before things even get to elections, someone is murde
 red right before your eyes!</span></div></div><div class="" data-block="tru
 e" data-editor="c6mjh" data-offset-key="6l1c4-0-0"> </div><div class="" dat
 a-block="true" data-editor="c6mjh" data-offset-key="a2v2u-0-0"><div class="
 public-DraftStyleDefault-block public-DraftStyleDefault-ltr" data-offset-ke
 y="a2v2u-0-0"><strong>Who does the killing, why, and when did they have the
  opportunity to do it? You help to figure it out!</strong></div></div><div 
 class="" data-block="true" data-editor="c6mjh" data-offset-key="fr92g-0-0">
 <div class="public-DraftStyleDefault-block public-DraftStyleDefault-ltr" da
 ta-offset-key="fr92g-0-0"><span data-offset-key="fr92g-0-0"> </span></div><
 /div><div class="" data-block="true" data-editor="c6mjh" data-offset-key="g
 ghe-0-0"><div class="public-DraftStyleDefault-block public-DraftStyleDefaul
 t-ltr" data-offset-key="gghe-0-0"><span data-offset-key="gghe-0-0">As a Mem
 ber of the Goose, you are called upon to attend this important gathering of
  the flock for updates on the finances, a fire that struck the Nest some 6 
 months ago, and to vote on who will be your next Board President. </span></
 div></div><div class="" data-block="true" data-editor="c6mjh" data-offset-k
 ey="79cfd-0-0"><div class="public-DraftStyleDefault-block public-DraftStyle
 Default-ltr" data-offset-key="79cfd-0-0"><span data-offset-key="79cfd-0-0">
  </span></div></div><div class="" data-block="true" data-editor="c6mjh" dat
 a-offset-key="1b9ok-0-0"><div class="public-DraftStyleDefault-block public-
 DraftStyleDefault-ltr" data-offset-key="1b9ok-0-0"><span data-offset-key="1
 b9ok-0-0">You’ve heard rumour there may changes coming for who can even be 
 a member and that might affect you! During dinner, two candidates running f
 or President will briefly speak as to why they should lead the Goose. Could
  the best choice be the incumbent, Ronald Rump? Word is, he has spent a lot
  of our money this past year on things that maybe weren’t great choices. Or
  is it Lucy Lark, long-time member and brilliant Ornithologist? Just 3 mont
 hs ago, she discovered a mass die-off of geese in the marsh, then quickly f
 ound the source of the poison and acted on its cleanup. What do each of the
 m think about the International Flock of Flamingos? Are they a threat to th
 e Goose? </span></div></div><div class="" data-block="true" data-editor="c6
 mjh" data-offset-key="5ffds-0-0"><div class="public-DraftStyleDefault-block
  public-DraftStyleDefault-ltr" data-offset-key="5ffds-0-0"><span data-offse
 t-key="5ffds-0-0"> </span></div></div><div class="" data-block="true" data-
 editor="c6mjh" data-offset-key="alasb-0-0"><div class="public-DraftStyleDef
 ault-block public-DraftStyleDefault-ltr" data-offset-key="alasb-0-0"><span 
 data-offset-key="alasb-0-0">Apparently Vice President Conway Collie is unha
 ppy about the finances handled by this new Treasurer Molly Mason, who was j
 ust simply appointed to the role six months ago by Ronald. Thank goodness M
 embership Director Fran Felix and Secretary Betty Ballad have been on the b
 all about recording minutes and put info out in the Gooseletter to the memb
 ership! There might even be a reporter at the meeting to cover the election
 . You must be there! You must be heard. </span></div></div><div class="" da
 ta-block="true" data-editor="c6mjh" data-offset-key="dme68-0-0"><div class=
 "public-DraftStyleDefault-block public-DraftStyleDefault-ltr" data-offset-k
 ey="dme68-0-0"><span data-offset-key="dme68-0-0"> </span></div></div><div c
 lass="" data-block="true" data-editor="c6mjh" data-offset-key="9s27p-0-0"><
 div class="public-DraftStyleDefault-block public-DraftStyleDefault-ltr" dat
 a-offset-key="9s27p-0-0"><span data-offset-key="9s27p-0-0">Two Dinner Optio
 ns:</span></div></div><div class="" data-block="true" data-editor="c6mjh" d
 ata-offset-key="29i24-0-0"><div class="public-DraftStyleDefault-block publi
 c-DraftStyleDefault-ltr" data-offset-key="29i24-0-0"><span data-offset-key=
 "29i24-0-0">Roast Beef plate with greens, mashed potato, gravy, dinner roll
 , salad, tea/coffee</span></div></div><div class="" data-block="true" data-
 editor="c6mjh" data-offset-key="dbe30-0-0"><div class="public-DraftStyleDef
 ault-block public-DraftStyleDefault-ltr" data-offset-key="dbe30-0-0"><span 
 data-offset-key="dbe30-0-0">OR </span></div></div><div class="" data-block=
 "true" data-editor="c6mjh" data-offset-key="1tcl3-0-0"><div class="public-D
 raftStyleDefault-block public-DraftStyleDefault-ltr" data-offset-key="1tcl3
 -0-0"><span data-offset-key="1tcl3-0-0">Vegetarian Lasagna with, garlic bre
 ad, salad</span></div></div><div class="" data-block="true" data-editor="c6
 mjh" data-offset-key="383fd-0-0"><div class="public-DraftStyleDefault-block
  public-DraftStyleDefault-ltr" data-offset-key="383fd-0-0"><span data-offse
 t-key="383fd-0-0"> </span></div></div><div class="" data-block="true" data-
 editor="c6mjh" data-offset-key="32m6e-0-0"><ul><li class="public-DraftStyle
 Default-block public-DraftStyleDefault-ltr" data-offset-key="32m6e-0-0"><sp
 an data-offset-key="32m6e-0-0">Dessert - Choice of Carrot cake or Apple Pie
 </span></li><li class="public-DraftStyleDefault-block public-DraftStyleDefa
 ult-ltr" data-offset-key="32m6e-0-0">A fully engaging event – some of you w
 ill even get scripted lines!</li><li class="public-DraftStyleDefault-block 
 public-DraftStyleDefault-ltr" data-offset-key="32m6e-0-0">Everyone plays a 
 part at their table in determining the facts, questioning the suspects</li>
 </ul><div class="public-DraftStyleDefault-block public-DraftStyleDefault-lt
 r" data-offset-key="32m6e-0-0"> </div></div><div class="" data-block="true"
  data-editor="c6mjh" data-offset-key="dosoq-0-0"><div class="public-DraftSt
 yleDefault-block public-DraftStyleDefault-ltr" data-offset-key="dosoq-0-0">
 <span data-offset-key="dosoq-0-0">Friday January 27th ,2023 </span></div></
 div><div class="" data-block="true" data-editor="c6mjh" data-offset-key="cl
 7pv-0-0"><div class="public-DraftStyleDefault-block public-DraftStyleDefaul
 t-ltr" data-offset-key="cl7pv-0-0"><span data-offset-key="cl7pv-0-0">6pm ar
 rival time (important interactions/greetings)</span></div></div><div class=
 "" data-block="true" data-editor="c6mjh" data-offset-key="c59pl-0-0"><div c
 lass="public-DraftStyleDefault-block public-DraftStyleDefault-ltr" data-off
 set-key="c59pl-0-0"><span data-offset-key="c59pl-0-0">6:30pm dinner</span><
 /div></div><div class="" data-block="true" data-editor="c6mjh" data-offset-
 key="1luhk-0-0"><div class="public-DraftStyleDefault-block public-DraftStyl
 eDefault-ltr" data-offset-key="1luhk-0-0"><span data-offset-key="1luhk-0-0"
 >Hosted at the Loyal Order of Moose lodge at 731 Wilson Road South, Oshawa<
 /span></div></div><div class="" data-block="true" data-editor="c6mjh" data-
 offset-key="7rrj3-0-0"><div class="public-DraftStyleDefault-block public-Dr
 aftStyleDefault-ltr" data-offset-key="7rrj3-0-0"><span data-offset-key="7rr
 j3-0-0">Dinner and an interactive show for just $40 per person ($35 per per
 son if coming as a couple!) </span></div></div><div class="" data-block="tr
 ue" data-editor="c6mjh" data-offset-key="73or2-0-0"><div class="public-Draf
 tStyleDefault-block public-DraftStyleDefault-ltr" data-offset-key="73or2-0-
 0"><span data-offset-key="73or2-0-0">Proceeds to United Way and the JHS Dur
 ham Women’s Drop-In Program</span></div></div><div class="" data-block="tru
 e" data-editor="c6mjh" data-offset-key="563s-0-0"><div class="public-DraftS
 tyleDefault-block public-DraftStyleDefault-ltr" data-offset-key="563s-0-0">
 <span data-offset-key="563s-0-0"> </span></div></div><div class="" data-blo
 ck="true" data-editor="c6mjh" data-offset-key="13urm-0-0"><div class="publi
 c-DraftStyleDefault-block public-DraftStyleDefault-ltr" data-offset-key="13
 urm-0-0"><span data-offset-key="13urm-0-0">Examine the clues, consider the 
 suspects, engage in solving the mystery!</span></div></div><div class="" da
 ta-block="true" data-editor="c6mjh" data-offset-key="6fais-0-0"><div class=
 "public-DraftStyleDefault-block public-DraftStyleDefault-ltr" data-offset-k
 ey="6fais-0-0"><span data-offset-key="6fais-0-0"> </span></div></div><div c
 lass="" data-block="true" data-editor="c6mjh" data-offset-key="esqsj-0-0"><
 div class="public-DraftStyleDefault-block public-DraftStyleDefault-ltr" dat
 a-offset-key="esqsj-0-0"><span data-offset-key="esqsj-0-0">Just $40 a perso
 n or $70 a couple for dinner and a fun, interative evening!</span></div></d
 iv><div class="" data-block="true" data-editor="c6mjh" data-offset-key="bgo
 14-0-0"><div class="public-DraftStyleDefault-block public-DraftStyleDefault
 -ltr" data-offset-key="bgo14-0-0"><span data-offset-key="bgo14-0-0"> </span
 ></div></div><div class="" data-block="true" data-editor="c6mjh" data-offse
 t-key="9cv9b-0-0"><div class="public-DraftStyleDefault-block public-DraftSt
 yleDefault-ltr" data-offset-key="9cv9b-0-0"><span data-offset-key="9cv9b-0-
 0">Cash bar on site run by the Moose Lodge.</span></div></div><div class=""
  data-block="true" data-editor="c6mjh" data-offset-key="ai5en-0-0"><div cla
 ss="public-DraftStyleDefault-block public-DraftStyleDefault-ltr" data-offse
 t-key="ai5en-0-0"><span data-offset-key="ai5en-0-0"> </span></div></div><di
 v class="" data-block="true" data-editor="c6mjh" data-offset-key="c3f55-0-0
 "><div class="public-DraftStyleDefault-block public-DraftStyleDefault-ltr" 
 data-offset-key="c3f55-0-0"><span data-offset-key="c3f55-0-0">A fundraiser 
 for the United Way and the Women's Support Program through the John Howard 
 Society of Durham, generously hosted at the Oshawa Loyal Order of Moose.</s
 pan></div></div>
CONTACT:This email address is being protected from spambots. You need JavaScript enabled to view it.
DTSTAMP:20260421T043157
DTSTART;TZID=America/Toronto:20230127T180000
DTEND;TZID=America/Toronto:20230127T210000
SEQUENCE:0
TRANSP:OPAQUE
END:VEVENT
END:VCALENDAR