BEGIN:VCALENDAR
VERSION:2.0
PRODID:-//jEvents 2.0 for Joomla//EN
CALSCALE:GREGORIAN
METHOD:PUBLISH
BEGIN:VTIMEZONE
TZID:America/Toronto
BEGIN:STANDARD
DTSTART:20220210T200000
RDATE:20220313T030000
TZOFFSETFROM:-0400
TZOFFSETTO:-0500
TZNAME:America/Toronto EST
END:STANDARD
BEGIN:STANDARD
DTSTART:20221106T010000
RDATE:20230312T030000
TZOFFSETFROM:-0400
TZOFFSETTO:-0500
TZNAME:America/Toronto EST
END:STANDARD
BEGIN:STANDARD
DTSTART:20231105T010000
RDATE:20240310T030000
TZOFFSETFROM:-0400
TZOFFSETTO:-0500
TZNAME:America/Toronto EST
END:STANDARD
BEGIN:STANDARD
DTSTART:20241103T010000
RDATE:20250309T030000
TZOFFSETFROM:-0400
TZOFFSETTO:-0500
TZNAME:America/Toronto EST
END:STANDARD
BEGIN:STANDARD
DTSTART:20251102T010000
RDATE:20260308T030000
TZOFFSETFROM:-0400
TZOFFSETTO:-0500
TZNAME:America/Toronto EST
END:STANDARD
BEGIN:STANDARD
DTSTART:20261101T010000
RDATE:20270314T030000
TZOFFSETFROM:-0400
TZOFFSETTO:-0500
TZNAME:America/Toronto EST
END:STANDARD
BEGIN:STANDARD
DTSTART:20271107T010000
RDATE:20280312T030000
TZOFFSETFROM:-0400
TZOFFSETTO:-0500
TZNAME:America/Toronto EST
END:STANDARD
BEGIN:STANDARD
DTSTART:20281105T010000
RDATE:20290311T030000
TZOFFSETFROM:-0400
TZOFFSETTO:-0500
TZNAME:America/Toronto EST
END:STANDARD
BEGIN:STANDARD
DTSTART:20291104T010000
RDATE:20300310T030000
TZOFFSETFROM:-0400
TZOFFSETTO:-0500
TZNAME:America/Toronto EST
END:STANDARD
BEGIN:STANDARD
DTSTART:20301103T010000
RDATE:20310309T030000
TZOFFSETFROM:-0400
TZOFFSETTO:-0500
TZNAME:America/Toronto EST
END:STANDARD
BEGIN:STANDARD
DTSTART:20311102T010000
RDATE:20320314T030000
TZOFFSETFROM:-0400
TZOFFSETTO:-0500
TZNAME:America/Toronto EST
END:STANDARD
BEGIN:DAYLIGHT
DTSTART:20220313T030000
RDATE:20221106T010000
TZOFFSETFROM:-0500
TZOFFSETTO:-0400
TZNAME:America/Toronto EDT
END:DAYLIGHT
BEGIN:DAYLIGHT
DTSTART:20230312T030000
RDATE:20231105T010000
TZOFFSETFROM:-0500
TZOFFSETTO:-0400
TZNAME:America/Toronto EDT
END:DAYLIGHT
BEGIN:DAYLIGHT
DTSTART:20240310T030000
RDATE:20241103T010000
TZOFFSETFROM:-0500
TZOFFSETTO:-0400
TZNAME:America/Toronto EDT
END:DAYLIGHT
BEGIN:DAYLIGHT
DTSTART:20250309T030000
RDATE:20251102T010000
TZOFFSETFROM:-0500
TZOFFSETTO:-0400
TZNAME:America/Toronto EDT
END:DAYLIGHT
BEGIN:DAYLIGHT
DTSTART:20260308T030000
RDATE:20261101T010000
TZOFFSETFROM:-0500
TZOFFSETTO:-0400
TZNAME:America/Toronto EDT
END:DAYLIGHT
BEGIN:DAYLIGHT
DTSTART:20270314T030000
RDATE:20271107T010000
TZOFFSETFROM:-0500
TZOFFSETTO:-0400
TZNAME:America/Toronto EDT
END:DAYLIGHT
BEGIN:DAYLIGHT
DTSTART:20280312T030000
RDATE:20281105T010000
TZOFFSETFROM:-0500
TZOFFSETTO:-0400
TZNAME:America/Toronto EDT
END:DAYLIGHT
BEGIN:DAYLIGHT
DTSTART:20290311T030000
RDATE:20291104T010000
TZOFFSETFROM:-0500
TZOFFSETTO:-0400
TZNAME:America/Toronto EDT
END:DAYLIGHT
BEGIN:DAYLIGHT
DTSTART:20300310T030000
RDATE:20301103T010000
TZOFFSETFROM:-0500
TZOFFSETTO:-0400
TZNAME:America/Toronto EDT
END:DAYLIGHT
BEGIN:DAYLIGHT
DTSTART:20310309T030000
RDATE:20311102T010000
TZOFFSETFROM:-0500
TZOFFSETTO:-0400
TZNAME:America/Toronto EDT
END:DAYLIGHT
END:VTIMEZONE
BEGIN:VEVENT
UID:73304b1b235cda427fa82a832bcb9bfe
CATEGORIES:Durham Events
CREATED:20230123T105818
SUMMARY:The Blendd Once Again
LOCATION:37 King St E 37 King Street East Bowmanville\, ON L1C 1N1
DESCRIPTION:THE BLENDD Once again!\nFebruary is the month of Love, and the month of Cel
 ebrating Black Culture and Black History so there is no better date than Fe
 bruary 11/2023 to bring back The Blendd at The Little West Indies.\nSo come
  on out and celebrate with us as we Blendd it up Once Again with an evening
  of Poetry; Storytelling; Spoken-Word and Live Music.\nThe Little West Indi
 es Bar and Restaurant will be opened to serve you some sweet, sweet Jamaica
 n delights\nSo see you all at 37 King Street East, Bowmanville Ontario.\nDa
 te: February 11/2023\nDoors open @ 830 PM\nShow Time @ 9 PM\nCover charge o
 f $15.00\nTICKETS:  (https://www.eventbrite.ca/e/the-blendd-once-again-tick
 ets-506770583457)https://www.eventbrite.ca/e/the-blendd-once-again-tickets-
 506770583457 (https://www.eventbrite.ca/e/the-blendd-once-again-tickets-506
 770583457)\nFeaturing: Kesha Christie (Storyteller), TracyJ (Poet), Radykal
  Jahz, (Dub Poet), Delroy Gordon (Musician), Adrian Reese (Spoken Word), Sh
 anica London (Singer), Grant-Lee Rawl (Poet), Caitlin Gaudet (Musician), He
 ather Whaley (Orator/Singer, songwriter), Judith Shaw (Poet, Author)\nThe B
 lendd hosts and producers are Judith Shaw and Heather Whaley.\nCash Merchan
 dise will be available from individual performers.\nPaid Blendd ticket hold
 ers may stay for the following event for $5 CASH at DR.\nIt's going to be a
  hot night at The Little West Indies!\nLittle West Indies presents ETERNITY
  Gridlock Entertainment DJ dance tribute to Bob Marley &amp; Valentine's Da
 y. Tickets are $15 ADV $20 DR. For tickets contact: (647)880-1391 or (647) 
 284-4061. Little West Indies (905)419-5030.\n
X-ALT-DESC;FMTTYPE=text/html:<p dir="auto"><b>THE BLENDD Once again!</b></p><p>February is the month of 
 Love, and the month of Celebrating Black Culture and Black History so there
  is no better date than February 11/2023 to bring back The Blendd at The Li
 ttle West Indies.</p><p>So come on out and celebrate with us as we Blendd i
 t up Once Again with an evening of Poetry; Storytelling; Spoken-Word and Li
 ve Music.</p><p>The Little West Indies Bar and Restaurant will be opened to
  serve you some sweet, sweet Jamaican delights</p><p>So see you all at 37 K
 ing Street East, Bowmanville Ontario.</p><p>Date: February 11/2023</p><p>Do
 ors open @ 830 PM</p><p>Show Time @ 9 PM</p><p>Cover charge of $15.00</p><p
 >TICKETS:&nbsp;<a href="https://www.eventbrite.ca/e/the-blendd-once-again-t
 ickets-506770583457" target="_blank" rel="noopener noreferrer" data-auth="N
 otApplicable" data-safelink="true" data-linkindex="1"></a><a href="https://
 www.eventbrite.ca/e/the-blendd-once-again-tickets-506770583457">https://www
 .eventbrite.ca/e/the-blendd-once-again-tickets-506770583457</a></p><p>Featu
 ring: Kesha Christie (Storyteller), TracyJ (Poet), Radykal Jahz, (Dub Poet)
 , Delroy Gordon (Musician), Adrian Reese (Spoken Word), Shanica London (Sin
 ger), Grant-Lee Rawl (Poet), Caitlin Gaudet (Musician), Heather Whaley (Ora
 tor/Singer, songwriter), Judith Shaw (Poet, Author)</p><p>The Blendd hosts 
 and producers are Judith Shaw and Heather Whaley.</p><p>Cash Merchandise wi
 ll be available from individual performers.</p><p>Paid Blendd ticket holder
 s may stay for the following event for $5 CASH at DR.</p><p>It's going to b
 e a hot night at The Little West Indies!</p><p>Little West Indies presents 
 ETERNITY Gridlock Entertainment DJ dance tribute to Bob Marley &amp; Valent
 ine's Day. Tickets are $15 ADV $20 DR. For tickets contact: (647)880-1391 o
 r (647) 284-4061. Little West Indies (905)419-5030.</p>
CONTACT:Heather Whaley, 289 688-1492
DTSTAMP:20260421T075104
DTSTART;TZID=America/Toronto:20230211T200000
SEQUENCE:0
TRANSP:OPAQUE
END:VEVENT
END:VCALENDAR