BEGIN:VCALENDAR
VERSION:2.0
PRODID:-//jEvents 2.0 for Joomla//EN
CALSCALE:GREGORIAN
METHOD:PUBLISH
BEGIN:VTIMEZONE
TZID:America/Toronto
BEGIN:STANDARD
DTSTART:20220219T110000
RDATE:20220313T030000
TZOFFSETFROM:-0400
TZOFFSETTO:-0500
TZNAME:America/Toronto EST
END:STANDARD
BEGIN:STANDARD
DTSTART:20221106T010000
RDATE:20230312T030000
TZOFFSETFROM:-0400
TZOFFSETTO:-0500
TZNAME:America/Toronto EST
END:STANDARD
BEGIN:STANDARD
DTSTART:20231105T010000
RDATE:20240310T030000
TZOFFSETFROM:-0400
TZOFFSETTO:-0500
TZNAME:America/Toronto EST
END:STANDARD
BEGIN:STANDARD
DTSTART:20241103T010000
RDATE:20250309T030000
TZOFFSETFROM:-0400
TZOFFSETTO:-0500
TZNAME:America/Toronto EST
END:STANDARD
BEGIN:STANDARD
DTSTART:20251102T010000
RDATE:20260308T030000
TZOFFSETFROM:-0400
TZOFFSETTO:-0500
TZNAME:America/Toronto EST
END:STANDARD
BEGIN:STANDARD
DTSTART:20261101T010000
RDATE:20270314T030000
TZOFFSETFROM:-0400
TZOFFSETTO:-0500
TZNAME:America/Toronto EST
END:STANDARD
BEGIN:STANDARD
DTSTART:20271107T010000
RDATE:20280312T030000
TZOFFSETFROM:-0400
TZOFFSETTO:-0500
TZNAME:America/Toronto EST
END:STANDARD
BEGIN:STANDARD
DTSTART:20281105T010000
RDATE:20290311T030000
TZOFFSETFROM:-0400
TZOFFSETTO:-0500
TZNAME:America/Toronto EST
END:STANDARD
BEGIN:STANDARD
DTSTART:20291104T010000
RDATE:20300310T030000
TZOFFSETFROM:-0400
TZOFFSETTO:-0500
TZNAME:America/Toronto EST
END:STANDARD
BEGIN:STANDARD
DTSTART:20301103T010000
RDATE:20310309T030000
TZOFFSETFROM:-0400
TZOFFSETTO:-0500
TZNAME:America/Toronto EST
END:STANDARD
BEGIN:STANDARD
DTSTART:20311102T010000
RDATE:20320314T030000
TZOFFSETFROM:-0400
TZOFFSETTO:-0500
TZNAME:America/Toronto EST
END:STANDARD
BEGIN:DAYLIGHT
DTSTART:20220313T030000
RDATE:20221106T010000
TZOFFSETFROM:-0500
TZOFFSETTO:-0400
TZNAME:America/Toronto EDT
END:DAYLIGHT
BEGIN:DAYLIGHT
DTSTART:20230312T030000
RDATE:20231105T010000
TZOFFSETFROM:-0500
TZOFFSETTO:-0400
TZNAME:America/Toronto EDT
END:DAYLIGHT
BEGIN:DAYLIGHT
DTSTART:20240310T030000
RDATE:20241103T010000
TZOFFSETFROM:-0500
TZOFFSETTO:-0400
TZNAME:America/Toronto EDT
END:DAYLIGHT
BEGIN:DAYLIGHT
DTSTART:20250309T030000
RDATE:20251102T010000
TZOFFSETFROM:-0500
TZOFFSETTO:-0400
TZNAME:America/Toronto EDT
END:DAYLIGHT
BEGIN:DAYLIGHT
DTSTART:20260308T030000
RDATE:20261101T010000
TZOFFSETFROM:-0500
TZOFFSETTO:-0400
TZNAME:America/Toronto EDT
END:DAYLIGHT
BEGIN:DAYLIGHT
DTSTART:20270314T030000
RDATE:20271107T010000
TZOFFSETFROM:-0500
TZOFFSETTO:-0400
TZNAME:America/Toronto EDT
END:DAYLIGHT
BEGIN:DAYLIGHT
DTSTART:20280312T030000
RDATE:20281105T010000
TZOFFSETFROM:-0500
TZOFFSETTO:-0400
TZNAME:America/Toronto EDT
END:DAYLIGHT
BEGIN:DAYLIGHT
DTSTART:20290311T030000
RDATE:20291104T010000
TZOFFSETFROM:-0500
TZOFFSETTO:-0400
TZNAME:America/Toronto EDT
END:DAYLIGHT
BEGIN:DAYLIGHT
DTSTART:20300310T030000
RDATE:20301103T010000
TZOFFSETFROM:-0500
TZOFFSETTO:-0400
TZNAME:America/Toronto EDT
END:DAYLIGHT
BEGIN:DAYLIGHT
DTSTART:20310309T030000
RDATE:20311102T010000
TZOFFSETFROM:-0500
TZOFFSETTO:-0400
TZNAME:America/Toronto EDT
END:DAYLIGHT
END:VTIMEZONE
BEGIN:VEVENT
UID:34092d7381a82f35a3137c9f465dc087
CATEGORIES:Durham Events
CREATED:20230202T161014
SUMMARY:Family Day at Ajax Winterfest 
LOCATION:Audley Recreation Centre
DESCRIPTION:Celebrate Family Day at Ajax Winterfest with free family-friendly activitie
 s\nEnjoy winter-themed fun on February 20 from 11 a.m. to 4 p.m. at the Aud
 ley Recreation Centre\n \nWinterfest 2023 highlights:\n\n - Elsa and Anna m
 agic show at 12:30 and 2:30 p.m.\n - Free swims from 11 a.m. - 1 p.m. and 2
  - 4 p.m.\n - Free Family Zumba® Try-Its at 11:30 a.m. and 12:15 p.m.\n - H
 orse and wagon rides from 12 - 4 p.m.\n - Hot chocolate (while supplies las
 t)\n - Inflatables and games\n - Mad Science fun stations\n - Make your own
  s'mores (while supplies last)\n - Outdoor birds of prey shows at 11:30 a.m
 ., 1 and 2:30 p.m.\n - Outdoor skating (weather permitting; please bring sk
 ates)\n - Outdoor winter activities (weather permitting)\n - Road hockey (w
 eather permitting)\n - Sensory Zone\n - Strolling entertainment
X-ALT-DESC;FMTTYPE=text/html:<p><b>Celebrate Family Day at Ajax Winterfest with free family-friendly act
 ivities</b></p><p><i>Enjoy winter-themed fun on February 20 from 11 a.m. to
  4 p.m. at the Audley Recreation Centre</i></p><p><i>&nbsp;</i></p><p><b><s
 pan lang="en-CA">Winterfest 2023 highlights:</span></b></p><ul type="disc">
 <li><span lang="en-CA">Elsa and Anna magic show at 12:30 and 2:30 p.m.</spa
 n></li><li><span lang="en-CA">Free swims from 11 a.m. - 1 p.m. and 2 - 4 p.
 m.</span></li><li><span lang="en-CA">Free Family Zumba® Try-Its at 11:30 a.
 m. and 12:15 p.m.</span></li><li><span lang="en-CA">Horse and wagon rides f
 rom 12 - 4 p.m.</span></li><li><span lang="en-CA">Hot chocolate (while supp
 lies last)</span></li><li><span lang="en-CA">Inflatables and games</span></
 li><li><span lang="en-CA">Mad Science fun stations</span></li><li><span lan
 g="en-CA">Make your own s'mores (while supplies last)</span></li><li><span 
 lang="en-CA">Outdoor birds of prey shows at 11:30 a.m., 1 and 2:30 p.m.</sp
 an></li><li><span lang="en-CA">Outdoor skating (weather permitting; please 
 bring skates)</span></li><li><span lang="en-CA">Outdoor winter activities (
 weather permitting)</span></li><li><span lang="en-CA">Road hockey (weather 
 permitting)</span></li><li><span lang="en-CA">Sensory Zone</span></li><li><
 span lang="en-CA">Strolling entertainment</span></li></ul>
DTSTAMP:20260421T094743
DTSTART;TZID=America/Toronto:20230220T110000
DTEND;TZID=America/Toronto:20230220T160000
SEQUENCE:0
TRANSP:OPAQUE
END:VEVENT
END:VCALENDAR