BEGIN:VCALENDAR
VERSION:2.0
PRODID:-//jEvents 2.0 for Joomla//EN
CALSCALE:GREGORIAN
METHOD:PUBLISH
BEGIN:VTIMEZONE
TZID:America/Toronto
BEGIN:STANDARD
DTSTART:20220225T070000
RDATE:20220313T030000
TZOFFSETFROM:-0400
TZOFFSETTO:-0500
TZNAME:America/Toronto EST
END:STANDARD
BEGIN:STANDARD
DTSTART:20221106T010000
RDATE:20230312T030000
TZOFFSETFROM:-0400
TZOFFSETTO:-0500
TZNAME:America/Toronto EST
END:STANDARD
BEGIN:STANDARD
DTSTART:20231105T010000
RDATE:20240310T030000
TZOFFSETFROM:-0400
TZOFFSETTO:-0500
TZNAME:America/Toronto EST
END:STANDARD
BEGIN:STANDARD
DTSTART:20241103T010000
RDATE:20250309T030000
TZOFFSETFROM:-0400
TZOFFSETTO:-0500
TZNAME:America/Toronto EST
END:STANDARD
BEGIN:STANDARD
DTSTART:20251102T010000
RDATE:20260308T030000
TZOFFSETFROM:-0400
TZOFFSETTO:-0500
TZNAME:America/Toronto EST
END:STANDARD
BEGIN:STANDARD
DTSTART:20261101T010000
RDATE:20270314T030000
TZOFFSETFROM:-0400
TZOFFSETTO:-0500
TZNAME:America/Toronto EST
END:STANDARD
BEGIN:STANDARD
DTSTART:20271107T010000
RDATE:20280312T030000
TZOFFSETFROM:-0400
TZOFFSETTO:-0500
TZNAME:America/Toronto EST
END:STANDARD
BEGIN:STANDARD
DTSTART:20281105T010000
RDATE:20290311T030000
TZOFFSETFROM:-0400
TZOFFSETTO:-0500
TZNAME:America/Toronto EST
END:STANDARD
BEGIN:STANDARD
DTSTART:20291104T010000
RDATE:20300310T030000
TZOFFSETFROM:-0400
TZOFFSETTO:-0500
TZNAME:America/Toronto EST
END:STANDARD
BEGIN:STANDARD
DTSTART:20301103T010000
RDATE:20310309T030000
TZOFFSETFROM:-0400
TZOFFSETTO:-0500
TZNAME:America/Toronto EST
END:STANDARD
BEGIN:STANDARD
DTSTART:20311102T010000
RDATE:20320314T030000
TZOFFSETFROM:-0400
TZOFFSETTO:-0500
TZNAME:America/Toronto EST
END:STANDARD
BEGIN:DAYLIGHT
DTSTART:20220313T030000
RDATE:20221106T010000
TZOFFSETFROM:-0500
TZOFFSETTO:-0400
TZNAME:America/Toronto EDT
END:DAYLIGHT
BEGIN:DAYLIGHT
DTSTART:20230312T030000
RDATE:20231105T010000
TZOFFSETFROM:-0500
TZOFFSETTO:-0400
TZNAME:America/Toronto EDT
END:DAYLIGHT
BEGIN:DAYLIGHT
DTSTART:20240310T030000
RDATE:20241103T010000
TZOFFSETFROM:-0500
TZOFFSETTO:-0400
TZNAME:America/Toronto EDT
END:DAYLIGHT
BEGIN:DAYLIGHT
DTSTART:20250309T030000
RDATE:20251102T010000
TZOFFSETFROM:-0500
TZOFFSETTO:-0400
TZNAME:America/Toronto EDT
END:DAYLIGHT
BEGIN:DAYLIGHT
DTSTART:20260308T030000
RDATE:20261101T010000
TZOFFSETFROM:-0500
TZOFFSETTO:-0400
TZNAME:America/Toronto EDT
END:DAYLIGHT
BEGIN:DAYLIGHT
DTSTART:20270314T030000
RDATE:20271107T010000
TZOFFSETFROM:-0500
TZOFFSETTO:-0400
TZNAME:America/Toronto EDT
END:DAYLIGHT
BEGIN:DAYLIGHT
DTSTART:20280312T030000
RDATE:20281105T010000
TZOFFSETFROM:-0500
TZOFFSETTO:-0400
TZNAME:America/Toronto EDT
END:DAYLIGHT
BEGIN:DAYLIGHT
DTSTART:20290311T030000
RDATE:20291104T010000
TZOFFSETFROM:-0500
TZOFFSETTO:-0400
TZNAME:America/Toronto EDT
END:DAYLIGHT
BEGIN:DAYLIGHT
DTSTART:20300310T030000
RDATE:20301103T010000
TZOFFSETFROM:-0500
TZOFFSETTO:-0400
TZNAME:America/Toronto EDT
END:DAYLIGHT
BEGIN:DAYLIGHT
DTSTART:20310309T030000
RDATE:20311102T010000
TZOFFSETFROM:-0500
TZOFFSETTO:-0400
TZNAME:America/Toronto EDT
END:DAYLIGHT
END:VTIMEZONE
BEGIN:VEVENT
UID:1f8738d983eba11ef78816a2d7e59991
CATEGORIES:Durham Events
CREATED:20230207T153330
SUMMARY:Endless Summer Indoor Fun Walk
LOCATION:Oshawa Centre
DESCRIPTION:Join us for some SUMMER FUN in the middle of winter!Sunday, February 26, 20
 23Oshawa Centre - Food Court (Entrance 8) \nPresented by Fer-Pal Infrastruc
 ture, the Indoor Fun Walk is finally back in the location where it all star
 ted - the Oshawa Centre! This is your chance to ignore whatever weather Mot
 her Nature throws at us at the end of February and, instead, be warm indoor
 s with other supporters of Hearth Place. Choose to walk a 1K loop or a 5K l
 oop around the mall, or...do whatever you can. \nHow It Works:\n - Register
 , using the link below, and choose either 1K or 5K. Register by FEB. 13TH t
 o receive a FREE t-shirt!\n - Don't want to walk alone? Recruit others and 
 create a Team!\n - Create your Personal Pledge Page and ask your family and
  friends to support you by donating. Use the pledge sheet provided to colle
 ct any offline donations. There will be prizes for fundraising! (See below)
 \n - Show up at the Oshawa Centre Food Court on February 26th in your best 
 Summer Get-Up! Check-in and turn in any offline pledges.\n - Walk your chos
 en distance while you enjoy the warmth of the mall and the fun and music of
  the summertime.\n - Continue to feel the warmth of the day as you go home,
  knowing you helped provide support for families in the Durham Region who a
 re dealing with a diagnosis of cancer. \nFees:\n - $40/adult\n - $20/child 
 (3 yrs-12 yrs)\n - Register by Feb. 13th to receive a FREE t-shirt!Register
  at www.hearthplace.org/funwalk (https://hearthplace.org/events/funwalk/)\n
 Prize Categories:\n - Top Fundraiser - Adult\n - Top Fundraiser - Teen (13 
 yrs - 19 yrs)\n - Top Fundraiser - Child (3 yrs-12 yrs)Top Fundraiser - Tea
 m
X-ALT-DESC;FMTTYPE=text/html:<h1 style="text-align: center;">Join us for some SUMMER FUN in the middle o
 f winter!</h1><h3 style="text-align: center;">Sunday, February 26, 2023</h3
 ><h3 style="text-align: center;">Oshawa Centre - Food Court (Entrance 8)</h
 3><p> </p><h6>Presented by Fer-Pal Infrastructure, the Indoor Fun Walk is f
 inally back in the location where it all started - the Oshawa Centre! This 
 is your chance to ignore whatever weather Mother Nature throws at us at the
  end of February and, instead, be warm indoors with other supporters of Hea
 rth Place. Choose to walk a 1K loop or a 5K loop around the mall, or...do w
 hatever you can.</h6><p> </p><h3>How It Works:</h3><ul><li>Register, using 
 the link below, and choose either 1K or 5K. <strong>Register by FEB. 13TH t
 o receive a FREE t-shirt!</strong></li><li>Don't want to walk alone? Recrui
 t others and create a Team!</li><li>Create your Personal Pledge Page and as
 k your family and friends to support you by donating. Use the pledge sheet 
 provided to collect any offline donations. There will be prizes for fundrai
 sing! (See below)</li><li>Show up at the Oshawa Centre Food Court on Februa
 ry 26th in your best Summer Get-Up! Check-in and turn in any offline pledge
 s.</li><li>Walk your chosen distance while you enjoy the warmth of the mall
  and the fun and music of the summertime.</li><li>Continue to feel the warm
 th of the day as you go home, knowing you helped provide support for famili
 es in the Durham Region who are dealing with a diagnosis of cancer.</li></u
 l><p> </p><h3>Fees:</h3><ul><li>$40/adult</li><li>$20/child (3 yrs-12 yrs)<
 /li><li><strong>Register by Feb. 13th to receive a FREE t-shirt!</strong></
 li></ul><p><a href="https://hearthplace.org/events/funwalk/">Register at ww
 w.hearthplace.org/funwalk</a></p><h3>Prize Categories:</h3><ul><li>Top Fund
 raiser - Adult</li><li>Top Fundraiser - Teen (13 yrs - 19 yrs)</li><li>Top 
 Fundraiser - Child (3 yrs-12 yrs)</li><li style="text-align: left;">Top Fun
 draiser - Team</li></ul>
CONTACT:Shauna Cartlidge
X-EXTRAINFO:905-579-4833
DTSTAMP:20260421T131014
DTSTART;TZID=America/Toronto:20230226T070000
DTEND;TZID=America/Toronto:20230226T100000
SEQUENCE:0
TRANSP:OPAQUE
END:VEVENT
END:VCALENDAR