BEGIN:VCALENDAR
VERSION:2.0
PRODID:-//jEvents 2.0 for Joomla//EN
CALSCALE:GREGORIAN
METHOD:PUBLISH
BEGIN:VTIMEZONE
TZID:America/Toronto
BEGIN:STANDARD
DTSTART:20220310T143000
RDATE:20220313T030000
TZOFFSETFROM:-0400
TZOFFSETTO:-0500
TZNAME:America/Toronto EST
END:STANDARD
BEGIN:STANDARD
DTSTART:20221106T010000
RDATE:20230312T030000
TZOFFSETFROM:-0400
TZOFFSETTO:-0500
TZNAME:America/Toronto EST
END:STANDARD
BEGIN:STANDARD
DTSTART:20231105T010000
RDATE:20240310T030000
TZOFFSETFROM:-0400
TZOFFSETTO:-0500
TZNAME:America/Toronto EST
END:STANDARD
BEGIN:STANDARD
DTSTART:20241103T010000
RDATE:20250309T030000
TZOFFSETFROM:-0400
TZOFFSETTO:-0500
TZNAME:America/Toronto EST
END:STANDARD
BEGIN:STANDARD
DTSTART:20251102T010000
RDATE:20260308T030000
TZOFFSETFROM:-0400
TZOFFSETTO:-0500
TZNAME:America/Toronto EST
END:STANDARD
BEGIN:STANDARD
DTSTART:20261101T010000
RDATE:20270314T030000
TZOFFSETFROM:-0400
TZOFFSETTO:-0500
TZNAME:America/Toronto EST
END:STANDARD
BEGIN:STANDARD
DTSTART:20271107T010000
RDATE:20280312T030000
TZOFFSETFROM:-0400
TZOFFSETTO:-0500
TZNAME:America/Toronto EST
END:STANDARD
BEGIN:STANDARD
DTSTART:20281105T010000
RDATE:20290311T030000
TZOFFSETFROM:-0400
TZOFFSETTO:-0500
TZNAME:America/Toronto EST
END:STANDARD
BEGIN:STANDARD
DTSTART:20291104T010000
RDATE:20300310T030000
TZOFFSETFROM:-0400
TZOFFSETTO:-0500
TZNAME:America/Toronto EST
END:STANDARD
BEGIN:STANDARD
DTSTART:20301103T010000
RDATE:20310309T030000
TZOFFSETFROM:-0400
TZOFFSETTO:-0500
TZNAME:America/Toronto EST
END:STANDARD
BEGIN:STANDARD
DTSTART:20311102T010000
RDATE:20320314T030000
TZOFFSETFROM:-0400
TZOFFSETTO:-0500
TZNAME:America/Toronto EST
END:STANDARD
BEGIN:DAYLIGHT
DTSTART:20220313T030000
RDATE:20221106T010000
TZOFFSETFROM:-0500
TZOFFSETTO:-0400
TZNAME:America/Toronto EDT
END:DAYLIGHT
BEGIN:DAYLIGHT
DTSTART:20230312T030000
RDATE:20231105T010000
TZOFFSETFROM:-0500
TZOFFSETTO:-0400
TZNAME:America/Toronto EDT
END:DAYLIGHT
BEGIN:DAYLIGHT
DTSTART:20240310T030000
RDATE:20241103T010000
TZOFFSETFROM:-0500
TZOFFSETTO:-0400
TZNAME:America/Toronto EDT
END:DAYLIGHT
BEGIN:DAYLIGHT
DTSTART:20250309T030000
RDATE:20251102T010000
TZOFFSETFROM:-0500
TZOFFSETTO:-0400
TZNAME:America/Toronto EDT
END:DAYLIGHT
BEGIN:DAYLIGHT
DTSTART:20260308T030000
RDATE:20261101T010000
TZOFFSETFROM:-0500
TZOFFSETTO:-0400
TZNAME:America/Toronto EDT
END:DAYLIGHT
BEGIN:DAYLIGHT
DTSTART:20270314T030000
RDATE:20271107T010000
TZOFFSETFROM:-0500
TZOFFSETTO:-0400
TZNAME:America/Toronto EDT
END:DAYLIGHT
BEGIN:DAYLIGHT
DTSTART:20280312T030000
RDATE:20281105T010000
TZOFFSETFROM:-0500
TZOFFSETTO:-0400
TZNAME:America/Toronto EDT
END:DAYLIGHT
BEGIN:DAYLIGHT
DTSTART:20290311T030000
RDATE:20291104T010000
TZOFFSETFROM:-0500
TZOFFSETTO:-0400
TZNAME:America/Toronto EDT
END:DAYLIGHT
BEGIN:DAYLIGHT
DTSTART:20300310T030000
RDATE:20301103T010000
TZOFFSETFROM:-0500
TZOFFSETTO:-0400
TZNAME:America/Toronto EDT
END:DAYLIGHT
BEGIN:DAYLIGHT
DTSTART:20310309T030000
RDATE:20311102T010000
TZOFFSETFROM:-0500
TZOFFSETTO:-0400
TZNAME:America/Toronto EDT
END:DAYLIGHT
END:VTIMEZONE
BEGIN:VEVENT
UID:168c2ec91d272f9051f5ffe4082600ed
CATEGORIES:Durham Events
CREATED:20230216T132454
SUMMARY:Central Saturday Book Club: Empire of Wild
LOCATION:405 Dundas Street West\, Whitby\, ON\, L1N 6A1
DESCRIPTION:Central Saturday Book Club: Empire of WildThis month's selection is Empire 
 of Wild (https://whitby.bibliocommons.com/v2/record/S61C654371) by Cherie D
 imaline (https://whitby.bibliocommons.com/v2/search?query=Dimaline%2C%20Che
 rie%2C&amp;searchType=author).\nEmpire of Wild is inspired by the tradition
 al Métis story of the Rogarou, a werewolf-like creature that haunts the roa
 ds and woods of Métis communities. The story follows Jane and her husband V
 ictor after he goes missing for a whole year and returns not remembering wh
 o he really is. \nThis program will take place in-person.\nVirtual attendan
 ce is also offered on Zoom (https://zoom.us/). Please specify your preferen
 ce when registering.\nYou must register to receive a link to this program.\
 nhttps://whitbylibrary.libcal.com/event/3698521\n \n
X-ALT-DESC;FMTTYPE=text/html:<h1 class="media-heading">Central Saturday Book Club: Empire of Wild</h1><d
 iv id="s-lc-event-desc"><p>This month's selection is <a href="https://whitb
 y.bibliocommons.com/v2/record/S61C654371">Empire of Wild</a> by <a href="ht
 tps://whitby.bibliocommons.com/v2/search?query=Dimaline%2C%20Cherie%2C&amp;
 searchType=author">Cherie Dimaline</a>.</p><p>Empire of Wild is inspired by
  the traditional Métis story of the Rogarou, a werewolf-like creature that 
 haunts the roads and woods of Métis communities. The story follows Jane and
  her husband Victor after he goes missing for a whole year and returns not 
 remembering who he really is. </p><p>This program will take place in-person
 .</p><p>Virtual attendance is also offered on <a href="https://zoom.us/">Zo
 om</a>. Please specify your preference when registering.</p><p>You must reg
 ister to receive a link to this program.</p><p>https://whitbylibrary.libcal
 .com/event/3698521</p><p> </p></div>
DTSTAMP:20260421T045455
DTSTART;TZID=America/Toronto:20230311T143000
DTEND;TZID=America/Toronto:20230311T153000
SEQUENCE:0
TRANSP:OPAQUE
END:VEVENT
END:VCALENDAR