BEGIN:VCALENDAR
VERSION:2.0
PRODID:-//jEvents 2.0 for Joomla//EN
CALSCALE:GREGORIAN
METHOD:PUBLISH
BEGIN:VTIMEZONE
TZID:America/Toronto
BEGIN:STANDARD
DTSTART:20220305T140000
RDATE:20220313T030000
TZOFFSETFROM:-0400
TZOFFSETTO:-0500
TZNAME:America/Toronto EST
END:STANDARD
BEGIN:STANDARD
DTSTART:20221106T010000
RDATE:20230312T030000
TZOFFSETFROM:-0400
TZOFFSETTO:-0500
TZNAME:America/Toronto EST
END:STANDARD
BEGIN:STANDARD
DTSTART:20231105T010000
RDATE:20240310T030000
TZOFFSETFROM:-0400
TZOFFSETTO:-0500
TZNAME:America/Toronto EST
END:STANDARD
BEGIN:STANDARD
DTSTART:20241103T010000
RDATE:20250309T030000
TZOFFSETFROM:-0400
TZOFFSETTO:-0500
TZNAME:America/Toronto EST
END:STANDARD
BEGIN:STANDARD
DTSTART:20251102T010000
RDATE:20260308T030000
TZOFFSETFROM:-0400
TZOFFSETTO:-0500
TZNAME:America/Toronto EST
END:STANDARD
BEGIN:STANDARD
DTSTART:20261101T010000
RDATE:20270314T030000
TZOFFSETFROM:-0400
TZOFFSETTO:-0500
TZNAME:America/Toronto EST
END:STANDARD
BEGIN:STANDARD
DTSTART:20271107T010000
RDATE:20280312T030000
TZOFFSETFROM:-0400
TZOFFSETTO:-0500
TZNAME:America/Toronto EST
END:STANDARD
BEGIN:STANDARD
DTSTART:20281105T010000
RDATE:20290311T030000
TZOFFSETFROM:-0400
TZOFFSETTO:-0500
TZNAME:America/Toronto EST
END:STANDARD
BEGIN:STANDARD
DTSTART:20291104T010000
RDATE:20300310T030000
TZOFFSETFROM:-0400
TZOFFSETTO:-0500
TZNAME:America/Toronto EST
END:STANDARD
BEGIN:STANDARD
DTSTART:20301103T010000
RDATE:20310309T030000
TZOFFSETFROM:-0400
TZOFFSETTO:-0500
TZNAME:America/Toronto EST
END:STANDARD
BEGIN:STANDARD
DTSTART:20311102T010000
RDATE:20320314T030000
TZOFFSETFROM:-0400
TZOFFSETTO:-0500
TZNAME:America/Toronto EST
END:STANDARD
BEGIN:DAYLIGHT
DTSTART:20220313T030000
RDATE:20221106T010000
TZOFFSETFROM:-0500
TZOFFSETTO:-0400
TZNAME:America/Toronto EDT
END:DAYLIGHT
BEGIN:DAYLIGHT
DTSTART:20230312T030000
RDATE:20231105T010000
TZOFFSETFROM:-0500
TZOFFSETTO:-0400
TZNAME:America/Toronto EDT
END:DAYLIGHT
BEGIN:DAYLIGHT
DTSTART:20240310T030000
RDATE:20241103T010000
TZOFFSETFROM:-0500
TZOFFSETTO:-0400
TZNAME:America/Toronto EDT
END:DAYLIGHT
BEGIN:DAYLIGHT
DTSTART:20250309T030000
RDATE:20251102T010000
TZOFFSETFROM:-0500
TZOFFSETTO:-0400
TZNAME:America/Toronto EDT
END:DAYLIGHT
BEGIN:DAYLIGHT
DTSTART:20260308T030000
RDATE:20261101T010000
TZOFFSETFROM:-0500
TZOFFSETTO:-0400
TZNAME:America/Toronto EDT
END:DAYLIGHT
BEGIN:DAYLIGHT
DTSTART:20270314T030000
RDATE:20271107T010000
TZOFFSETFROM:-0500
TZOFFSETTO:-0400
TZNAME:America/Toronto EDT
END:DAYLIGHT
BEGIN:DAYLIGHT
DTSTART:20280312T030000
RDATE:20281105T010000
TZOFFSETFROM:-0500
TZOFFSETTO:-0400
TZNAME:America/Toronto EDT
END:DAYLIGHT
BEGIN:DAYLIGHT
DTSTART:20290311T030000
RDATE:20291104T010000
TZOFFSETFROM:-0500
TZOFFSETTO:-0400
TZNAME:America/Toronto EDT
END:DAYLIGHT
BEGIN:DAYLIGHT
DTSTART:20300310T030000
RDATE:20301103T010000
TZOFFSETFROM:-0500
TZOFFSETTO:-0400
TZNAME:America/Toronto EDT
END:DAYLIGHT
BEGIN:DAYLIGHT
DTSTART:20310309T030000
RDATE:20311102T010000
TZOFFSETFROM:-0500
TZOFFSETTO:-0400
TZNAME:America/Toronto EDT
END:DAYLIGHT
END:VTIMEZONE
BEGIN:VEVENT
UID:d8b545fac30c1489b54a428d0a26cdce
CATEGORIES:Durham Events
CREATED:20230301T155936
SUMMARY:Whitby Public Library's Discovery Zones
LOCATION:405 Dundas Street West\, Whitby ON
DESCRIPTION:We are excited to announce the Whitby Public Library’s new Discovery Zones 
 Grand Reveal on Monday, March 6 at the Central Library! Official remarks be
 gin at 2:00 p.m followed by demonstrations and hands-on activities.  \nDisc
 overy Zones will be transformative spaces that connect learners, creators a
 nd entrepreneurs to tools, technology and each other. Items available inclu
 de: a sound booth, a large format printer, Adobe Creative Cloud, a 3D print
 er, a Cricut machine and a button maker.  \nIn addition to Discovery Zones,
  the Whitby Public Library will be encouraging program participants to crea
 te, experiment, and explore using items from our Discovery Carts and to dis
 cover more at home by borrowing a Discovery Kit.   \nFor more information v
 isit: https://whitbylibrary.ca/discovery-zones \n
X-ALT-DESC;FMTTYPE=text/html:<p><span data-contrast="none">We are excited to announce the<em> Whitby Pub
 lic Library</em>’s new <strong>Discovery Zones</strong> <strong>Grand Revea
 l</strong> on <strong>Monday, March 6</strong> at the Central Library! Offi
 cial remarks begin at<strong> 2:00 p.m</strong> followed by demonstrations 
 and hands-on activities. </span><span data-ccp-props="{&quot;201341983&quot
 ;:0,&quot;335559685&quot;:0,&quot;335559739&quot;:160,&quot;335559740&quot;
 :259}"> </span></p><p><span data-contrast="none">Discovery Zones will be tr
 ansformative spaces that connect learners, creators and entrepreneurs to to
 ols, technology and each other. Items available include: a sound booth, a l
 arge format printer, Adobe Creative Cloud, a 3D printer, a Cricut machine a
 nd a button maker. </span><span data-ccp-props="{&quot;201341983&quot;:0,&q
 uot;335559739&quot;:160,&quot;335559740&quot;:259}"> </span></p><p><span da
 ta-contrast="none">In addition to Discovery Zones, the Whitby Public Librar
 y will be encouraging program participants to create, experiment, and explo
 re using items from our Discovery Carts and to discover more at home by bor
 rowing a Discovery Kit.  </span><span data-ccp-props="{&quot;201341983&quot
 ;:0,&quot;335559685&quot;:0,&quot;335559739&quot;:160,&quot;335559740&quot;
 :259}"> </span></p><p><span data-contrast="none">For more information visit
 : https://whitbylibrary.ca/discovery-zones</span><span data-ccp-props="{&qu
 ot;201341983&quot;:0,&quot;335559685&quot;:0,&quot;335559739&quot;:160,&quo
 t;335559740&quot;:259}"> </span></p>
DTSTAMP:20260421T025022
DTSTART;TZID=America/Toronto:20230306T140000
DTEND;TZID=America/Toronto:20230306T150000
SEQUENCE:0
TRANSP:OPAQUE
END:VEVENT
END:VCALENDAR