BEGIN:VCALENDAR
VERSION:2.0
PRODID:-//jEvents 2.0 for Joomla//EN
CALSCALE:GREGORIAN
METHOD:PUBLISH
BEGIN:VTIMEZONE
TZID:America/Toronto
BEGIN:STANDARD
DTSTART:20221106T010000
RDATE:20230312T030000
TZOFFSETFROM:-0400
TZOFFSETTO:-0500
TZNAME:America/Toronto EST
END:STANDARD
BEGIN:STANDARD
DTSTART:20231105T010000
RDATE:20240310T030000
TZOFFSETFROM:-0400
TZOFFSETTO:-0500
TZNAME:America/Toronto EST
END:STANDARD
BEGIN:STANDARD
DTSTART:20241103T010000
RDATE:20250309T030000
TZOFFSETFROM:-0400
TZOFFSETTO:-0500
TZNAME:America/Toronto EST
END:STANDARD
BEGIN:STANDARD
DTSTART:20251102T010000
RDATE:20260308T030000
TZOFFSETFROM:-0400
TZOFFSETTO:-0500
TZNAME:America/Toronto EST
END:STANDARD
BEGIN:STANDARD
DTSTART:20261101T010000
RDATE:20270314T030000
TZOFFSETFROM:-0400
TZOFFSETTO:-0500
TZNAME:America/Toronto EST
END:STANDARD
BEGIN:STANDARD
DTSTART:20271107T010000
RDATE:20280312T030000
TZOFFSETFROM:-0400
TZOFFSETTO:-0500
TZNAME:America/Toronto EST
END:STANDARD
BEGIN:STANDARD
DTSTART:20281105T010000
RDATE:20290311T030000
TZOFFSETFROM:-0400
TZOFFSETTO:-0500
TZNAME:America/Toronto EST
END:STANDARD
BEGIN:STANDARD
DTSTART:20291104T010000
RDATE:20300310T030000
TZOFFSETFROM:-0400
TZOFFSETTO:-0500
TZNAME:America/Toronto EST
END:STANDARD
BEGIN:STANDARD
DTSTART:20301103T010000
RDATE:20310309T030000
TZOFFSETFROM:-0400
TZOFFSETTO:-0500
TZNAME:America/Toronto EST
END:STANDARD
BEGIN:STANDARD
DTSTART:20311102T010000
RDATE:20320314T030000
TZOFFSETFROM:-0400
TZOFFSETTO:-0500
TZNAME:America/Toronto EST
END:STANDARD
BEGIN:DAYLIGHT
DTSTART:20220404T153000
RDATE:20221106T010000
TZOFFSETFROM:-0500
TZOFFSETTO:-0400
TZNAME:America/Toronto EDT
END:DAYLIGHT
BEGIN:DAYLIGHT
DTSTART:20230312T030000
RDATE:20231105T010000
TZOFFSETFROM:-0500
TZOFFSETTO:-0400
TZNAME:America/Toronto EDT
END:DAYLIGHT
BEGIN:DAYLIGHT
DTSTART:20240310T030000
RDATE:20241103T010000
TZOFFSETFROM:-0500
TZOFFSETTO:-0400
TZNAME:America/Toronto EDT
END:DAYLIGHT
BEGIN:DAYLIGHT
DTSTART:20250309T030000
RDATE:20251102T010000
TZOFFSETFROM:-0500
TZOFFSETTO:-0400
TZNAME:America/Toronto EDT
END:DAYLIGHT
BEGIN:DAYLIGHT
DTSTART:20260308T030000
RDATE:20261101T010000
TZOFFSETFROM:-0500
TZOFFSETTO:-0400
TZNAME:America/Toronto EDT
END:DAYLIGHT
BEGIN:DAYLIGHT
DTSTART:20270314T030000
RDATE:20271107T010000
TZOFFSETFROM:-0500
TZOFFSETTO:-0400
TZNAME:America/Toronto EDT
END:DAYLIGHT
BEGIN:DAYLIGHT
DTSTART:20280312T030000
RDATE:20281105T010000
TZOFFSETFROM:-0500
TZOFFSETTO:-0400
TZNAME:America/Toronto EDT
END:DAYLIGHT
BEGIN:DAYLIGHT
DTSTART:20290311T030000
RDATE:20291104T010000
TZOFFSETFROM:-0500
TZOFFSETTO:-0400
TZNAME:America/Toronto EDT
END:DAYLIGHT
BEGIN:DAYLIGHT
DTSTART:20300310T030000
RDATE:20301103T010000
TZOFFSETFROM:-0500
TZOFFSETTO:-0400
TZNAME:America/Toronto EDT
END:DAYLIGHT
BEGIN:DAYLIGHT
DTSTART:20310309T030000
RDATE:20311102T010000
TZOFFSETFROM:-0500
TZOFFSETTO:-0400
TZNAME:America/Toronto EDT
END:DAYLIGHT
END:VTIMEZONE
BEGIN:VEVENT
UID:2dd392ed6a7777761a86f2d19d06e742
CATEGORIES:Durham Events
CREATED:20230312T103552
SUMMARY:Durham Farm Connections Open House
LOCATION:67 Winchester Rd. E.\, Brooklin\, Ontario
DESCRIPTION:You are invited to the Durham Farm Connections Open House\n \nDurham Farm C
 onnections Open House takes place on Wednesday, April 5th starting at 3:30 
 pm at the Luther Vipond Memorial Arena in Brooklin Ontario. This free event
  brings the farm to town and is an opportunity for people to meet local far
 mers, learn about Durham Region farms, and see farm animals and tractors.\n
 The event starts at 3:30 pm and will run until 8:00 pm. During the open hou
 se, attendees can expect to see a variety of farm animals, such as cows, sh
 eep, goats and chickens. They can also expect to see tractors and learn abo
 ut crop and vegetable farming as well as maple syrup and apple cider produc
 tion. In addition to meeting farmers and seeing the animals, there will be 
 demonstrations and activities throughout the event. These will include chee
 se making demonstrations, sheep shearing, cow milking, meet a beekeeper and
  even a chance to meet a large animal veterinarian.\nThe Durham Farm Connec
 tions open house is an opportunity to learn more about farming, meet local 
 farmers, and have a fun and educational experience with family and friends.
  Mark your calendar for April 5, and don't miss out on this exciting event!
 \n
X-ALT-DESC;FMTTYPE=text/html:<p><strong>You are invited to the Durham Farm Connections Open House</stron
 g></p><p> </p><p>Durham Farm Connections Open House takes place on Wednesda
 y, April 5th starting at 3:30 pm at the Luther Vipond Memorial Arena in Bro
 oklin Ontario. This free event brings the farm to town and is an opportunit
 y for people to meet local farmers, learn about Durham Region farms, and se
 e farm animals and tractors.</p><p>The event starts at 3:30 pm and will run
  until 8:00 pm. During the open house, attendees can expect to see a variet
 y of farm animals, such as cows, sheep, goats and chickens. They can also e
 xpect to see tractors and learn about crop and vegetable farming as well as
  maple syrup and apple cider production. In addition to meeting farmers and
  seeing the animals, there will be demonstrations and activities throughout
  the event. These will include cheese making demonstrations, sheep shearing
 , cow milking, meet a beekeeper and even a chance to meet a large animal ve
 terinarian.</p><p>The Durham Farm Connections open house is an opportunity 
 to learn more about farming, meet local farmers, and have a fun and educati
 onal experience with family and friends. Mark your calendar for April 5, an
 d don't miss out on this exciting event!</p>
CONTACT:This email address is being protected from spambots. You need JavaScript enabled to view it.
DTSTAMP:20260421T160723
DTSTART;TZID=America/Toronto:20230405T153000
DTEND;TZID=America/Toronto:20230405T200000
SEQUENCE:0
TRANSP:OPAQUE
END:VEVENT
END:VCALENDAR