BEGIN:VCALENDAR
VERSION:2.0
PRODID:-//jEvents 2.0 for Joomla//EN
CALSCALE:GREGORIAN
METHOD:PUBLISH
BEGIN:VTIMEZONE
TZID:America/Toronto
BEGIN:STANDARD
DTSTART:20221106T010000
RDATE:20230312T030000
TZOFFSETFROM:-0400
TZOFFSETTO:-0500
TZNAME:America/Toronto EST
END:STANDARD
BEGIN:STANDARD
DTSTART:20231105T010000
RDATE:20240310T030000
TZOFFSETFROM:-0400
TZOFFSETTO:-0500
TZNAME:America/Toronto EST
END:STANDARD
BEGIN:STANDARD
DTSTART:20241103T010000
RDATE:20250309T030000
TZOFFSETFROM:-0400
TZOFFSETTO:-0500
TZNAME:America/Toronto EST
END:STANDARD
BEGIN:STANDARD
DTSTART:20251102T010000
RDATE:20260308T030000
TZOFFSETFROM:-0400
TZOFFSETTO:-0500
TZNAME:America/Toronto EST
END:STANDARD
BEGIN:STANDARD
DTSTART:20261101T010000
RDATE:20270314T030000
TZOFFSETFROM:-0400
TZOFFSETTO:-0500
TZNAME:America/Toronto EST
END:STANDARD
BEGIN:STANDARD
DTSTART:20271107T010000
RDATE:20280312T030000
TZOFFSETFROM:-0400
TZOFFSETTO:-0500
TZNAME:America/Toronto EST
END:STANDARD
BEGIN:STANDARD
DTSTART:20281105T010000
RDATE:20290311T030000
TZOFFSETFROM:-0400
TZOFFSETTO:-0500
TZNAME:America/Toronto EST
END:STANDARD
BEGIN:STANDARD
DTSTART:20291104T010000
RDATE:20300310T030000
TZOFFSETFROM:-0400
TZOFFSETTO:-0500
TZNAME:America/Toronto EST
END:STANDARD
BEGIN:STANDARD
DTSTART:20301103T010000
RDATE:20310309T030000
TZOFFSETFROM:-0400
TZOFFSETTO:-0500
TZNAME:America/Toronto EST
END:STANDARD
BEGIN:STANDARD
DTSTART:20311102T010000
RDATE:20320314T030000
TZOFFSETFROM:-0400
TZOFFSETTO:-0500
TZNAME:America/Toronto EST
END:STANDARD
BEGIN:DAYLIGHT
DTSTART:20220527T103000
RDATE:20221106T010000
TZOFFSETFROM:-0500
TZOFFSETTO:-0400
TZNAME:America/Toronto EDT
END:DAYLIGHT
BEGIN:DAYLIGHT
DTSTART:20230312T030000
RDATE:20231105T010000
TZOFFSETFROM:-0500
TZOFFSETTO:-0400
TZNAME:America/Toronto EDT
END:DAYLIGHT
BEGIN:DAYLIGHT
DTSTART:20240310T030000
RDATE:20241103T010000
TZOFFSETFROM:-0500
TZOFFSETTO:-0400
TZNAME:America/Toronto EDT
END:DAYLIGHT
BEGIN:DAYLIGHT
DTSTART:20250309T030000
RDATE:20251102T010000
TZOFFSETFROM:-0500
TZOFFSETTO:-0400
TZNAME:America/Toronto EDT
END:DAYLIGHT
BEGIN:DAYLIGHT
DTSTART:20260308T030000
RDATE:20261101T010000
TZOFFSETFROM:-0500
TZOFFSETTO:-0400
TZNAME:America/Toronto EDT
END:DAYLIGHT
BEGIN:DAYLIGHT
DTSTART:20270314T030000
RDATE:20271107T010000
TZOFFSETFROM:-0500
TZOFFSETTO:-0400
TZNAME:America/Toronto EDT
END:DAYLIGHT
BEGIN:DAYLIGHT
DTSTART:20280312T030000
RDATE:20281105T010000
TZOFFSETFROM:-0500
TZOFFSETTO:-0400
TZNAME:America/Toronto EDT
END:DAYLIGHT
BEGIN:DAYLIGHT
DTSTART:20290311T030000
RDATE:20291104T010000
TZOFFSETFROM:-0500
TZOFFSETTO:-0400
TZNAME:America/Toronto EDT
END:DAYLIGHT
BEGIN:DAYLIGHT
DTSTART:20300310T030000
RDATE:20301103T010000
TZOFFSETFROM:-0500
TZOFFSETTO:-0400
TZNAME:America/Toronto EDT
END:DAYLIGHT
BEGIN:DAYLIGHT
DTSTART:20310309T030000
RDATE:20311102T010000
TZOFFSETFROM:-0500
TZOFFSETTO:-0400
TZNAME:America/Toronto EDT
END:DAYLIGHT
END:VTIMEZONE
BEGIN:VEVENT
UID:4c27a462aa5bc96116a583d2c833ec08
CATEGORIES:Durham Events
CREATED:20230323T131920
SUMMARY:Pet Valu Walk For Dog Guides (Oshawa)
LOCATION:Lakefront Park W 1425 Phillip Murray Ave Unifor Local 222 Parking lot
DESCRIPTION:PET VALU WALK FOR DOG GUIDES\nHOSTED BY: NORTH OSHAWA LIONS CLUB\nJoin us i
 n supporting The Lions Foundation of Canada Dog Guides. Participating in th
 e Pet Valu Walk for Dog Guides helps to fulfill their mission of empowering
  Canadians with disabilities to navigate their world with confidence and in
 dependence. Dog Guides are provided at no cost to them, and each dog costs 
 $35,000. All the proceeds from the National walks go towards the 7 Dog Guid
 e Programs. Hearing, Canine Vision, Seizure Response, Service, Diabetic Ale
 rt, Autism Assistance and Facility Support. You can help by registering for
  the walk, and fundraising. Join us on walk day rain or shine, with or with
 out a dog. Raffle prizes, on-site 50/50 draw and other fun things.\n \nhttp
 s://www.walkfordogguides.com/fundraisers/Oshawa (https://www.walkfordogguid
 es.com/fundraisers/Oshawa)\n
X-ALT-DESC;FMTTYPE=text/html:<p><span style="text-decoration: underline;"><strong>PET VALU WALK FOR DOG 
 GUIDES</strong></span></p><p><strong>HOSTED BY: NORTH OSHAWA LIONS CLUB</st
 rong></p><p><strong>Join us in supporting The Lions Foundation of Canada Do
 g Guides. Participating in the Pet Valu Walk for Dog Guides helps to fulfil
 l their mission of empowering Canadians with disabilities to navigate their
  world with confidence and independence. Dog Guides are provided at no cost
  to them, and each dog costs $35,000. All the proceeds from the National wa
 lks go towards the 7 Dog Guide Programs. Hearing, Canine Vision, Seizure Re
 sponse, Service, Diabetic Alert, Autism Assistance and Facility Support. Yo
 u can help by registering for the walk, and fundraising. Join us on walk da
 y rain or shine, with or without a dog. Raffle prizes, on-site 50/50 draw a
 nd other fun things.</strong></p><p> </p><p><a href="https://www.walkfordog
 guides.com/fundraisers/Oshawa">https://www.walkfordogguides.com/fundraisers
 /Oshawa</a></p>
CONTACT:Sarah
X-EXTRAINFO:Follow us on Facebook\nhttps://www.facebook.com/profile.php?id=100066519966
 115\nNorth Oshawa Lions Pet Valu Walk For Dog Guides
DTSTAMP:20260421T224601
DTSTART;TZID=America/Toronto:20230528T103000
DTEND;TZID=America/Toronto:20230528T130000
SEQUENCE:0
TRANSP:OPAQUE
END:VEVENT
END:VCALENDAR