BEGIN:VCALENDAR
VERSION:2.0
PRODID:-//jEvents 2.0 for Joomla//EN
CALSCALE:GREGORIAN
METHOD:PUBLISH
BEGIN:VTIMEZONE
TZID:America/Toronto
BEGIN:STANDARD
DTSTART:20221106T010000
RDATE:20230312T030000
TZOFFSETFROM:-0400
TZOFFSETTO:-0500
TZNAME:America/Toronto EST
END:STANDARD
BEGIN:STANDARD
DTSTART:20231105T010000
RDATE:20240310T030000
TZOFFSETFROM:-0400
TZOFFSETTO:-0500
TZNAME:America/Toronto EST
END:STANDARD
BEGIN:STANDARD
DTSTART:20241103T010000
RDATE:20250309T030000
TZOFFSETFROM:-0400
TZOFFSETTO:-0500
TZNAME:America/Toronto EST
END:STANDARD
BEGIN:STANDARD
DTSTART:20251102T010000
RDATE:20260308T030000
TZOFFSETFROM:-0400
TZOFFSETTO:-0500
TZNAME:America/Toronto EST
END:STANDARD
BEGIN:STANDARD
DTSTART:20261101T010000
RDATE:20270314T030000
TZOFFSETFROM:-0400
TZOFFSETTO:-0500
TZNAME:America/Toronto EST
END:STANDARD
BEGIN:STANDARD
DTSTART:20271107T010000
RDATE:20280312T030000
TZOFFSETFROM:-0400
TZOFFSETTO:-0500
TZNAME:America/Toronto EST
END:STANDARD
BEGIN:STANDARD
DTSTART:20281105T010000
RDATE:20290311T030000
TZOFFSETFROM:-0400
TZOFFSETTO:-0500
TZNAME:America/Toronto EST
END:STANDARD
BEGIN:STANDARD
DTSTART:20291104T010000
RDATE:20300310T030000
TZOFFSETFROM:-0400
TZOFFSETTO:-0500
TZNAME:America/Toronto EST
END:STANDARD
BEGIN:STANDARD
DTSTART:20301103T010000
RDATE:20310309T030000
TZOFFSETFROM:-0400
TZOFFSETTO:-0500
TZNAME:America/Toronto EST
END:STANDARD
BEGIN:STANDARD
DTSTART:20311102T010000
RDATE:20320314T030000
TZOFFSETFROM:-0400
TZOFFSETTO:-0500
TZNAME:America/Toronto EST
END:STANDARD
BEGIN:DAYLIGHT
DTSTART:20220428T090000
RDATE:20221106T010000
TZOFFSETFROM:-0500
TZOFFSETTO:-0400
TZNAME:America/Toronto EDT
END:DAYLIGHT
BEGIN:DAYLIGHT
DTSTART:20230312T030000
RDATE:20231105T010000
TZOFFSETFROM:-0500
TZOFFSETTO:-0400
TZNAME:America/Toronto EDT
END:DAYLIGHT
BEGIN:DAYLIGHT
DTSTART:20240310T030000
RDATE:20241103T010000
TZOFFSETFROM:-0500
TZOFFSETTO:-0400
TZNAME:America/Toronto EDT
END:DAYLIGHT
BEGIN:DAYLIGHT
DTSTART:20250309T030000
RDATE:20251102T010000
TZOFFSETFROM:-0500
TZOFFSETTO:-0400
TZNAME:America/Toronto EDT
END:DAYLIGHT
BEGIN:DAYLIGHT
DTSTART:20260308T030000
RDATE:20261101T010000
TZOFFSETFROM:-0500
TZOFFSETTO:-0400
TZNAME:America/Toronto EDT
END:DAYLIGHT
BEGIN:DAYLIGHT
DTSTART:20270314T030000
RDATE:20271107T010000
TZOFFSETFROM:-0500
TZOFFSETTO:-0400
TZNAME:America/Toronto EDT
END:DAYLIGHT
BEGIN:DAYLIGHT
DTSTART:20280312T030000
RDATE:20281105T010000
TZOFFSETFROM:-0500
TZOFFSETTO:-0400
TZNAME:America/Toronto EDT
END:DAYLIGHT
BEGIN:DAYLIGHT
DTSTART:20290311T030000
RDATE:20291104T010000
TZOFFSETFROM:-0500
TZOFFSETTO:-0400
TZNAME:America/Toronto EDT
END:DAYLIGHT
BEGIN:DAYLIGHT
DTSTART:20300310T030000
RDATE:20301103T010000
TZOFFSETFROM:-0500
TZOFFSETTO:-0400
TZNAME:America/Toronto EDT
END:DAYLIGHT
BEGIN:DAYLIGHT
DTSTART:20310309T030000
RDATE:20311102T010000
TZOFFSETFROM:-0500
TZOFFSETTO:-0400
TZNAME:America/Toronto EDT
END:DAYLIGHT
END:VTIMEZONE
BEGIN:VEVENT
UID:7f35c63d05cb501350edef3cb653fc62
CATEGORIES:Durham Events
CREATED:20230413T114752
SUMMARY:Spring Migration Hike -Introduction to Birding
LOCATION:McLaughlin Bay and Second Marsh
DESCRIPTION:<p class="_04xlpA direction-ltr align-center para-style-body" style="color:
  #0b1824; font-family: 'YACgEev4gKc 0', '_fb_', 'auto'; --font-size: 16.385
 2px; --line-height: 1.4; text-transform: none; line-height: 22px; text-alig
 n: center;"><span class="S1PPyQ" style="color: #0b1824; font-weight: 400; f
 ont-style: normal; text-decoration: none;">Join Friends of Second Marsh Sta
 ff for a hike at the McLaughlin Bay Wildlife Reserve and </span></p><p clas
 s="_04xlpA direction-ltr align-center para-style-body" style="color: #0b182
 4; font-family: 'YACgEev4gKc 0', '_fb_', 'auto'; --font-size: 16.3852px; --
 line-height: 1.4; text-transform: none; line-height: 22px; text-align: cent
 er;"><span class="S1PPyQ" style="color: #0b1824; font-weight: 400; font-sty
 le: normal; text-decoration: none;">Oshawa Second Marsh to view migrating b
 irds. Enjoy viewing the marsh in this beautiful season.</span></p><p class=
 "_04xlpA direction-ltr align-center para-style-body" style="color: #0b1824;
  font-family: 'YACgEev4gKc 0', '_fb_', 'auto'; --font-size: 16.3852px; --li
 ne-height: 1.4; text-transform: none; line-height: 22px; text-align: center
 ;"><span class="S1PPyQ" style="color: #0b1824; font-weight: 400; font-style
 : normal; text-decoration: none;">This hike is suitable for amateur or begi
 nner birders.</span></p><p class="_04xlpA direction-ltr align-center para-s
 tyle-body" style="color: #0b1824; font-family: 'YACgEev4gKc 0', '_fb_', 'au
 to'; --font-size: 16.3852px; --line-height: 1.4; text-transform: none; line
 -height: 22px; text-align: center;"> </p><p class="_04xlpA direction-ltr al
 ign-center para-style-body" style="color: #0b1824; font-family: 'YACgEev4gK
 c 0', '_fb_', 'auto'; --font-size: 16.3852px; --line-height: 1.4; text-tran
 sform: none; line-height: 22px; text-align: center;"><span class="S1PPyQ" s
 tyle="color: #0b1824; font-weight: 400; font-style: normal; text-decoration
 : none;">Sign up Here:</span></p><p class="_04xlpA direction-ltr align-cent
 er para-style-body" style="color: #0b1824; font-family: 'YACgEev4gKc 0', '_
 fb_', 'auto'; --font-size: 16.3852px; --line-height: 1.4; text-transform: n
 one; line-height: 22px; text-align: center;"><span class="S1PPyQ" style="co
 lor: #0b1824; font-weight: bold; font-style: normal; text-decoration: none;
 "><a href="https://signup.com/go/riseLtB">https://signup.com/go/riseLtB</a>
 </span></p><p class="_04xlpA direction-ltr align-center para-style-body" st
 yle="color: #0b1824; font-family: 'YACgEev4gKc 0', '_fb_', 'auto'; --font-s
 ize: 16.3852px; --line-height: 1.4; text-transform: none; line-height: 22px
 ; text-align: center;"><span class="S1PPyQ" style="color: #0b1824; font-wei
 ght: 400; font-style: normal; text-decoration: none;">Registration is requi
 red</span></p><p class="_04xlpA direction-ltr align-center para-style-body"
  style="color: #0b1824; font-family: 'YACgEev4gKc 0', '_fb_', 'auto'; --fon
 t-size: 16.3852px; --line-height: 1.4; text-transform: none; line-height: 2
 2px; text-align: center;"> <span class="S1PPyQ" style="color: #0b1824; font
 -weight: 400; font-style: normal; text-decoration: none;">For more info ema
 il <joomla-hidden-mail  is-link="1" is-email="1" first="a2FyYm91cg==" last=
 "c2Vjb25kbWFyc2guY2E=" text="a2FyYm91ckBzZWNvbmRtYXJzaC5jYQ==" base="" >Thi
 s email address is being protected from spambots. You need JavaScript enabl
 ed to view it.</joomla-hidden-mail></span></p><p class="_04xlpA direction-l
 tr align-center para-style-body" style="color: #0b1824; font-family: 'YACgE
 ev4gKc 0', '_fb_', 'auto'; --font-size: 16.3852px; --line-height: 1.4; text
 -transform: none; line-height: 22px; text-align: center;"><span class="S1PP
 yQ" style="color: #0b1824; font-weight: 400; font-style: normal; text-decor
 ation: none;">No washrooms on site.</span></p><p class="_04xlpA direction-l
 tr align-center para-style-body" style="color: #0b1824; font-family: 'YACgE
 ev4gKc 0', '_fb_', 'auto'; --font-size: 16.3852px; --line-height: 1.4; text
 -transform: none; line-height: 22px; text-align: center;"><span class="S1PP
 yQ" style="color: #0b1824; font-weight: 400; font-style: normal; text-decor
 ation: none;">No dogs or smoking permitted.</span></p>
CONTACT:Karen Arbour
DTSTAMP:20260421T165144
DTSTART;TZID=America/Toronto:20230429T090000
DTEND;TZID=America/Toronto:20230429T110000
SEQUENCE:0
TRANSP:OPAQUE
END:VEVENT
END:VCALENDAR