BEGIN:VCALENDAR
VERSION:2.0
PRODID:-//jEvents 2.0 for Joomla//EN
CALSCALE:GREGORIAN
METHOD:PUBLISH
BEGIN:VTIMEZONE
TZID:America/Toronto
BEGIN:STANDARD
DTSTART:20221106T010000
RDATE:20230312T030000
TZOFFSETFROM:-0400
TZOFFSETTO:-0500
TZNAME:America/Toronto EST
END:STANDARD
BEGIN:STANDARD
DTSTART:20231105T010000
RDATE:20240310T030000
TZOFFSETFROM:-0400
TZOFFSETTO:-0500
TZNAME:America/Toronto EST
END:STANDARD
BEGIN:STANDARD
DTSTART:20241103T010000
RDATE:20250309T030000
TZOFFSETFROM:-0400
TZOFFSETTO:-0500
TZNAME:America/Toronto EST
END:STANDARD
BEGIN:STANDARD
DTSTART:20251102T010000
RDATE:20260308T030000
TZOFFSETFROM:-0400
TZOFFSETTO:-0500
TZNAME:America/Toronto EST
END:STANDARD
BEGIN:STANDARD
DTSTART:20261101T010000
RDATE:20270314T030000
TZOFFSETFROM:-0400
TZOFFSETTO:-0500
TZNAME:America/Toronto EST
END:STANDARD
BEGIN:STANDARD
DTSTART:20271107T010000
RDATE:20280312T030000
TZOFFSETFROM:-0400
TZOFFSETTO:-0500
TZNAME:America/Toronto EST
END:STANDARD
BEGIN:STANDARD
DTSTART:20281105T010000
RDATE:20290311T030000
TZOFFSETFROM:-0400
TZOFFSETTO:-0500
TZNAME:America/Toronto EST
END:STANDARD
BEGIN:STANDARD
DTSTART:20291104T010000
RDATE:20300310T030000
TZOFFSETFROM:-0400
TZOFFSETTO:-0500
TZNAME:America/Toronto EST
END:STANDARD
BEGIN:STANDARD
DTSTART:20301103T010000
RDATE:20310309T030000
TZOFFSETFROM:-0400
TZOFFSETTO:-0500
TZNAME:America/Toronto EST
END:STANDARD
BEGIN:STANDARD
DTSTART:20311102T010000
RDATE:20320314T030000
TZOFFSETFROM:-0400
TZOFFSETTO:-0500
TZNAME:America/Toronto EST
END:STANDARD
BEGIN:DAYLIGHT
DTSTART:20220601T090000
RDATE:20221106T010000
TZOFFSETFROM:-0500
TZOFFSETTO:-0400
TZNAME:America/Toronto EDT
END:DAYLIGHT
BEGIN:DAYLIGHT
DTSTART:20230312T030000
RDATE:20231105T010000
TZOFFSETFROM:-0500
TZOFFSETTO:-0400
TZNAME:America/Toronto EDT
END:DAYLIGHT
BEGIN:DAYLIGHT
DTSTART:20240310T030000
RDATE:20241103T010000
TZOFFSETFROM:-0500
TZOFFSETTO:-0400
TZNAME:America/Toronto EDT
END:DAYLIGHT
BEGIN:DAYLIGHT
DTSTART:20250309T030000
RDATE:20251102T010000
TZOFFSETFROM:-0500
TZOFFSETTO:-0400
TZNAME:America/Toronto EDT
END:DAYLIGHT
BEGIN:DAYLIGHT
DTSTART:20260308T030000
RDATE:20261101T010000
TZOFFSETFROM:-0500
TZOFFSETTO:-0400
TZNAME:America/Toronto EDT
END:DAYLIGHT
BEGIN:DAYLIGHT
DTSTART:20270314T030000
RDATE:20271107T010000
TZOFFSETFROM:-0500
TZOFFSETTO:-0400
TZNAME:America/Toronto EDT
END:DAYLIGHT
BEGIN:DAYLIGHT
DTSTART:20280312T030000
RDATE:20281105T010000
TZOFFSETFROM:-0500
TZOFFSETTO:-0400
TZNAME:America/Toronto EDT
END:DAYLIGHT
BEGIN:DAYLIGHT
DTSTART:20290311T030000
RDATE:20291104T010000
TZOFFSETFROM:-0500
TZOFFSETTO:-0400
TZNAME:America/Toronto EDT
END:DAYLIGHT
BEGIN:DAYLIGHT
DTSTART:20300310T030000
RDATE:20301103T010000
TZOFFSETFROM:-0500
TZOFFSETTO:-0400
TZNAME:America/Toronto EDT
END:DAYLIGHT
BEGIN:DAYLIGHT
DTSTART:20310309T030000
RDATE:20311102T010000
TZOFFSETFROM:-0500
TZOFFSETTO:-0400
TZNAME:America/Toronto EDT
END:DAYLIGHT
END:VTIMEZONE
BEGIN:VEVENT
UID:2bf0df1878b903d9b5a71175498227fb
CATEGORIES:Durham Events
CREATED:20230414T143124
SUMMARY:Digging up the Past
LOCATION:Oshawa Museum
DESCRIPTION:Are you looking for something new and exciting for your kids to do on a PA 
 Day? Come to the Oshawa Museum and dig up the past! One of the OM's popular
  programs is returning on Friday, June 2, 2023! From 9 am – 3 pm, kids aged
  5 – 12 will immerse themselves in archaeology - make and assemble pots, co
 okie excavations, handle artefacts from hundreds of years ago, and more! Re
 gistration is limited and costs $25 per child. After reserving your ticket 
 on Eventbrite, call Visitor Experience Coordinator Jill at 905-436-7624 ext
  106 to confirm the name and age of the children participating. https://www
 .eventbrite.ca/e/digging-up-the-past-ddsb-pa-day-program-tickets-5914171135
 07?utm-campaign=social&amp;utm-content=attendeeshare&amp;utm-medium=discove
 ry&amp;utm-term=listing&amp;utm-source=cp&amp;aff=escb
X-ALT-DESC;FMTTYPE=text/html:<div class="x11i5rnm xat24cr x1mh8g0r x1vvkbs xdj266r">Are you looking for 
 something new and exciting for your kids to do on a PA Day? Come to the Osh
 awa Museum and dig up the past!</div><div class="x11i5rnm xat24cr x1mh8g0r 
 x1vvkbs xdj266r"> </div><div class="x11i5rnm xat24cr x1mh8g0r x1vvkbs xtlvy
 1s">One of the OM's popular programs is returning on Friday, June 2, 2023! 
 From 9 am – 3 pm, kids aged 5 – 12 will immerse themselves in archaeology -
  make and assemble pots, cookie excavations, handle artefacts from hundreds
  of years ago, and more!</div><div class="x11i5rnm xat24cr x1mh8g0r x1vvkbs
  xtlvy1s"> </div><div class="x11i5rnm xat24cr x1mh8g0r x1vvkbs xtlvy1s">Reg
 istration is limited and costs $25 per child. After reserving your ticket o
 n Eventbrite, call Visitor Experience Coordinator Jill at 905-436-7624 ext 
 106 to confirm the name and age of the children participating.</div><div cl
 ass="x11i5rnm xat24cr x1mh8g0r x1vvkbs xtlvy1s"> </div><div class="x11i5rnm
  xat24cr x1mh8g0r x1vvkbs xtlvy1s">https://www.eventbrite.ca/e/digging-up-t
 he-past-ddsb-pa-day-program-tickets-591417113507?utm-campaign=social&amp;ut
 m-content=attendeeshare&amp;utm-medium=discovery&amp;utm-term=listing&amp;u
 tm-source=cp&amp;aff=escb</div>
CONTACT:Jill Passmore
X-EXTRAINFO:905-436-7624 x.106
DTSTAMP:20260421T224422
DTSTART;TZID=America/Toronto:20230602T090000
DTEND;TZID=America/Toronto:20230602T150000
SEQUENCE:0
TRANSP:OPAQUE
END:VEVENT
END:VCALENDAR