BEGIN:VCALENDAR
VERSION:2.0
PRODID:-//jEvents 2.0 for Joomla//EN
CALSCALE:GREGORIAN
METHOD:PUBLISH
BEGIN:VTIMEZONE
TZID:America/Toronto
BEGIN:STANDARD
DTSTART:20221106T010000
RDATE:20230312T030000
TZOFFSETFROM:-0400
TZOFFSETTO:-0500
TZNAME:America/Toronto EST
END:STANDARD
BEGIN:STANDARD
DTSTART:20231105T010000
RDATE:20240310T030000
TZOFFSETFROM:-0400
TZOFFSETTO:-0500
TZNAME:America/Toronto EST
END:STANDARD
BEGIN:STANDARD
DTSTART:20241103T010000
RDATE:20250309T030000
TZOFFSETFROM:-0400
TZOFFSETTO:-0500
TZNAME:America/Toronto EST
END:STANDARD
BEGIN:STANDARD
DTSTART:20251102T010000
RDATE:20260308T030000
TZOFFSETFROM:-0400
TZOFFSETTO:-0500
TZNAME:America/Toronto EST
END:STANDARD
BEGIN:STANDARD
DTSTART:20261101T010000
RDATE:20270314T030000
TZOFFSETFROM:-0400
TZOFFSETTO:-0500
TZNAME:America/Toronto EST
END:STANDARD
BEGIN:STANDARD
DTSTART:20271107T010000
RDATE:20280312T030000
TZOFFSETFROM:-0400
TZOFFSETTO:-0500
TZNAME:America/Toronto EST
END:STANDARD
BEGIN:STANDARD
DTSTART:20281105T010000
RDATE:20290311T030000
TZOFFSETFROM:-0400
TZOFFSETTO:-0500
TZNAME:America/Toronto EST
END:STANDARD
BEGIN:STANDARD
DTSTART:20291104T010000
RDATE:20300310T030000
TZOFFSETFROM:-0400
TZOFFSETTO:-0500
TZNAME:America/Toronto EST
END:STANDARD
BEGIN:STANDARD
DTSTART:20301103T010000
RDATE:20310309T030000
TZOFFSETFROM:-0400
TZOFFSETTO:-0500
TZNAME:America/Toronto EST
END:STANDARD
BEGIN:STANDARD
DTSTART:20311102T010000
RDATE:20320314T030000
TZOFFSETFROM:-0400
TZOFFSETTO:-0500
TZNAME:America/Toronto EST
END:STANDARD
BEGIN:DAYLIGHT
DTSTART:20220527T123000
RDATE:20221106T010000
TZOFFSETFROM:-0500
TZOFFSETTO:-0400
TZNAME:America/Toronto EDT
END:DAYLIGHT
BEGIN:DAYLIGHT
DTSTART:20230312T030000
RDATE:20231105T010000
TZOFFSETFROM:-0500
TZOFFSETTO:-0400
TZNAME:America/Toronto EDT
END:DAYLIGHT
BEGIN:DAYLIGHT
DTSTART:20240310T030000
RDATE:20241103T010000
TZOFFSETFROM:-0500
TZOFFSETTO:-0400
TZNAME:America/Toronto EDT
END:DAYLIGHT
BEGIN:DAYLIGHT
DTSTART:20250309T030000
RDATE:20251102T010000
TZOFFSETFROM:-0500
TZOFFSETTO:-0400
TZNAME:America/Toronto EDT
END:DAYLIGHT
BEGIN:DAYLIGHT
DTSTART:20260308T030000
RDATE:20261101T010000
TZOFFSETFROM:-0500
TZOFFSETTO:-0400
TZNAME:America/Toronto EDT
END:DAYLIGHT
BEGIN:DAYLIGHT
DTSTART:20270314T030000
RDATE:20271107T010000
TZOFFSETFROM:-0500
TZOFFSETTO:-0400
TZNAME:America/Toronto EDT
END:DAYLIGHT
BEGIN:DAYLIGHT
DTSTART:20280312T030000
RDATE:20281105T010000
TZOFFSETFROM:-0500
TZOFFSETTO:-0400
TZNAME:America/Toronto EDT
END:DAYLIGHT
BEGIN:DAYLIGHT
DTSTART:20290311T030000
RDATE:20291104T010000
TZOFFSETFROM:-0500
TZOFFSETTO:-0400
TZNAME:America/Toronto EDT
END:DAYLIGHT
BEGIN:DAYLIGHT
DTSTART:20300310T030000
RDATE:20301103T010000
TZOFFSETFROM:-0500
TZOFFSETTO:-0400
TZNAME:America/Toronto EDT
END:DAYLIGHT
BEGIN:DAYLIGHT
DTSTART:20310309T030000
RDATE:20311102T010000
TZOFFSETFROM:-0500
TZOFFSETTO:-0400
TZNAME:America/Toronto EDT
END:DAYLIGHT
END:VTIMEZONE
BEGIN:VEVENT
UID:a887cf33c6d50debf3ffd2098619b2c8
CATEGORIES:Durham Events
CREATED:20230430T161532
SUMMARY:Live History: “A Timeless Gathering”
LOCATION:Lynde House Museum\, 900 Brock St. S. Whitby
DESCRIPTION: \nLive History: “A Timeless Gathering”May 28 @ 12:30pm - 8:30pmA TIMELESS 
 GATHERING\nby Live History Shows\nWho is the mysterious visitor at Lynde Ho
 use? They cannot remember who they are, or how they got there!\nOnly pictur
 es, items and stories from a time long ago seem to trigger memories about t
 heir identity. Work with your fellow guests to piece together the clues and
  riddles, to figure out who they really are!\nThis interactive mystery play
  uses real facts from Whitby’s history to help you uncover the solution.\nR
 ecommended for ages 13+\nREGISTER – 12:30pm Showtime\nREGISTER – 2:30pm Sho
 wtime (https://warren-general-store.square.site/product/may-28-a-timeless-g
 athering-2-30pm-showtime/2039)\nREGISTER – 4:30pm Showtime  (https://warren
 -general-store.square.site/product/may-28-a-timeless-gathering-4-30pm-showt
 ime/2038)\nREGISTER – 7:00pm Showtime (https://warren-general-store.square.
 site/product/may-28-a-timeless-gathering-7-00pm-showtime/2037)\nREGISTER BY
  PHONE: 905-665-3131\n \n
X-ALT-DESC;FMTTYPE=text/html:<p> </p><h1 class="tribe-events-single-event-title">Live History: “A Timele
 ss Gathering”</h1><div class="tribe-events-schedule tribe-clearfix"><h2><sp
 an class="tribe-event-date-start">May 28 @ 12:30pm</span> - <span class="tr
 ibe-event-time">8:30pm</span></h2></div><div id="post-6879" class="post-687
 9 tribe_events type-tribe_events status-publish hentry"><div class="tribe-e
 vents-single-event-description tribe-events-content"><p><strong>A TIMELESS 
 GATHERING<br /></strong><em>by Live History Shows</em></p><p>Who is the mys
 terious visitor at Lynde House? They cannot remember who they are, or how t
 hey got there!</p><p>Only pictures, items and stories from a time long ago 
 seem to trigger memories about their identity. Work with your fellow guests
  to piece together the clues and riddles, to figure out who they really are
 !</p><p>This interactive mystery play uses real facts from Whitby’s history
  to help you uncover the solution.</p><p><em>Recommended for ages 13+</em><
 /p><p><strong><a href="https://warren-general-store.square.site/product/may
 -28-a-timeless-gathering-12-30pm-showtime/2040">REGISTER – 12:30pm Showtime
 </a></strong><br /><strong><a href="https://warren-general-store.square.sit
 e/product/may-28-a-timeless-gathering-2-30pm-showtime/2039">REGISTER – 2:30
 pm Showtime</a></strong><br /><strong><a href="https://warren-general-store
 .square.site/product/may-28-a-timeless-gathering-4-30pm-showtime/2038">REGI
 STER – 4:30pm Showtime </a></strong><br /><strong><a href="https://warren-g
 eneral-store.square.site/product/may-28-a-timeless-gathering-7-00pm-showtim
 e/2037">REGISTER – 7:00pm Showtime</a></strong></p><p><strong>REGISTER BY P
 HONE: 905-665-3131</strong></p></div></div><p> </p>
CONTACT:This email address is being protected from spambots. You need JavaScript enabled to view it.
X-EXTRAINFO:Admission by donation
DTSTAMP:20260421T224341
DTSTART;TZID=America/Toronto:20230528T123000
DTEND;TZID=America/Toronto:20230528T203000
SEQUENCE:0
TRANSP:OPAQUE
END:VEVENT
END:VCALENDAR