BEGIN:VCALENDAR
VERSION:2.0
PRODID:-//jEvents 2.0 for Joomla//EN
CALSCALE:GREGORIAN
METHOD:PUBLISH
BEGIN:VTIMEZONE
TZID:America/Toronto
BEGIN:STANDARD
DTSTART:20221106T010000
RDATE:20230312T030000
TZOFFSETFROM:-0400
TZOFFSETTO:-0500
TZNAME:America/Toronto EST
END:STANDARD
BEGIN:STANDARD
DTSTART:20231105T010000
RDATE:20240310T030000
TZOFFSETFROM:-0400
TZOFFSETTO:-0500
TZNAME:America/Toronto EST
END:STANDARD
BEGIN:STANDARD
DTSTART:20241103T010000
RDATE:20250309T030000
TZOFFSETFROM:-0400
TZOFFSETTO:-0500
TZNAME:America/Toronto EST
END:STANDARD
BEGIN:STANDARD
DTSTART:20251102T010000
RDATE:20260308T030000
TZOFFSETFROM:-0400
TZOFFSETTO:-0500
TZNAME:America/Toronto EST
END:STANDARD
BEGIN:STANDARD
DTSTART:20261101T010000
RDATE:20270314T030000
TZOFFSETFROM:-0400
TZOFFSETTO:-0500
TZNAME:America/Toronto EST
END:STANDARD
BEGIN:STANDARD
DTSTART:20271107T010000
RDATE:20280312T030000
TZOFFSETFROM:-0400
TZOFFSETTO:-0500
TZNAME:America/Toronto EST
END:STANDARD
BEGIN:STANDARD
DTSTART:20281105T010000
RDATE:20290311T030000
TZOFFSETFROM:-0400
TZOFFSETTO:-0500
TZNAME:America/Toronto EST
END:STANDARD
BEGIN:STANDARD
DTSTART:20291104T010000
RDATE:20300310T030000
TZOFFSETFROM:-0400
TZOFFSETTO:-0500
TZNAME:America/Toronto EST
END:STANDARD
BEGIN:STANDARD
DTSTART:20301103T010000
RDATE:20310309T030000
TZOFFSETFROM:-0400
TZOFFSETTO:-0500
TZNAME:America/Toronto EST
END:STANDARD
BEGIN:STANDARD
DTSTART:20311102T010000
RDATE:20320314T030000
TZOFFSETFROM:-0400
TZOFFSETTO:-0500
TZNAME:America/Toronto EST
END:STANDARD
BEGIN:DAYLIGHT
DTSTART:20220602T000000
RDATE:20221106T010000
TZOFFSETFROM:-0500
TZOFFSETTO:-0400
TZNAME:America/Toronto EDT
END:DAYLIGHT
BEGIN:DAYLIGHT
DTSTART:20230312T030000
RDATE:20231105T010000
TZOFFSETFROM:-0500
TZOFFSETTO:-0400
TZNAME:America/Toronto EDT
END:DAYLIGHT
BEGIN:DAYLIGHT
DTSTART:20240310T030000
RDATE:20241103T010000
TZOFFSETFROM:-0500
TZOFFSETTO:-0400
TZNAME:America/Toronto EDT
END:DAYLIGHT
BEGIN:DAYLIGHT
DTSTART:20250309T030000
RDATE:20251102T010000
TZOFFSETFROM:-0500
TZOFFSETTO:-0400
TZNAME:America/Toronto EDT
END:DAYLIGHT
BEGIN:DAYLIGHT
DTSTART:20260308T030000
RDATE:20261101T010000
TZOFFSETFROM:-0500
TZOFFSETTO:-0400
TZNAME:America/Toronto EDT
END:DAYLIGHT
BEGIN:DAYLIGHT
DTSTART:20270314T030000
RDATE:20271107T010000
TZOFFSETFROM:-0500
TZOFFSETTO:-0400
TZNAME:America/Toronto EDT
END:DAYLIGHT
BEGIN:DAYLIGHT
DTSTART:20280312T030000
RDATE:20281105T010000
TZOFFSETFROM:-0500
TZOFFSETTO:-0400
TZNAME:America/Toronto EDT
END:DAYLIGHT
BEGIN:DAYLIGHT
DTSTART:20290311T030000
RDATE:20291104T010000
TZOFFSETFROM:-0500
TZOFFSETTO:-0400
TZNAME:America/Toronto EDT
END:DAYLIGHT
BEGIN:DAYLIGHT
DTSTART:20300310T030000
RDATE:20301103T010000
TZOFFSETFROM:-0500
TZOFFSETTO:-0400
TZNAME:America/Toronto EDT
END:DAYLIGHT
BEGIN:DAYLIGHT
DTSTART:20310309T030000
RDATE:20311102T010000
TZOFFSETFROM:-0500
TZOFFSETTO:-0400
TZNAME:America/Toronto EDT
END:DAYLIGHT
END:VTIMEZONE
BEGIN:VEVENT
UID:72923223db514e78411db7ece6247e69
CATEGORIES:Durham Events
CREATED:20230527T153728
SUMMARY:Second Chance Wildlife Sanctuary Yard and Plant Sale
LOCATION:Second Chance Wildlife Sanctuary 2060 Concession Rd #7\, Pickering\, Ont.
DESCRIPTION:Our Yard Sale is back to support all of our cats in our Sanctuary and in Fo
 ster homes.\nPlease come join us on Sat June 3rd  8 a.m. to 3 p.m. and Sun 
 June 4th 10 a.m. to 2 p.m.\nRain or Shine we will be there.  Items include 
 giftware, clothes, art/prints, records, DVD's, \npet items and more.  Our p
 opular Plant sale of hand grown Perennials and Cala Lilies is back.\nAlso v
 isit our NEW Book Tunnel for a large selection of Books. Thank you and plea
 se join us to support the our kittens and cats.\nOur goal is to find Loving
 , Forever Homes for as many cats as possible. More info and other ways to h
 elp please visit our www.second-chance.ws\n
X-ALT-DESC;FMTTYPE=text/html:<p>Our Yard Sale is back to support all of our cats in our Sanctuary and in
  Foster homes.</p><p>Please come join us on <strong>Sat June 3rd  8 a.m. to
  3 p.m. and Sun June 4th 10 a.m. to 2 p.m.</strong></p><p><strong>Rain or S
 hine we will be there</strong>.  Items include giftware, clothes, art/print
 s, records, DVD's, </p><p>pet items and more.  Our popular Plant sale of ha
 nd grown Perennials and Cala Lilies is back.</p><p>Also visit our NEW Book 
 Tunnel for a large selection of Books. Thank you and please join us to supp
 ort the our kittens and cats.</p><p>Our goal is to find Loving, Forever Hom
 es for as many cats as possible. <strong>More info and other ways to help p
 lease visit our www.second-chance.ws</strong></p>
CONTACT:905-649-8282
X-EXTRAINFO:Located between Brock Rd and Westney Rd.
DTSTAMP:20260421T224336
DTSTART;TZID=America/Toronto;VALUE=DATE:20230603
DTEND;TZID=America/Toronto;VALUE=DATE:20230604
SEQUENCE:0
TRANSP:OPAQUE
END:VEVENT
END:VCALENDAR