BEGIN:VCALENDAR
VERSION:2.0
PRODID:-//jEvents 2.0 for Joomla//EN
CALSCALE:GREGORIAN
METHOD:PUBLISH
BEGIN:VTIMEZONE
TZID:America/Toronto
BEGIN:STANDARD
DTSTART:20221106T010000
RDATE:20230312T030000
TZOFFSETFROM:-0400
TZOFFSETTO:-0500
TZNAME:America/Toronto EST
END:STANDARD
BEGIN:STANDARD
DTSTART:20231105T010000
RDATE:20240310T030000
TZOFFSETFROM:-0400
TZOFFSETTO:-0500
TZNAME:America/Toronto EST
END:STANDARD
BEGIN:STANDARD
DTSTART:20241103T010000
RDATE:20250309T030000
TZOFFSETFROM:-0400
TZOFFSETTO:-0500
TZNAME:America/Toronto EST
END:STANDARD
BEGIN:STANDARD
DTSTART:20251102T010000
RDATE:20260308T030000
TZOFFSETFROM:-0400
TZOFFSETTO:-0500
TZNAME:America/Toronto EST
END:STANDARD
BEGIN:STANDARD
DTSTART:20261101T010000
RDATE:20270314T030000
TZOFFSETFROM:-0400
TZOFFSETTO:-0500
TZNAME:America/Toronto EST
END:STANDARD
BEGIN:STANDARD
DTSTART:20271107T010000
RDATE:20280312T030000
TZOFFSETFROM:-0400
TZOFFSETTO:-0500
TZNAME:America/Toronto EST
END:STANDARD
BEGIN:STANDARD
DTSTART:20281105T010000
RDATE:20290311T030000
TZOFFSETFROM:-0400
TZOFFSETTO:-0500
TZNAME:America/Toronto EST
END:STANDARD
BEGIN:STANDARD
DTSTART:20291104T010000
RDATE:20300310T030000
TZOFFSETFROM:-0400
TZOFFSETTO:-0500
TZNAME:America/Toronto EST
END:STANDARD
BEGIN:STANDARD
DTSTART:20301103T010000
RDATE:20310309T030000
TZOFFSETFROM:-0400
TZOFFSETTO:-0500
TZNAME:America/Toronto EST
END:STANDARD
BEGIN:STANDARD
DTSTART:20311102T010000
RDATE:20320314T030000
TZOFFSETFROM:-0400
TZOFFSETTO:-0500
TZNAME:America/Toronto EST
END:STANDARD
BEGIN:DAYLIGHT
DTSTART:20220721T130000
RDATE:20221106T010000
TZOFFSETFROM:-0500
TZOFFSETTO:-0400
TZNAME:America/Toronto EDT
END:DAYLIGHT
BEGIN:DAYLIGHT
DTSTART:20230312T030000
RDATE:20231105T010000
TZOFFSETFROM:-0500
TZOFFSETTO:-0400
TZNAME:America/Toronto EDT
END:DAYLIGHT
BEGIN:DAYLIGHT
DTSTART:20240310T030000
RDATE:20241103T010000
TZOFFSETFROM:-0500
TZOFFSETTO:-0400
TZNAME:America/Toronto EDT
END:DAYLIGHT
BEGIN:DAYLIGHT
DTSTART:20250309T030000
RDATE:20251102T010000
TZOFFSETFROM:-0500
TZOFFSETTO:-0400
TZNAME:America/Toronto EDT
END:DAYLIGHT
BEGIN:DAYLIGHT
DTSTART:20260308T030000
RDATE:20261101T010000
TZOFFSETFROM:-0500
TZOFFSETTO:-0400
TZNAME:America/Toronto EDT
END:DAYLIGHT
BEGIN:DAYLIGHT
DTSTART:20270314T030000
RDATE:20271107T010000
TZOFFSETFROM:-0500
TZOFFSETTO:-0400
TZNAME:America/Toronto EDT
END:DAYLIGHT
BEGIN:DAYLIGHT
DTSTART:20280312T030000
RDATE:20281105T010000
TZOFFSETFROM:-0500
TZOFFSETTO:-0400
TZNAME:America/Toronto EDT
END:DAYLIGHT
BEGIN:DAYLIGHT
DTSTART:20290311T030000
RDATE:20291104T010000
TZOFFSETFROM:-0500
TZOFFSETTO:-0400
TZNAME:America/Toronto EDT
END:DAYLIGHT
BEGIN:DAYLIGHT
DTSTART:20300310T030000
RDATE:20301103T010000
TZOFFSETFROM:-0500
TZOFFSETTO:-0400
TZNAME:America/Toronto EDT
END:DAYLIGHT
BEGIN:DAYLIGHT
DTSTART:20310309T030000
RDATE:20311102T010000
TZOFFSETFROM:-0500
TZOFFSETTO:-0400
TZNAME:America/Toronto EDT
END:DAYLIGHT
END:VTIMEZONE
BEGIN:VEVENT
UID:5833756a7fce91c0b898447b701bf28a
CATEGORIES:Durham Events
CREATED:20230608T101101
SUMMARY:Live History Theatre
LOCATION:Lynde House Museum\, 900 Brock St. S. Whitby
DESCRIPTION:Live History: “Here Before”July 22 @ 1:00pm - 7:30pmHERE BEFORE – World Pre
 miere Performance\nby Live History Shows\nJoin us for the World Premiere of
  Live History Shows’ brand new history play, “Here Before”!\nFollow the clu
 es, complete the tasks, interact with the cast, and learn about Whitby’s hi
 story along the way.\nRecommended for ages 13+\nAdmission by donation - sug
 gested $10-$30  \nREGISTER – 1:00pm Showtime\nREGISTER – 5:00pm Showtime (h
 ttps://warren-general-store.square.site/product/jul-22-here-before-5-00pm-s
 howtime/2048)\nREGISTER BY PHONE: 905-665-3131\n \n
X-ALT-DESC;FMTTYPE=text/html:<h1 class="tribe-events-single-event-title">Live History: “Here Before”</h1
 ><div class="tribe-events-schedule tribe-clearfix"><h2><span class="tribe-e
 vent-date-start">July 22 @ 1:00pm</span> - <span class="tribe-event-time">7
 :30pm</span></h2></div><div id="post-6997" class="post-6997 tribe_events ty
 pe-tribe_events status-publish hentry"><div class="tribe-events-single-even
 t-description tribe-events-content"><p><strong>HERE BEFORE – World Premiere
  Performance<br /></strong><em>by Live History Shows</em></p><p>Join us for
  the World Premiere of Live History Shows’ brand new history play, “Here Be
 fore”!</p><p>Follow the clues, complete the tasks, interact with the cast, 
 and learn about Whitby’s history along the way.</p><p><em>Recommended for a
 ges 13+</em></p><p><em>Admission by donation - suggested $10-$30  </em></p>
 <p><strong><a href="https://warren-general-store.square.site/product/jul-22
 -here-before-1-00pm-showtime/2047">REGISTER – 1:00pm Showtime</a></strong><
 br /><strong><a href="https://warren-general-store.square.site/product/jul-
 22-here-before-5-00pm-showtime/2048">REGISTER – 5:00pm Showtime</a></strong
 ></p><p><strong>REGISTER BY PHONE: 905-665-3131</strong></p><p><strong> </s
 trong></p></div></div>
CONTACT:This email address is being protected from spambots. You need JavaScript enabled to view it.
X-EXTRAINFO:Admission by donation - suggested $10-$30  
DTSTAMP:20260420T095107
DTSTART;TZID=America/Toronto:20230722T130000
DTEND;TZID=America/Toronto:20230722T193000
SEQUENCE:0
TRANSP:OPAQUE
END:VEVENT
END:VCALENDAR