BEGIN:VCALENDAR
VERSION:2.0
PRODID:-//jEvents 2.0 for Joomla//EN
CALSCALE:GREGORIAN
METHOD:PUBLISH
BEGIN:VTIMEZONE
TZID:America/Toronto
BEGIN:STANDARD
DTSTART:20221106T010000
RDATE:20230312T030000
TZOFFSETFROM:-0400
TZOFFSETTO:-0500
TZNAME:America/Toronto EST
END:STANDARD
BEGIN:STANDARD
DTSTART:20231105T010000
RDATE:20240310T030000
TZOFFSETFROM:-0400
TZOFFSETTO:-0500
TZNAME:America/Toronto EST
END:STANDARD
BEGIN:STANDARD
DTSTART:20241103T010000
RDATE:20250309T030000
TZOFFSETFROM:-0400
TZOFFSETTO:-0500
TZNAME:America/Toronto EST
END:STANDARD
BEGIN:STANDARD
DTSTART:20251102T010000
RDATE:20260308T030000
TZOFFSETFROM:-0400
TZOFFSETTO:-0500
TZNAME:America/Toronto EST
END:STANDARD
BEGIN:STANDARD
DTSTART:20261101T010000
RDATE:20270314T030000
TZOFFSETFROM:-0400
TZOFFSETTO:-0500
TZNAME:America/Toronto EST
END:STANDARD
BEGIN:STANDARD
DTSTART:20271107T010000
RDATE:20280312T030000
TZOFFSETFROM:-0400
TZOFFSETTO:-0500
TZNAME:America/Toronto EST
END:STANDARD
BEGIN:STANDARD
DTSTART:20281105T010000
RDATE:20290311T030000
TZOFFSETFROM:-0400
TZOFFSETTO:-0500
TZNAME:America/Toronto EST
END:STANDARD
BEGIN:STANDARD
DTSTART:20291104T010000
RDATE:20300310T030000
TZOFFSETFROM:-0400
TZOFFSETTO:-0500
TZNAME:America/Toronto EST
END:STANDARD
BEGIN:STANDARD
DTSTART:20301103T010000
RDATE:20310309T030000
TZOFFSETFROM:-0400
TZOFFSETTO:-0500
TZNAME:America/Toronto EST
END:STANDARD
BEGIN:STANDARD
DTSTART:20311102T010000
RDATE:20320314T030000
TZOFFSETFROM:-0400
TZOFFSETTO:-0500
TZNAME:America/Toronto EST
END:STANDARD
BEGIN:DAYLIGHT
DTSTART:20220624T123000
RDATE:20221106T010000
TZOFFSETFROM:-0500
TZOFFSETTO:-0400
TZNAME:America/Toronto EDT
END:DAYLIGHT
BEGIN:DAYLIGHT
DTSTART:20230312T030000
RDATE:20231105T010000
TZOFFSETFROM:-0500
TZOFFSETTO:-0400
TZNAME:America/Toronto EDT
END:DAYLIGHT
BEGIN:DAYLIGHT
DTSTART:20240310T030000
RDATE:20241103T010000
TZOFFSETFROM:-0500
TZOFFSETTO:-0400
TZNAME:America/Toronto EDT
END:DAYLIGHT
BEGIN:DAYLIGHT
DTSTART:20250309T030000
RDATE:20251102T010000
TZOFFSETFROM:-0500
TZOFFSETTO:-0400
TZNAME:America/Toronto EDT
END:DAYLIGHT
BEGIN:DAYLIGHT
DTSTART:20260308T030000
RDATE:20261101T010000
TZOFFSETFROM:-0500
TZOFFSETTO:-0400
TZNAME:America/Toronto EDT
END:DAYLIGHT
BEGIN:DAYLIGHT
DTSTART:20270314T030000
RDATE:20271107T010000
TZOFFSETFROM:-0500
TZOFFSETTO:-0400
TZNAME:America/Toronto EDT
END:DAYLIGHT
BEGIN:DAYLIGHT
DTSTART:20280312T030000
RDATE:20281105T010000
TZOFFSETFROM:-0500
TZOFFSETTO:-0400
TZNAME:America/Toronto EDT
END:DAYLIGHT
BEGIN:DAYLIGHT
DTSTART:20290311T030000
RDATE:20291104T010000
TZOFFSETFROM:-0500
TZOFFSETTO:-0400
TZNAME:America/Toronto EDT
END:DAYLIGHT
BEGIN:DAYLIGHT
DTSTART:20300310T030000
RDATE:20301103T010000
TZOFFSETFROM:-0500
TZOFFSETTO:-0400
TZNAME:America/Toronto EDT
END:DAYLIGHT
BEGIN:DAYLIGHT
DTSTART:20310309T030000
RDATE:20311102T010000
TZOFFSETFROM:-0500
TZOFFSETTO:-0400
TZNAME:America/Toronto EDT
END:DAYLIGHT
END:VTIMEZONE
BEGIN:VEVENT
UID:fcc15a0dee78a192d83bd01c8815f79d
CATEGORIES:Durham Events
CREATED:20230612T120427
SUMMARY:Clarington Celebrates National Indigenous Peoples Day
LOCATION:Clarington Public Library – Bowmanville Branch\, 163 Church Street\, Bowman
 ville
DESCRIPTION:Clarington Celebrates National Indigenous Peoples Day!  A warm invitation f
 or a day of fun and community relations on the Lands of the Mississaugas an
 d Chippewas of the Williams Treaties First Nations.  Join us on Sunday, Jun
 e 25, 2023 from 12:30 p.m. to 4:00 p.m. as we recognize and honour the uniq
 ue heritage, diverse cultures and outstanding contributions of First Nation
 s, Inuit, and Métis Peoples.  Learn, share, and celebrate Indigenous commun
 ities and their culture through performances, vendors, interactive activiti
 es.  Location:  Clarington Public Library – Bowmanville Branch, 163 Church 
 Street, Bowmanville  Event Website:  National Indigenous Peoples Day Event 
 at Clarington Public Library – Bowmanville Branch - Clarington (https://www
 .clarington.net/en/news/national-indigenous-peoples-day-event-at-clarington
 -public-library-bowmanville-branch.aspx)\n
X-ALT-DESC;FMTTYPE=text/html:<p><b>Clarington Celebrates National Indigenous Peoples Day!</b>  A warm in
 vitation for a day of fun and community relations on the Lands of the Missi
 ssaugas and Chippewas of the Williams Treaties First Nations.  Join us on <
 b>Sunday, June 25, 2023 from 12:30 p.m. to 4:00 p.m</b>. as we recognize an
 d honour the unique heritage, diverse cultures and outstanding contribution
 s of First Nations, Inuit, and Métis Peoples.  Learn, share, and celebrate 
 Indigenous communities and their culture through performances, vendors, int
 eractive activities.  <b>Location</b>:  Clarington Public Library – Bowmanv
 ille Branch, 163 Church Street, Bowmanville  <b>Event Website:</b>  <a titl
 e="https://www.clarington.net/en/news/national-indigenous-peoples-day-event
 -at-clarington-public-library-bowmanville-branch.aspx" href="https://www.cl
 arington.net/en/news/national-indigenous-peoples-day-event-at-clarington-pu
 blic-library-bowmanville-branch.aspx">National Indigenous Peoples Day Event
  at Clarington Public Library – Bowmanville Branch - Clarington</a></p>
DTSTAMP:20260420T212556
DTSTART;TZID=America/Toronto:20230625T123000
DTEND;TZID=America/Toronto:20230625T160000
SEQUENCE:0
TRANSP:OPAQUE
END:VEVENT
END:VCALENDAR