BEGIN:VCALENDAR
VERSION:2.0
PRODID:-//jEvents 2.0 for Joomla//EN
CALSCALE:GREGORIAN
METHOD:PUBLISH
BEGIN:VTIMEZONE
TZID:America/Toronto
BEGIN:STANDARD
DTSTART:20221106T010000
RDATE:20230312T030000
TZOFFSETFROM:-0400
TZOFFSETTO:-0500
TZNAME:America/Toronto EST
END:STANDARD
BEGIN:STANDARD
DTSTART:20231105T010000
RDATE:20240310T030000
TZOFFSETFROM:-0400
TZOFFSETTO:-0500
TZNAME:America/Toronto EST
END:STANDARD
BEGIN:STANDARD
DTSTART:20241103T010000
RDATE:20250309T030000
TZOFFSETFROM:-0400
TZOFFSETTO:-0500
TZNAME:America/Toronto EST
END:STANDARD
BEGIN:STANDARD
DTSTART:20251102T010000
RDATE:20260308T030000
TZOFFSETFROM:-0400
TZOFFSETTO:-0500
TZNAME:America/Toronto EST
END:STANDARD
BEGIN:STANDARD
DTSTART:20261101T010000
RDATE:20270314T030000
TZOFFSETFROM:-0400
TZOFFSETTO:-0500
TZNAME:America/Toronto EST
END:STANDARD
BEGIN:STANDARD
DTSTART:20271107T010000
RDATE:20280312T030000
TZOFFSETFROM:-0400
TZOFFSETTO:-0500
TZNAME:America/Toronto EST
END:STANDARD
BEGIN:STANDARD
DTSTART:20281105T010000
RDATE:20290311T030000
TZOFFSETFROM:-0400
TZOFFSETTO:-0500
TZNAME:America/Toronto EST
END:STANDARD
BEGIN:STANDARD
DTSTART:20291104T010000
RDATE:20300310T030000
TZOFFSETFROM:-0400
TZOFFSETTO:-0500
TZNAME:America/Toronto EST
END:STANDARD
BEGIN:STANDARD
DTSTART:20301103T010000
RDATE:20310309T030000
TZOFFSETFROM:-0400
TZOFFSETTO:-0500
TZNAME:America/Toronto EST
END:STANDARD
BEGIN:STANDARD
DTSTART:20311102T010000
RDATE:20320314T030000
TZOFFSETFROM:-0400
TZOFFSETTO:-0500
TZNAME:America/Toronto EST
END:STANDARD
BEGIN:DAYLIGHT
DTSTART:20220613T200000
RDATE:20221106T010000
TZOFFSETFROM:-0500
TZOFFSETTO:-0400
TZNAME:America/Toronto EDT
END:DAYLIGHT
BEGIN:DAYLIGHT
DTSTART:20230312T030000
RDATE:20231105T010000
TZOFFSETFROM:-0500
TZOFFSETTO:-0400
TZNAME:America/Toronto EDT
END:DAYLIGHT
BEGIN:DAYLIGHT
DTSTART:20240310T030000
RDATE:20241103T010000
TZOFFSETFROM:-0500
TZOFFSETTO:-0400
TZNAME:America/Toronto EDT
END:DAYLIGHT
BEGIN:DAYLIGHT
DTSTART:20250309T030000
RDATE:20251102T010000
TZOFFSETFROM:-0500
TZOFFSETTO:-0400
TZNAME:America/Toronto EDT
END:DAYLIGHT
BEGIN:DAYLIGHT
DTSTART:20260308T030000
RDATE:20261101T010000
TZOFFSETFROM:-0500
TZOFFSETTO:-0400
TZNAME:America/Toronto EDT
END:DAYLIGHT
BEGIN:DAYLIGHT
DTSTART:20270314T030000
RDATE:20271107T010000
TZOFFSETFROM:-0500
TZOFFSETTO:-0400
TZNAME:America/Toronto EDT
END:DAYLIGHT
BEGIN:DAYLIGHT
DTSTART:20280312T030000
RDATE:20281105T010000
TZOFFSETFROM:-0500
TZOFFSETTO:-0400
TZNAME:America/Toronto EDT
END:DAYLIGHT
BEGIN:DAYLIGHT
DTSTART:20290311T030000
RDATE:20291104T010000
TZOFFSETFROM:-0500
TZOFFSETTO:-0400
TZNAME:America/Toronto EDT
END:DAYLIGHT
BEGIN:DAYLIGHT
DTSTART:20300310T030000
RDATE:20301103T010000
TZOFFSETFROM:-0500
TZOFFSETTO:-0400
TZNAME:America/Toronto EDT
END:DAYLIGHT
BEGIN:DAYLIGHT
DTSTART:20310309T030000
RDATE:20311102T010000
TZOFFSETFROM:-0500
TZOFFSETTO:-0400
TZNAME:America/Toronto EDT
END:DAYLIGHT
END:VTIMEZONE
BEGIN:VEVENT
UID:43869c41d0f8f4b4853929b2ffba9243RR36860
CATEGORIES:Durham Events
CREATED:19691231T190000
SUMMARY:The Ballad of Stompin' Tom
LOCATION:Capitol Theatre - 20 Queen Street Port Hope
DESCRIPTION:The songs and stories that celebrate a Canadian Icon!\nCanadian Legend Stom
 pin' Tom Connors grew up in an orphanage, travelled throughout Northern Ont
 ario playign the bar circuit, faced naysayers of all sorts, but he eventual
 ly found hsi success in telling the stories of our country. His captivating
  story is told through this unique performance to celebrate "The Man of the
  Land" and a true icon in Canadian music.\nFeaturing his greatest hits, suc
 h as Bud the Spud, Tillsonburg, Sudbury Saturday Night and of course, The H
 ockey Song.\n
X-ALT-DESC;FMTTYPE=text/html:<p style="margin: 7.5pt 0cm 7.5pt 0cm;"><strong><span style="font-size: 13.
 0pt; font-family: 'Arial',sans-serif; color: #08202b;">The songs and storie
 s that celebrate a Canadian Icon!</span></strong></p><p style="font-variant
 -ligatures: normal; font-variant-caps: normal; orphans: 2; widows: 2; -webk
 it-text-stroke-width: 0px; text-decoration-thickness: initial; text-decorat
 ion-style: initial; text-decoration-color: initial; word-spacing: 0px; marg
 in: 7.5pt 0cm 7.5pt 0cm;"><span style="font-size: 13.0pt; font-family: 'Ari
 al',sans-serif; color: #08202b;">Canadian Legend Stompin' Tom Connors grew 
 up in an orphanage, travelled throughout Northern Ontario playign the bar c
 ircuit, faced naysayers of all sorts, but he eventually found hsi success i
 n telling the stories of our country. His captivating story is told through
  this unique performance to celebrate "The Man of the Land" and a true icon
  in Canadian music.</span></p><p style="font-variant-ligatures: normal; fon
 t-variant-caps: normal; orphans: 2; widows: 2; -webkit-text-stroke-width: 0
 px; text-decoration-thickness: initial; text-decoration-style: initial; tex
 t-decoration-color: initial; word-spacing: 0px; margin: 7.5pt 0cm 7.5pt 0cm
 ;"><span style="font-size: 13.0pt; font-family: 'Arial',sans-serif; color: 
 #08202b;">Featuring his greatest hits, such as <em><span style="font-family
 : 'Arial',sans-serif;">Bud the Spud,</span></em> <em><span style="font-fami
 ly: 'Arial',sans-serif;">Tillsonburg</span></em>, <em><span style="font-fam
 ily: 'Arial',sans-serif;">Sudbury Saturday Night</span></em> and of course,
  <em><span style="font-family: 'Arial',sans-serif;">The Hockey Song</span><
 /em>.</span></p>
CONTACT:Box Office at 905-885-1071
X-EXTRAINFO:Tickets available through the Box Office or online at www.captoltheatre.com
DTSTAMP:20260420T213111
DTSTART;TZID=America/Toronto:20230614T200000
DTEND;TZID=America/Toronto:20230614T223000
SEQUENCE:0
TRANSP:OPAQUE
END:VEVENT
END:VCALENDAR