BEGIN:VCALENDAR
VERSION:2.0
PRODID:-//jEvents 2.0 for Joomla//EN
CALSCALE:GREGORIAN
METHOD:PUBLISH
BEGIN:VTIMEZONE
TZID:America/Toronto
BEGIN:STANDARD
DTSTART:20221106T010000
RDATE:20230312T030000
TZOFFSETFROM:-0400
TZOFFSETTO:-0500
TZNAME:America/Toronto EST
END:STANDARD
BEGIN:STANDARD
DTSTART:20231105T010000
RDATE:20240310T030000
TZOFFSETFROM:-0400
TZOFFSETTO:-0500
TZNAME:America/Toronto EST
END:STANDARD
BEGIN:STANDARD
DTSTART:20241103T010000
RDATE:20250309T030000
TZOFFSETFROM:-0400
TZOFFSETTO:-0500
TZNAME:America/Toronto EST
END:STANDARD
BEGIN:STANDARD
DTSTART:20251102T010000
RDATE:20260308T030000
TZOFFSETFROM:-0400
TZOFFSETTO:-0500
TZNAME:America/Toronto EST
END:STANDARD
BEGIN:STANDARD
DTSTART:20261101T010000
RDATE:20270314T030000
TZOFFSETFROM:-0400
TZOFFSETTO:-0500
TZNAME:America/Toronto EST
END:STANDARD
BEGIN:STANDARD
DTSTART:20271107T010000
RDATE:20280312T030000
TZOFFSETFROM:-0400
TZOFFSETTO:-0500
TZNAME:America/Toronto EST
END:STANDARD
BEGIN:STANDARD
DTSTART:20281105T010000
RDATE:20290311T030000
TZOFFSETFROM:-0400
TZOFFSETTO:-0500
TZNAME:America/Toronto EST
END:STANDARD
BEGIN:STANDARD
DTSTART:20291104T010000
RDATE:20300310T030000
TZOFFSETFROM:-0400
TZOFFSETTO:-0500
TZNAME:America/Toronto EST
END:STANDARD
BEGIN:STANDARD
DTSTART:20301103T010000
RDATE:20310309T030000
TZOFFSETFROM:-0400
TZOFFSETTO:-0500
TZNAME:America/Toronto EST
END:STANDARD
BEGIN:STANDARD
DTSTART:20311102T010000
RDATE:20320314T030000
TZOFFSETFROM:-0400
TZOFFSETTO:-0500
TZNAME:America/Toronto EST
END:STANDARD
BEGIN:DAYLIGHT
DTSTART:20220819T100000
RDATE:20221106T010000
TZOFFSETFROM:-0500
TZOFFSETTO:-0400
TZNAME:America/Toronto EDT
END:DAYLIGHT
BEGIN:DAYLIGHT
DTSTART:20230312T030000
RDATE:20231105T010000
TZOFFSETFROM:-0500
TZOFFSETTO:-0400
TZNAME:America/Toronto EDT
END:DAYLIGHT
BEGIN:DAYLIGHT
DTSTART:20240310T030000
RDATE:20241103T010000
TZOFFSETFROM:-0500
TZOFFSETTO:-0400
TZNAME:America/Toronto EDT
END:DAYLIGHT
BEGIN:DAYLIGHT
DTSTART:20250309T030000
RDATE:20251102T010000
TZOFFSETFROM:-0500
TZOFFSETTO:-0400
TZNAME:America/Toronto EDT
END:DAYLIGHT
BEGIN:DAYLIGHT
DTSTART:20260308T030000
RDATE:20261101T010000
TZOFFSETFROM:-0500
TZOFFSETTO:-0400
TZNAME:America/Toronto EDT
END:DAYLIGHT
BEGIN:DAYLIGHT
DTSTART:20270314T030000
RDATE:20271107T010000
TZOFFSETFROM:-0500
TZOFFSETTO:-0400
TZNAME:America/Toronto EDT
END:DAYLIGHT
BEGIN:DAYLIGHT
DTSTART:20280312T030000
RDATE:20281105T010000
TZOFFSETFROM:-0500
TZOFFSETTO:-0400
TZNAME:America/Toronto EDT
END:DAYLIGHT
BEGIN:DAYLIGHT
DTSTART:20290311T030000
RDATE:20291104T010000
TZOFFSETFROM:-0500
TZOFFSETTO:-0400
TZNAME:America/Toronto EDT
END:DAYLIGHT
BEGIN:DAYLIGHT
DTSTART:20300310T030000
RDATE:20301103T010000
TZOFFSETFROM:-0500
TZOFFSETTO:-0400
TZNAME:America/Toronto EDT
END:DAYLIGHT
BEGIN:DAYLIGHT
DTSTART:20310309T030000
RDATE:20311102T010000
TZOFFSETFROM:-0500
TZOFFSETTO:-0400
TZNAME:America/Toronto EDT
END:DAYLIGHT
END:VTIMEZONE
BEGIN:VEVENT
UID:3bbbe3cd7e5d2c6969a935930b8b0b14
CATEGORIES:Durham Events
CREATED:20230703T210327
SUMMARY:Fascinators and Fancy Hats Workshop
LOCATION:Lynde House Museum\, 900 Brock St. S. Whitby
DESCRIPTION:Fascinators &amp; Fancy Hats Millinery WorkshopAugust 20 @ 10:00am - 12:30p
 mFASCINATORS &amp; FANCY HATS\nMillinery Workshopfacilitated by Patty Davis
 Learn the techniques to create your own one-of-a-kind piece, perfect to wea
 r to any garden party! Workshop fee includes all the supplies you will need
  to create one hat.\nThis event is part of Victorian Workshop Sunday – Regi
 ster for all 3 events and save $15!\nREGISTER ONLINE (https://warren-genera
 l-store.square.site/product/aug-20-fascinators-fancy-hats-millinery-worksho
 p/2053)\nREGISTER BY PHONE: 905-665-3131\n
X-ALT-DESC;FMTTYPE=text/html:<h1 class="tribe-events-single-event-title">Fascinators &amp; Fancy Hats Mi
 llinery Workshop</h1><div class="tribe-events-schedule tribe-clearfix"><h2>
 <span class="tribe-event-date-start">August 20 @ 10:00am</span> - <span cla
 ss="tribe-event-time">12:30pm</span></h2></div><div id="post-7015" class="p
 ost-7015 tribe_events type-tribe_events status-publish hentry"><div class="
 tribe-events-single-event-description tribe-events-content"><h3><strong>FAS
 CINATORS &amp; FANCY HATS<br /></strong>Millinery Workshop</h3><h4><em>faci
 litated by Patty Davis</em></h4><p>Learn the techniques to create your own 
 one-of-a-kind piece, perfect to wear to any garden party! Workshop fee incl
 udes all the supplies you will need to create one hat.</p><p><strong>This e
 vent is part of Victorian Workshop Sunday – Register for all 3 events and s
 ave $15!</strong></p><p><a href="https://warren-general-store.square.site/p
 roduct/aug-20-fascinators-fancy-hats-millinery-workshop/2053">REGISTER ONLI
 NE</a><br />REGISTER BY PHONE: 905-665-3131</p></div></div>
CONTACT:This email address is being protected from spambots. You need JavaScript enabled to view it.
X-EXTRAINFO:Please pre-register
DTSTAMP:20260420T064136
DTSTART;TZID=America/Toronto:20230820T100000
DTEND;TZID=America/Toronto:20230820T123000
SEQUENCE:0
TRANSP:OPAQUE
END:VEVENT
END:VCALENDAR