BEGIN:VCALENDAR
VERSION:2.0
PRODID:-//jEvents 2.0 for Joomla//EN
CALSCALE:GREGORIAN
METHOD:PUBLISH
BEGIN:VTIMEZONE
TZID:America/Toronto
BEGIN:STANDARD
DTSTART:20221106T010000
RDATE:20230312T030000
TZOFFSETFROM:-0400
TZOFFSETTO:-0500
TZNAME:America/Toronto EST
END:STANDARD
BEGIN:STANDARD
DTSTART:20231105T010000
RDATE:20240310T030000
TZOFFSETFROM:-0400
TZOFFSETTO:-0500
TZNAME:America/Toronto EST
END:STANDARD
BEGIN:STANDARD
DTSTART:20241103T010000
RDATE:20250309T030000
TZOFFSETFROM:-0400
TZOFFSETTO:-0500
TZNAME:America/Toronto EST
END:STANDARD
BEGIN:STANDARD
DTSTART:20251102T010000
RDATE:20260308T030000
TZOFFSETFROM:-0400
TZOFFSETTO:-0500
TZNAME:America/Toronto EST
END:STANDARD
BEGIN:STANDARD
DTSTART:20261101T010000
RDATE:20270314T030000
TZOFFSETFROM:-0400
TZOFFSETTO:-0500
TZNAME:America/Toronto EST
END:STANDARD
BEGIN:STANDARD
DTSTART:20271107T010000
RDATE:20280312T030000
TZOFFSETFROM:-0400
TZOFFSETTO:-0500
TZNAME:America/Toronto EST
END:STANDARD
BEGIN:STANDARD
DTSTART:20281105T010000
RDATE:20290311T030000
TZOFFSETFROM:-0400
TZOFFSETTO:-0500
TZNAME:America/Toronto EST
END:STANDARD
BEGIN:STANDARD
DTSTART:20291104T010000
RDATE:20300310T030000
TZOFFSETFROM:-0400
TZOFFSETTO:-0500
TZNAME:America/Toronto EST
END:STANDARD
BEGIN:STANDARD
DTSTART:20301103T010000
RDATE:20310309T030000
TZOFFSETFROM:-0400
TZOFFSETTO:-0500
TZNAME:America/Toronto EST
END:STANDARD
BEGIN:STANDARD
DTSTART:20311102T010000
RDATE:20320314T030000
TZOFFSETFROM:-0400
TZOFFSETTO:-0500
TZNAME:America/Toronto EST
END:STANDARD
BEGIN:DAYLIGHT
DTSTART:20220721T110000
RDATE:20221106T010000
TZOFFSETFROM:-0500
TZOFFSETTO:-0400
TZNAME:America/Toronto EDT
END:DAYLIGHT
BEGIN:DAYLIGHT
DTSTART:20230312T030000
RDATE:20231105T010000
TZOFFSETFROM:-0500
TZOFFSETTO:-0400
TZNAME:America/Toronto EDT
END:DAYLIGHT
BEGIN:DAYLIGHT
DTSTART:20240310T030000
RDATE:20241103T010000
TZOFFSETFROM:-0500
TZOFFSETTO:-0400
TZNAME:America/Toronto EDT
END:DAYLIGHT
BEGIN:DAYLIGHT
DTSTART:20250309T030000
RDATE:20251102T010000
TZOFFSETFROM:-0500
TZOFFSETTO:-0400
TZNAME:America/Toronto EDT
END:DAYLIGHT
BEGIN:DAYLIGHT
DTSTART:20260308T030000
RDATE:20261101T010000
TZOFFSETFROM:-0500
TZOFFSETTO:-0400
TZNAME:America/Toronto EDT
END:DAYLIGHT
BEGIN:DAYLIGHT
DTSTART:20270314T030000
RDATE:20271107T010000
TZOFFSETFROM:-0500
TZOFFSETTO:-0400
TZNAME:America/Toronto EDT
END:DAYLIGHT
BEGIN:DAYLIGHT
DTSTART:20280312T030000
RDATE:20281105T010000
TZOFFSETFROM:-0500
TZOFFSETTO:-0400
TZNAME:America/Toronto EDT
END:DAYLIGHT
BEGIN:DAYLIGHT
DTSTART:20290311T030000
RDATE:20291104T010000
TZOFFSETFROM:-0500
TZOFFSETTO:-0400
TZNAME:America/Toronto EDT
END:DAYLIGHT
BEGIN:DAYLIGHT
DTSTART:20300310T030000
RDATE:20301103T010000
TZOFFSETFROM:-0500
TZOFFSETTO:-0400
TZNAME:America/Toronto EDT
END:DAYLIGHT
BEGIN:DAYLIGHT
DTSTART:20310309T030000
RDATE:20311102T010000
TZOFFSETFROM:-0500
TZOFFSETTO:-0400
TZNAME:America/Toronto EDT
END:DAYLIGHT
END:VTIMEZONE
BEGIN:VEVENT
UID:d19b699edceca46041e2a9a44f055975
CATEGORIES:Durham Events
CREATED:20230713T150021
SUMMARY:Summer Shop Local Market
LOCATION:Durham Shriners Hall 1626 Simcoe Street North Oshawa
DESCRIPTION:<div class="xdj266r x11i5rnm xat24cr x1mh8g0r x1vvkbs">Handmade &amp; Local
  Markets Ontario presents our 3rd market of the year! The Summer Market is 
 on July 22 2023 from 11am-5pm at Durham Shriners Banquet Hall at 1626 Simco
 e St N Oshawa.</div><div class="x11i5rnm xat24cr x1mh8g0r x1vvkbs xtlvy1s">
 Explore some of Clarington &amp; Durham Region’s Finest Small Businesses at
  our markets. Handmade &amp; Local! Free public admission. 30 FREE Door Pri
 zes for our first 30 guests. Free treats and more.</div><div class="x11i5rn
 m xat24cr x1mh8g0r x1vvkbs xtlvy1s">Doors open at 11AM!</div><div class="x1
 1i5rnm xat24cr x1mh8g0r x1vvkbs xtlvy1s">OUR FREE FACE PAINTING WILL NOT BE
  AT THIS EVENT - Instead we have a ton of really amazing door prizes for yo
 u!<br />There will also be a Henna Artist (Ritistic Henna) on site!</div><d
 iv class="x11i5rnm xat24cr x1mh8g0r x1vvkbs xtlvy1s">We showcase small busi
 nesses from Northumberland to the GTA. When you shop local as opposed to bi
 g box retail, you actually encourage your funds to be circulated back into 
 your local community. We're helping you do just that.</div><div class="x11i
 5rnm xat24cr x1mh8g0r x1vvkbs xtlvy1s">SHOP LOCAL!</div><div class="x11i5rn
 m xat24cr x1mh8g0r x1vvkbs xtlvy1s">If you're a vendor looking to fill a la
 st minute spot next weekend, email us for a form and we may be able to sque
 eze you in!</div><div class="x11i5rnm xat24cr x1mh8g0r x1vvkbs xtlvy1s">Vis
 it our website for more information</div><div class="x11i5rnm xat24cr x1mh8
 g0r x1vvkbs xtlvy1s"><a class="x1i10hfl xjbqb8w x6umtig x1b1mbwd xaqea5y xa
 v7gou x9f619 x1ypdohk xt0psk2 xe8uvvx xdj266r x11i5rnm xat24cr x1mh8g0r xex
 x8yu x4uap5 x18d9i69 xkhd6sd x16tdsg8 x1hl2dhg xggy1nq x1a2a7pz xt0b8zv x1f
 ey0fg" tabindex="0" href="https://linktr.ee/handmadeandlocalmarkets?fbclid=
 IwAR2xkpLOmwPGVm4RRYmqEIyRj2gkPZ96sMb0Wvu2fd_di_AVIAw5799FTFg" target="_bla
 nk" rel="nofollow noopener noreferrer">https://linktr.ee/handmadeandlocalma
 rkets</a> </div>
CONTACT:Handmade &amp; Local Markets ON
DTSTAMP:20260420T094712
DTSTART;TZID=America/Toronto:20230722T110000
DTEND;TZID=America/Toronto:20230722T170000
SEQUENCE:0
TRANSP:OPAQUE
END:VEVENT
END:VCALENDAR