BEGIN:VCALENDAR
VERSION:2.0
PRODID:-//jEvents 2.0 for Joomla//EN
CALSCALE:GREGORIAN
METHOD:PUBLISH
BEGIN:VTIMEZONE
TZID:America/Toronto
BEGIN:STANDARD
DTSTART:20221106T010000
RDATE:20230312T030000
TZOFFSETFROM:-0400
TZOFFSETTO:-0500
TZNAME:America/Toronto EST
END:STANDARD
BEGIN:STANDARD
DTSTART:20231105T010000
RDATE:20240310T030000
TZOFFSETFROM:-0400
TZOFFSETTO:-0500
TZNAME:America/Toronto EST
END:STANDARD
BEGIN:STANDARD
DTSTART:20241103T010000
RDATE:20250309T030000
TZOFFSETFROM:-0400
TZOFFSETTO:-0500
TZNAME:America/Toronto EST
END:STANDARD
BEGIN:STANDARD
DTSTART:20251102T010000
RDATE:20260308T030000
TZOFFSETFROM:-0400
TZOFFSETTO:-0500
TZNAME:America/Toronto EST
END:STANDARD
BEGIN:STANDARD
DTSTART:20261101T010000
RDATE:20270314T030000
TZOFFSETFROM:-0400
TZOFFSETTO:-0500
TZNAME:America/Toronto EST
END:STANDARD
BEGIN:STANDARD
DTSTART:20271107T010000
RDATE:20280312T030000
TZOFFSETFROM:-0400
TZOFFSETTO:-0500
TZNAME:America/Toronto EST
END:STANDARD
BEGIN:STANDARD
DTSTART:20281105T010000
RDATE:20290311T030000
TZOFFSETFROM:-0400
TZOFFSETTO:-0500
TZNAME:America/Toronto EST
END:STANDARD
BEGIN:STANDARD
DTSTART:20291104T010000
RDATE:20300310T030000
TZOFFSETFROM:-0400
TZOFFSETTO:-0500
TZNAME:America/Toronto EST
END:STANDARD
BEGIN:STANDARD
DTSTART:20301103T010000
RDATE:20310309T030000
TZOFFSETFROM:-0400
TZOFFSETTO:-0500
TZNAME:America/Toronto EST
END:STANDARD
BEGIN:STANDARD
DTSTART:20311102T010000
RDATE:20320314T030000
TZOFFSETFROM:-0400
TZOFFSETTO:-0500
TZNAME:America/Toronto EST
END:STANDARD
BEGIN:DAYLIGHT
DTSTART:20220818T110000
RDATE:20221106T010000
TZOFFSETFROM:-0500
TZOFFSETTO:-0400
TZNAME:America/Toronto EDT
END:DAYLIGHT
BEGIN:DAYLIGHT
DTSTART:20230312T030000
RDATE:20231105T010000
TZOFFSETFROM:-0500
TZOFFSETTO:-0400
TZNAME:America/Toronto EDT
END:DAYLIGHT
BEGIN:DAYLIGHT
DTSTART:20240310T030000
RDATE:20241103T010000
TZOFFSETFROM:-0500
TZOFFSETTO:-0400
TZNAME:America/Toronto EDT
END:DAYLIGHT
BEGIN:DAYLIGHT
DTSTART:20250309T030000
RDATE:20251102T010000
TZOFFSETFROM:-0500
TZOFFSETTO:-0400
TZNAME:America/Toronto EDT
END:DAYLIGHT
BEGIN:DAYLIGHT
DTSTART:20260308T030000
RDATE:20261101T010000
TZOFFSETFROM:-0500
TZOFFSETTO:-0400
TZNAME:America/Toronto EDT
END:DAYLIGHT
BEGIN:DAYLIGHT
DTSTART:20270314T030000
RDATE:20271107T010000
TZOFFSETFROM:-0500
TZOFFSETTO:-0400
TZNAME:America/Toronto EDT
END:DAYLIGHT
BEGIN:DAYLIGHT
DTSTART:20280312T030000
RDATE:20281105T010000
TZOFFSETFROM:-0500
TZOFFSETTO:-0400
TZNAME:America/Toronto EDT
END:DAYLIGHT
BEGIN:DAYLIGHT
DTSTART:20290311T030000
RDATE:20291104T010000
TZOFFSETFROM:-0500
TZOFFSETTO:-0400
TZNAME:America/Toronto EDT
END:DAYLIGHT
BEGIN:DAYLIGHT
DTSTART:20300310T030000
RDATE:20301103T010000
TZOFFSETFROM:-0500
TZOFFSETTO:-0400
TZNAME:America/Toronto EDT
END:DAYLIGHT
BEGIN:DAYLIGHT
DTSTART:20310309T030000
RDATE:20311102T010000
TZOFFSETFROM:-0500
TZOFFSETTO:-0400
TZNAME:America/Toronto EDT
END:DAYLIGHT
END:VTIMEZONE
BEGIN:VEVENT
UID:ea5a401bdecd091ef9da6e85a3332d43
CATEGORIES:Durham Events
CREATED:20230716T183831
SUMMARY:Orono Park 'Buttercup Hollow' Centennial Celebration
LOCATION:Orono Park "Buttercup Hollow"
DESCRIPTION:Come to Buttercup Hollow Parks Centennial Celebration on August 19 2023 fro
 m 11am to 3pm. There will be BBQ, Birthday Cake, a Free Swim, a hardball ga
 me, special guests, learn about the parks history, join in the Orono Creek 
 Floatilla and so much more! Our park turns 100 and we want to see you there
 . Join our event page (https://fb.me/e/4lYaOR7e5) for more details on activ
 ities, special guests along with some history tidbits.The event is brought 
 to you by:\nThe Orono Community Collective, a sub-committee of the Orono DB
 IA, in conjunction with the Municipality of Clarington. Orono Park 'Butterc
 up Hollow' Centennial Celebration (https://fb.me/e/4lYaOR7e5) For more deta
 ils on being a vendor or the event please email: This email address is bein
 g protected from spambots. You need JavaScript enabled to view it. (mailto:
  ORONOCOMMUNITYCOLLECTIVE@OUTLOOK.COM)
X-ALT-DESC;FMTTYPE=text/html:<div class="xdj266r x11i5rnm xat24cr x1mh8g0r x1vvkbs">Come to Buttercup Ho
 llow Parks Centennial Celebration on August 19 2023 from 11am to 3pm. There
  will be BBQ, Birthday Cake, a Free Swim, a hardball game, special guests, 
 learn about the parks history, join in the Orono Creek Floatilla and so muc
 h more! Our park turns 100 and we want to see you there. Join our <a href="
 https://fb.me/e/4lYaOR7e5">event page</a> for more details on activities, s
 pecial guests along with some history tidbits.</div><div class="x11i5rnm xa
 t24cr x1mh8g0r x1vvkbs xtlvy1s">The event is brought to you by:<br />The Or
 ono Community Collective, a sub-committee of the Orono DBIA, in conjunction
  with the Municipality of Clarington.</div><div class="x11i5rnm xat24cr x1m
 h8g0r x1vvkbs xtlvy1s"> </div><div class="x11i5rnm xat24cr x1mh8g0r x1vvkbs
  xtlvy1s"><a title="Orono Park 'Buttercup Hollow' Centennial Celebration" h
 ref="https://fb.me/e/4lYaOR7e5">Orono Park 'Buttercup Hollow' Centennial Ce
 lebration</a></div><div class="x11i5rnm xat24cr x1mh8g0r x1vvkbs xtlvy1s"> 
 </div><div class="x11i5rnm xat24cr x1mh8g0r x1vvkbs xtlvy1s">For more detai
 ls on being a vendor or the event please email: <a href="mailto: ORONOCOMMU
 NITYCOLLECTIVE@OUTLOOK.COM"><joomla-hidden-mail  is-link="1" is-email="1" f
 irst="b3Jvbm9jb21tdW5pdHljb2xsZWN0aXZl" last="b3V0bG9vay5jb20=" text="b3Jvb
 m9jb21tdW5pdHljb2xsZWN0aXZlQG91dGxvb2suY29t" base="" >This email address is
  being protected from spambots. You need JavaScript enabled to view it.</jo
 omla-hidden-mail></a></div>
CONTACT:Sandy Yorke
X-EXTRAINFO:This email address is being protected from spambots. You need JavaScript en
 abled to view it.
DTSTAMP:20260420T031408
DTSTART;TZID=America/Toronto:20230819T110000
DTEND;TZID=America/Toronto:20230819T150000
SEQUENCE:0
TRANSP:OPAQUE
END:VEVENT
END:VCALENDAR