BEGIN:VCALENDAR
VERSION:2.0
PRODID:-//jEvents 2.0 for Joomla//EN
CALSCALE:GREGORIAN
METHOD:PUBLISH
BEGIN:VTIMEZONE
TZID:America/Toronto
BEGIN:STANDARD
DTSTART:20221106T010000
RDATE:20230312T030000
TZOFFSETFROM:-0400
TZOFFSETTO:-0500
TZNAME:America/Toronto EST
END:STANDARD
BEGIN:STANDARD
DTSTART:20231105T010000
RDATE:20240310T030000
TZOFFSETFROM:-0400
TZOFFSETTO:-0500
TZNAME:America/Toronto EST
END:STANDARD
BEGIN:STANDARD
DTSTART:20241103T010000
RDATE:20250309T030000
TZOFFSETFROM:-0400
TZOFFSETTO:-0500
TZNAME:America/Toronto EST
END:STANDARD
BEGIN:STANDARD
DTSTART:20251102T010000
RDATE:20260308T030000
TZOFFSETFROM:-0400
TZOFFSETTO:-0500
TZNAME:America/Toronto EST
END:STANDARD
BEGIN:STANDARD
DTSTART:20261101T010000
RDATE:20270314T030000
TZOFFSETFROM:-0400
TZOFFSETTO:-0500
TZNAME:America/Toronto EST
END:STANDARD
BEGIN:STANDARD
DTSTART:20271107T010000
RDATE:20280312T030000
TZOFFSETFROM:-0400
TZOFFSETTO:-0500
TZNAME:America/Toronto EST
END:STANDARD
BEGIN:STANDARD
DTSTART:20281105T010000
RDATE:20290311T030000
TZOFFSETFROM:-0400
TZOFFSETTO:-0500
TZNAME:America/Toronto EST
END:STANDARD
BEGIN:STANDARD
DTSTART:20291104T010000
RDATE:20300310T030000
TZOFFSETFROM:-0400
TZOFFSETTO:-0500
TZNAME:America/Toronto EST
END:STANDARD
BEGIN:STANDARD
DTSTART:20301103T010000
RDATE:20310309T030000
TZOFFSETFROM:-0400
TZOFFSETTO:-0500
TZNAME:America/Toronto EST
END:STANDARD
BEGIN:STANDARD
DTSTART:20311102T010000
RDATE:20320314T030000
TZOFFSETFROM:-0400
TZOFFSETTO:-0500
TZNAME:America/Toronto EST
END:STANDARD
BEGIN:DAYLIGHT
DTSTART:20220728T080000
RDATE:20221106T010000
TZOFFSETFROM:-0500
TZOFFSETTO:-0400
TZNAME:America/Toronto EDT
END:DAYLIGHT
BEGIN:DAYLIGHT
DTSTART:20230312T030000
RDATE:20231105T010000
TZOFFSETFROM:-0500
TZOFFSETTO:-0400
TZNAME:America/Toronto EDT
END:DAYLIGHT
BEGIN:DAYLIGHT
DTSTART:20240310T030000
RDATE:20241103T010000
TZOFFSETFROM:-0500
TZOFFSETTO:-0400
TZNAME:America/Toronto EDT
END:DAYLIGHT
BEGIN:DAYLIGHT
DTSTART:20250309T030000
RDATE:20251102T010000
TZOFFSETFROM:-0500
TZOFFSETTO:-0400
TZNAME:America/Toronto EDT
END:DAYLIGHT
BEGIN:DAYLIGHT
DTSTART:20260308T030000
RDATE:20261101T010000
TZOFFSETFROM:-0500
TZOFFSETTO:-0400
TZNAME:America/Toronto EDT
END:DAYLIGHT
BEGIN:DAYLIGHT
DTSTART:20270314T030000
RDATE:20271107T010000
TZOFFSETFROM:-0500
TZOFFSETTO:-0400
TZNAME:America/Toronto EDT
END:DAYLIGHT
BEGIN:DAYLIGHT
DTSTART:20280312T030000
RDATE:20281105T010000
TZOFFSETFROM:-0500
TZOFFSETTO:-0400
TZNAME:America/Toronto EDT
END:DAYLIGHT
BEGIN:DAYLIGHT
DTSTART:20290311T030000
RDATE:20291104T010000
TZOFFSETFROM:-0500
TZOFFSETTO:-0400
TZNAME:America/Toronto EDT
END:DAYLIGHT
BEGIN:DAYLIGHT
DTSTART:20300310T030000
RDATE:20301103T010000
TZOFFSETFROM:-0500
TZOFFSETTO:-0400
TZNAME:America/Toronto EDT
END:DAYLIGHT
BEGIN:DAYLIGHT
DTSTART:20310309T030000
RDATE:20311102T010000
TZOFFSETFROM:-0500
TZOFFSETTO:-0400
TZNAME:America/Toronto EDT
END:DAYLIGHT
END:VTIMEZONE
BEGIN:VEVENT
UID:379edcf89ef1f1d13d2db8b592af60ce
CATEGORIES:Durham Events
CREATED:20230717T142734
SUMMARY:Second Chance Wildlife Sanctuary Yard Sale
LOCATION:Second Chance Wildlife Sanctuary 2060 Concession Rd #7\, Pickering\, Ont.
DESCRIPTION:Join us for our Yard Sale.   Rain or Shine we will be there!\nLots of items
  to choose from.  Giftware, clothes, pet items, glassware, art/prints, toys
 , electronics, dvds, records and more. Come visit our Book Tunnel for a lar
 ge selection of books.  All money raised goes directly to the cats at the s
 helter and in our foster homes. We are still in need of items for our yard 
 sale.  Items(in good/working condition) can be left on our porch and recycl
 ables beer cans and wine bottles. Thank you.  Also the sale is on Sun July 
 30/23.  10 a.m. to 2 p.m. \nAt Second Chance Wildlife Sanctuary our goal is
  to find Loving, Forever Homes for as many cats as possible.\nThank you and
  we hope to see you there.  Have a Purrfect Day.\n \n
X-ALT-DESC;FMTTYPE=text/html:<p><strong>Join us for our Yard Sale.   Rain or Shine we will be there!</st
 rong></p><p><strong>Lots of items to choose from.  Giftware, clothes, pet i
 tems, glassware, art/prints, toys, electronics, dvds, records and more. Com
 e visit our Book Tunnel for a large selection of books.  All money raised g
 oes directly to the cats at the shelter and in our foster homes. We are sti
 ll in need of items for our yard sale.  Items(in good/working condition) ca
 n be left on our porch and recyclables beer cans and wine bottles. Thank yo
 u.  Also the sale is on Sun July 30/23.  10 a.m. to 2 p.m. </strong></p><p>
 <strong>At Second Chance Wildlife Sanctuary our goal is to find Loving, For
 ever Homes for as many cats as possible.</strong></p><p><strong>Thank you a
 nd we hope to see you there.  Have a Purrfect Day.</strong></p><p> </p>
CONTACT:905-649-8282
DTSTAMP:20260420T081528
DTSTART;TZID=America/Toronto:20230729T080000
DTEND;TZID=America/Toronto:20230729T150000
SEQUENCE:0
TRANSP:OPAQUE
END:VEVENT
END:VCALENDAR