BEGIN:VCALENDAR
VERSION:2.0
PRODID:-//jEvents 2.0 for Joomla//EN
CALSCALE:GREGORIAN
METHOD:PUBLISH
BEGIN:VTIMEZONE
TZID:America/Toronto
BEGIN:STANDARD
DTSTART:20221106T010000
RDATE:20230312T030000
TZOFFSETFROM:-0400
TZOFFSETTO:-0500
TZNAME:America/Toronto EST
END:STANDARD
BEGIN:STANDARD
DTSTART:20231105T010000
RDATE:20240310T030000
TZOFFSETFROM:-0400
TZOFFSETTO:-0500
TZNAME:America/Toronto EST
END:STANDARD
BEGIN:STANDARD
DTSTART:20241103T010000
RDATE:20250309T030000
TZOFFSETFROM:-0400
TZOFFSETTO:-0500
TZNAME:America/Toronto EST
END:STANDARD
BEGIN:STANDARD
DTSTART:20251102T010000
RDATE:20260308T030000
TZOFFSETFROM:-0400
TZOFFSETTO:-0500
TZNAME:America/Toronto EST
END:STANDARD
BEGIN:STANDARD
DTSTART:20261101T010000
RDATE:20270314T030000
TZOFFSETFROM:-0400
TZOFFSETTO:-0500
TZNAME:America/Toronto EST
END:STANDARD
BEGIN:STANDARD
DTSTART:20271107T010000
RDATE:20280312T030000
TZOFFSETFROM:-0400
TZOFFSETTO:-0500
TZNAME:America/Toronto EST
END:STANDARD
BEGIN:STANDARD
DTSTART:20281105T010000
RDATE:20290311T030000
TZOFFSETFROM:-0400
TZOFFSETTO:-0500
TZNAME:America/Toronto EST
END:STANDARD
BEGIN:STANDARD
DTSTART:20291104T010000
RDATE:20300310T030000
TZOFFSETFROM:-0400
TZOFFSETTO:-0500
TZNAME:America/Toronto EST
END:STANDARD
BEGIN:STANDARD
DTSTART:20301103T010000
RDATE:20310309T030000
TZOFFSETFROM:-0400
TZOFFSETTO:-0500
TZNAME:America/Toronto EST
END:STANDARD
BEGIN:STANDARD
DTSTART:20311102T010000
RDATE:20320314T030000
TZOFFSETFROM:-0400
TZOFFSETTO:-0500
TZNAME:America/Toronto EST
END:STANDARD
BEGIN:DAYLIGHT
DTSTART:20220728T090000
RDATE:20221106T010000
TZOFFSETFROM:-0500
TZOFFSETTO:-0400
TZNAME:America/Toronto EDT
END:DAYLIGHT
BEGIN:DAYLIGHT
DTSTART:20230312T030000
RDATE:20231105T010000
TZOFFSETFROM:-0500
TZOFFSETTO:-0400
TZNAME:America/Toronto EDT
END:DAYLIGHT
BEGIN:DAYLIGHT
DTSTART:20240310T030000
RDATE:20241103T010000
TZOFFSETFROM:-0500
TZOFFSETTO:-0400
TZNAME:America/Toronto EDT
END:DAYLIGHT
BEGIN:DAYLIGHT
DTSTART:20250309T030000
RDATE:20251102T010000
TZOFFSETFROM:-0500
TZOFFSETTO:-0400
TZNAME:America/Toronto EDT
END:DAYLIGHT
BEGIN:DAYLIGHT
DTSTART:20260308T030000
RDATE:20261101T010000
TZOFFSETFROM:-0500
TZOFFSETTO:-0400
TZNAME:America/Toronto EDT
END:DAYLIGHT
BEGIN:DAYLIGHT
DTSTART:20270314T030000
RDATE:20271107T010000
TZOFFSETFROM:-0500
TZOFFSETTO:-0400
TZNAME:America/Toronto EDT
END:DAYLIGHT
BEGIN:DAYLIGHT
DTSTART:20280312T030000
RDATE:20281105T010000
TZOFFSETFROM:-0500
TZOFFSETTO:-0400
TZNAME:America/Toronto EDT
END:DAYLIGHT
BEGIN:DAYLIGHT
DTSTART:20290311T030000
RDATE:20291104T010000
TZOFFSETFROM:-0500
TZOFFSETTO:-0400
TZNAME:America/Toronto EDT
END:DAYLIGHT
BEGIN:DAYLIGHT
DTSTART:20300310T030000
RDATE:20301103T010000
TZOFFSETFROM:-0500
TZOFFSETTO:-0400
TZNAME:America/Toronto EDT
END:DAYLIGHT
BEGIN:DAYLIGHT
DTSTART:20310309T030000
RDATE:20311102T010000
TZOFFSETFROM:-0500
TZOFFSETTO:-0400
TZNAME:America/Toronto EDT
END:DAYLIGHT
END:VTIMEZONE
BEGIN:VEVENT
UID:68fa7c6e4945dd5b69664ba52aa44c33
CATEGORIES:Durham Events
CREATED:20230718T204634
SUMMARY:Car Wash for a Cause
LOCATION:900 King St E\, Oshawa
DESCRIPTION:<p> </p><p>REV UP FOR A REFRESHING CAR WASH FOR A CAUSE</p><p><strong>Oshaw
 a, ON </strong>- Durham Deaf Services (DDS) is ready to make a splash this 
 summer as they host their first-ever Car Wash for a Cause fundraising event
  on July 29th. The drop-in event will take place at 900 King Street East in
  Oshawa from 9 a.m. until 4 p.m., with food and refreshments available from
  11:30 a.m. to 1 p.m. </p><p>Embrace the feel-good factor while we pamper y
 our wheels - for just $10 a car, participants can help DDS raise funds for 
 children's events, community programming, learning resources and more. This
  is also an opportunity to meet with DDS' new Executive Director, Sarah Col
 beck. Sarah joined DDS at the beginning of June and is excited to offer mor
 e community fundraising events throughout the year.</p><p> </p><p><strong>A
 bout Durham Deaf Services </strong></p><p>Durham Deaf Services has been ser
 ving the community for more than 40 years. DDS aims to promote independence
  and autonomy for all in the Deaf, deafened, and hard-of-hearing community 
 by eliminating barriers to participation and preserving Deaf culture, langu
 age, and heritage.</p><p> </p><p>Please contact us at 905-579-3328 or <joom
 la-hidden-mail  is-link="1" is-email="1" first="aW5mbw==" last="ZHVyaGFtZGV
 hZi5vcmc=" text="aW5mb0BkdXJoYW1kZWFmLm9yZw==" base="" >This email address 
 is being protected from spambots. You need JavaScript enabled to view it.</
 joomla-hidden-mail> for more information.</p>
CONTACT:905-579-3328
DTSTAMP:20260420T094712
DTSTART;TZID=America/Toronto:20230729T090000
DTEND;TZID=America/Toronto:20230729T160000
SEQUENCE:0
TRANSP:OPAQUE
END:VEVENT
END:VCALENDAR