BEGIN:VCALENDAR
VERSION:2.0
PRODID:-//jEvents 2.0 for Joomla//EN
CALSCALE:GREGORIAN
METHOD:PUBLISH
BEGIN:VTIMEZONE
TZID:America/Toronto
BEGIN:STANDARD
DTSTART:20221106T010000
RDATE:20230312T030000
TZOFFSETFROM:-0400
TZOFFSETTO:-0500
TZNAME:America/Toronto EST
END:STANDARD
BEGIN:STANDARD
DTSTART:20231105T010000
RDATE:20240310T030000
TZOFFSETFROM:-0400
TZOFFSETTO:-0500
TZNAME:America/Toronto EST
END:STANDARD
BEGIN:STANDARD
DTSTART:20241103T010000
RDATE:20250309T030000
TZOFFSETFROM:-0400
TZOFFSETTO:-0500
TZNAME:America/Toronto EST
END:STANDARD
BEGIN:STANDARD
DTSTART:20251102T010000
RDATE:20260308T030000
TZOFFSETFROM:-0400
TZOFFSETTO:-0500
TZNAME:America/Toronto EST
END:STANDARD
BEGIN:STANDARD
DTSTART:20261101T010000
RDATE:20270314T030000
TZOFFSETFROM:-0400
TZOFFSETTO:-0500
TZNAME:America/Toronto EST
END:STANDARD
BEGIN:STANDARD
DTSTART:20271107T010000
RDATE:20280312T030000
TZOFFSETFROM:-0400
TZOFFSETTO:-0500
TZNAME:America/Toronto EST
END:STANDARD
BEGIN:STANDARD
DTSTART:20281105T010000
RDATE:20290311T030000
TZOFFSETFROM:-0400
TZOFFSETTO:-0500
TZNAME:America/Toronto EST
END:STANDARD
BEGIN:STANDARD
DTSTART:20291104T010000
RDATE:20300310T030000
TZOFFSETFROM:-0400
TZOFFSETTO:-0500
TZNAME:America/Toronto EST
END:STANDARD
BEGIN:STANDARD
DTSTART:20301103T010000
RDATE:20310309T030000
TZOFFSETFROM:-0400
TZOFFSETTO:-0500
TZNAME:America/Toronto EST
END:STANDARD
BEGIN:STANDARD
DTSTART:20311102T010000
RDATE:20320314T030000
TZOFFSETFROM:-0400
TZOFFSETTO:-0500
TZNAME:America/Toronto EST
END:STANDARD
BEGIN:DAYLIGHT
DTSTART:20220728T120000
RDATE:20221106T010000
TZOFFSETFROM:-0500
TZOFFSETTO:-0400
TZNAME:America/Toronto EDT
END:DAYLIGHT
BEGIN:DAYLIGHT
DTSTART:20230312T030000
RDATE:20231105T010000
TZOFFSETFROM:-0500
TZOFFSETTO:-0400
TZNAME:America/Toronto EDT
END:DAYLIGHT
BEGIN:DAYLIGHT
DTSTART:20240310T030000
RDATE:20241103T010000
TZOFFSETFROM:-0500
TZOFFSETTO:-0400
TZNAME:America/Toronto EDT
END:DAYLIGHT
BEGIN:DAYLIGHT
DTSTART:20250309T030000
RDATE:20251102T010000
TZOFFSETFROM:-0500
TZOFFSETTO:-0400
TZNAME:America/Toronto EDT
END:DAYLIGHT
BEGIN:DAYLIGHT
DTSTART:20260308T030000
RDATE:20261101T010000
TZOFFSETFROM:-0500
TZOFFSETTO:-0400
TZNAME:America/Toronto EDT
END:DAYLIGHT
BEGIN:DAYLIGHT
DTSTART:20270314T030000
RDATE:20271107T010000
TZOFFSETFROM:-0500
TZOFFSETTO:-0400
TZNAME:America/Toronto EDT
END:DAYLIGHT
BEGIN:DAYLIGHT
DTSTART:20280312T030000
RDATE:20281105T010000
TZOFFSETFROM:-0500
TZOFFSETTO:-0400
TZNAME:America/Toronto EDT
END:DAYLIGHT
BEGIN:DAYLIGHT
DTSTART:20290311T030000
RDATE:20291104T010000
TZOFFSETFROM:-0500
TZOFFSETTO:-0400
TZNAME:America/Toronto EDT
END:DAYLIGHT
BEGIN:DAYLIGHT
DTSTART:20300310T030000
RDATE:20301103T010000
TZOFFSETFROM:-0500
TZOFFSETTO:-0400
TZNAME:America/Toronto EDT
END:DAYLIGHT
BEGIN:DAYLIGHT
DTSTART:20310309T030000
RDATE:20311102T010000
TZOFFSETFROM:-0500
TZOFFSETTO:-0400
TZNAME:America/Toronto EDT
END:DAYLIGHT
END:VTIMEZONE
BEGIN:VEVENT
UID:bc6514a2764eb1f4cb03dea7a979870f
CATEGORIES:Durham Events
CREATED:20230724T123421
SUMMARY:Newcastle Community Hall 100th Anniversary
LOCATION:Newcastle Community Hall
DESCRIPTION:NEWCASTLE COMMUNITY HALL 100TH ANNIVERSARY CELEBRATION OPENING CEREMONY STA
 RTS AT NOON AND THE FUN RUNS UNTIL 10PM!\n\n - Kids Zone featuring guests E
 lsa &amp; Spiderman\n - Local Indigenous Artists\n - Enjoy LIVE entertainme
 nt!\n - Checkout the Refreshment Garden and bring your Hall photos to share
 \n - Newcastle Historical Display Hall Tours\n - Grab a slice of pie for $2
 !\n - Tractor Show\n - Wagon Rides, Shuttle Service\n - FIREWORKS and more!
 More information is available here (https://www.facebook.com/events/1723812
 824714811/?acontext=%7B%22ref%22%3A%2252%22%2C%22action_history%22%3A%22[%7
 B%5C%22surface%5C%22%3A%5C%22share_link%5C%22%2C%5C%22mechanism%5C%22%3A%5C
 %22share_link%5C%22%2C%5C%22extra_data%5C%22%3A%7B%5C%22invite_link_id%5C%2
 2%3A221553363974596%7D%7D]%22%7D).\n
X-ALT-DESC;FMTTYPE=text/html:<p>NEWCASTLE COMMUNITY HALL 100TH ANNIVERSARY CELEBRATION OPENING CEREMONY 
 STARTS AT NOON AND THE FUN RUNS UNTIL 10PM!</p><ul><li>Kids Zone featuring 
 guests Elsa &amp; Spiderman</li><li>Local Indigenous Artists</li><li>Enjoy 
 LIVE entertainment!</li><li>Checkout the Refreshment Garden and bring your 
 Hall photos to share</li><li>Newcastle Historical Display Hall Tours</li><l
 i>Grab a slice of pie for $2!</li><li>Tractor Show</li><li>Wagon Rides, Shu
 ttle Service</li><li>FIREWORKS and more!</li></ul><p>More information is av
 ailable <a href="https://www.facebook.com/events/1723812824714811/?acontext
 =%7B%22ref%22%3A%2252%22%2C%22action_history%22%3A%22[%7B%5C%22surface%5C%2
 2%3A%5C%22share_link%5C%22%2C%5C%22mechanism%5C%22%3A%5C%22share_link%5C%22
 %2C%5C%22extra_data%5C%22%3A%7B%5C%22invite_link_id%5C%22%3A221553363974596
 %7D%7D]%22%7D">here</a>.</p>
DTSTAMP:20260420T111122
DTSTART;TZID=America/Toronto:20230729T120000
DTEND;TZID=America/Toronto:20230729T220000
SEQUENCE:0
TRANSP:OPAQUE
END:VEVENT
END:VCALENDAR