BEGIN:VCALENDAR
VERSION:2.0
PRODID:-//jEvents 2.0 for Joomla//EN
CALSCALE:GREGORIAN
METHOD:PUBLISH
BEGIN:VTIMEZONE
TZID:America/Toronto
BEGIN:STANDARD
DTSTART:20221106T010000
RDATE:20230312T030000
TZOFFSETFROM:-0400
TZOFFSETTO:-0500
TZNAME:America/Toronto EST
END:STANDARD
BEGIN:STANDARD
DTSTART:20231105T010000
RDATE:20240310T030000
TZOFFSETFROM:-0400
TZOFFSETTO:-0500
TZNAME:America/Toronto EST
END:STANDARD
BEGIN:STANDARD
DTSTART:20241103T010000
RDATE:20250309T030000
TZOFFSETFROM:-0400
TZOFFSETTO:-0500
TZNAME:America/Toronto EST
END:STANDARD
BEGIN:STANDARD
DTSTART:20251102T010000
RDATE:20260308T030000
TZOFFSETFROM:-0400
TZOFFSETTO:-0500
TZNAME:America/Toronto EST
END:STANDARD
BEGIN:STANDARD
DTSTART:20261101T010000
RDATE:20270314T030000
TZOFFSETFROM:-0400
TZOFFSETTO:-0500
TZNAME:America/Toronto EST
END:STANDARD
BEGIN:STANDARD
DTSTART:20271107T010000
RDATE:20280312T030000
TZOFFSETFROM:-0400
TZOFFSETTO:-0500
TZNAME:America/Toronto EST
END:STANDARD
BEGIN:STANDARD
DTSTART:20281105T010000
RDATE:20290311T030000
TZOFFSETFROM:-0400
TZOFFSETTO:-0500
TZNAME:America/Toronto EST
END:STANDARD
BEGIN:STANDARD
DTSTART:20291104T010000
RDATE:20300310T030000
TZOFFSETFROM:-0400
TZOFFSETTO:-0500
TZNAME:America/Toronto EST
END:STANDARD
BEGIN:STANDARD
DTSTART:20301103T010000
RDATE:20310309T030000
TZOFFSETFROM:-0400
TZOFFSETTO:-0500
TZNAME:America/Toronto EST
END:STANDARD
BEGIN:STANDARD
DTSTART:20311102T010000
RDATE:20320314T030000
TZOFFSETFROM:-0400
TZOFFSETTO:-0500
TZNAME:America/Toronto EST
END:STANDARD
BEGIN:DAYLIGHT
DTSTART:20220906T090000
RDATE:20221106T010000
TZOFFSETFROM:-0500
TZOFFSETTO:-0400
TZNAME:America/Toronto EDT
END:DAYLIGHT
BEGIN:DAYLIGHT
DTSTART:20230312T030000
RDATE:20231105T010000
TZOFFSETFROM:-0500
TZOFFSETTO:-0400
TZNAME:America/Toronto EDT
END:DAYLIGHT
BEGIN:DAYLIGHT
DTSTART:20240310T030000
RDATE:20241103T010000
TZOFFSETFROM:-0500
TZOFFSETTO:-0400
TZNAME:America/Toronto EDT
END:DAYLIGHT
BEGIN:DAYLIGHT
DTSTART:20250309T030000
RDATE:20251102T010000
TZOFFSETFROM:-0500
TZOFFSETTO:-0400
TZNAME:America/Toronto EDT
END:DAYLIGHT
BEGIN:DAYLIGHT
DTSTART:20260308T030000
RDATE:20261101T010000
TZOFFSETFROM:-0500
TZOFFSETTO:-0400
TZNAME:America/Toronto EDT
END:DAYLIGHT
BEGIN:DAYLIGHT
DTSTART:20270314T030000
RDATE:20271107T010000
TZOFFSETFROM:-0500
TZOFFSETTO:-0400
TZNAME:America/Toronto EDT
END:DAYLIGHT
BEGIN:DAYLIGHT
DTSTART:20280312T030000
RDATE:20281105T010000
TZOFFSETFROM:-0500
TZOFFSETTO:-0400
TZNAME:America/Toronto EDT
END:DAYLIGHT
BEGIN:DAYLIGHT
DTSTART:20290311T030000
RDATE:20291104T010000
TZOFFSETFROM:-0500
TZOFFSETTO:-0400
TZNAME:America/Toronto EDT
END:DAYLIGHT
BEGIN:DAYLIGHT
DTSTART:20300310T030000
RDATE:20301103T010000
TZOFFSETFROM:-0500
TZOFFSETTO:-0400
TZNAME:America/Toronto EDT
END:DAYLIGHT
BEGIN:DAYLIGHT
DTSTART:20310309T030000
RDATE:20311102T010000
TZOFFSETFROM:-0500
TZOFFSETTO:-0400
TZNAME:America/Toronto EDT
END:DAYLIGHT
END:VTIMEZONE
BEGIN:VEVENT
UID:4ff55e92b8fe4dd26465c8765a51eda6
CATEGORIES:Durham Events
CREATED:20230809T105151
SUMMARY:Quinte Compaction Day
LOCATION:2141 Theatre Rd South\, Cobourg\, ON
DESCRIPTION:Quinte Soil &amp; Crop Improvement Association, with local associations in 
 Hastings and Lennox &amp; Addington, Northumberland, and Prince Edward coun
 ties, is hosting a soil compaction event on September 7, 2023, from 9:00 AM
  to 3:00 PM at 2141 Theatre Rd South, Cobourg, ON.\nThe day will include li
 ve demonstrations with Ontario Soil &amp; Crop Improvement Association’s Mo
 bile Soil Technology Suite (http://www.ontariosoilcrop.org/mobile-technolog
 y-suite-msts/), complete with compaction sensors and coordinated by the Ont
 ario Compaction Team. Live speakers will recap the findings of the compacti
 on testing. A video of a Compaction Day event can be viewed here https://yo
 utu.be/XMS6HYgUijs (https://youtu.be/XMS6HYgUijs).\nThe day will also featu
 re learning stations with interactive sessions on:\n\n - tire technology/ch
 oosing the right tire setup for your application\n - how cover crops can mi
 tigate compaction/how to choose the right species for your mix\n - what a s
 oil pit can tell you about your soil\n - how to assess soil structure and c
 ompaction in your fieldsCurrently the following organizations are sponsorin
 g this event: Ontario Soil &amp; Crop Improvement Association, Tirecraft, T
 readRight, Michelin, Hunco Farms, Ganaraska Grain and Fastenal.\nFor more i
 nformation, please contact Jenn Nash, Regional Communications Coordinator, 
 This email address is being protected from spambots. You need JavaScript en
 abled to view it.\nTickets: http://membership.ontariosoilcrop.org/event/qui
 nte-compaction-day-2/ (http://membership.ontariosoilcrop.org/event/quinte-c
 ompaction-day-2/)\n
X-ALT-DESC;FMTTYPE=text/html:<p>Quinte Soil &amp; Crop Improvement Association, with local associations 
 in Hastings and Lennox &amp; Addington, Northumberland, and Prince Edward c
 ounties, is hosting a soil compaction event on September 7, 2023, from 9:00
  AM to 3:00 PM at 2141 Theatre Rd South, Cobourg, ON.</p><p>The day will in
 clude live demonstrations with Ontario Soil &amp; Crop Improvement Associat
 ion’s <a href="http://www.ontariosoilcrop.org/mobile-technology-suite-msts/
 ">Mobile Soil Technology Suite</a>, complete with compaction sensors and co
 ordinated by the Ontario Compaction Team. Live speakers will recap the find
 ings of the compaction testing. A video of a Compaction Day event can be vi
 ewed here <a href="https://youtu.be/XMS6HYgUijs">https://youtu.be/XMS6HYgUi
 js</a>.</p><p>The day will also feature learning stations with interactive 
 sessions on:</p><ul><li>tire technology/choosing the right tire setup for y
 our application</li><li>how cover crops can mitigate compaction/how to choo
 se the right species for your mix</li><li>what a soil pit can tell you abou
 t your soil</li><li>how to assess soil structure and compaction in your fie
 lds</li></ul><p>Currently the following organizations are sponsoring this e
 vent: Ontario Soil &amp; Crop Improvement Association, Tirecraft, TreadRigh
 t, Michelin, Hunco Farms, Ganaraska Grain and Fastenal.</p><p>For more info
 rmation, please contact Jenn Nash, Regional Communications Coordinator, <jo
 omla-hidden-mail  is-link="1" is-email="0" first="cXNjaWEucmNj" last="Z21ha
 WwuY29t" text="cXNjaWEucmNjQGdtYWlsLmNvbS4=" base="" >This email address is
  being protected from spambots. You need JavaScript enabled to view it.</jo
 omla-hidden-mail></p><p>Tickets: <a href="http://membership.ontariosoilcrop
 .org/event/quinte-compaction-day-2/">http://membership.ontariosoilcrop.org/
 event/quinte-compaction-day-2/</a></p>
CONTACT:Jenn Nash
DTSTAMP:20260420T052313
DTSTART;TZID=America/Toronto:20230907T090000
DTEND;TZID=America/Toronto:20230907T150000
SEQUENCE:0
TRANSP:OPAQUE
END:VEVENT
END:VCALENDAR