BEGIN:VCALENDAR
VERSION:2.0
PRODID:-//jEvents 2.0 for Joomla//EN
CALSCALE:GREGORIAN
METHOD:PUBLISH
BEGIN:VTIMEZONE
TZID:America/Toronto
BEGIN:STANDARD
DTSTART:20221106T010000
RDATE:20230312T030000
TZOFFSETFROM:-0400
TZOFFSETTO:-0500
TZNAME:America/Toronto EST
END:STANDARD
BEGIN:STANDARD
DTSTART:20231105T010000
RDATE:20240310T030000
TZOFFSETFROM:-0400
TZOFFSETTO:-0500
TZNAME:America/Toronto EST
END:STANDARD
BEGIN:STANDARD
DTSTART:20241103T010000
RDATE:20250309T030000
TZOFFSETFROM:-0400
TZOFFSETTO:-0500
TZNAME:America/Toronto EST
END:STANDARD
BEGIN:STANDARD
DTSTART:20251102T010000
RDATE:20260308T030000
TZOFFSETFROM:-0400
TZOFFSETTO:-0500
TZNAME:America/Toronto EST
END:STANDARD
BEGIN:STANDARD
DTSTART:20261101T010000
RDATE:20270314T030000
TZOFFSETFROM:-0400
TZOFFSETTO:-0500
TZNAME:America/Toronto EST
END:STANDARD
BEGIN:STANDARD
DTSTART:20271107T010000
RDATE:20280312T030000
TZOFFSETFROM:-0400
TZOFFSETTO:-0500
TZNAME:America/Toronto EST
END:STANDARD
BEGIN:STANDARD
DTSTART:20281105T010000
RDATE:20290311T030000
TZOFFSETFROM:-0400
TZOFFSETTO:-0500
TZNAME:America/Toronto EST
END:STANDARD
BEGIN:STANDARD
DTSTART:20291104T010000
RDATE:20300310T030000
TZOFFSETFROM:-0400
TZOFFSETTO:-0500
TZNAME:America/Toronto EST
END:STANDARD
BEGIN:STANDARD
DTSTART:20301103T010000
RDATE:20310309T030000
TZOFFSETFROM:-0400
TZOFFSETTO:-0500
TZNAME:America/Toronto EST
END:STANDARD
BEGIN:STANDARD
DTSTART:20311102T010000
RDATE:20320314T030000
TZOFFSETFROM:-0400
TZOFFSETTO:-0500
TZNAME:America/Toronto EST
END:STANDARD
BEGIN:DAYLIGHT
DTSTART:20220825T100000
RDATE:20221106T010000
TZOFFSETFROM:-0500
TZOFFSETTO:-0400
TZNAME:America/Toronto EDT
END:DAYLIGHT
BEGIN:DAYLIGHT
DTSTART:20230312T030000
RDATE:20231105T010000
TZOFFSETFROM:-0500
TZOFFSETTO:-0400
TZNAME:America/Toronto EDT
END:DAYLIGHT
BEGIN:DAYLIGHT
DTSTART:20240310T030000
RDATE:20241103T010000
TZOFFSETFROM:-0500
TZOFFSETTO:-0400
TZNAME:America/Toronto EDT
END:DAYLIGHT
BEGIN:DAYLIGHT
DTSTART:20250309T030000
RDATE:20251102T010000
TZOFFSETFROM:-0500
TZOFFSETTO:-0400
TZNAME:America/Toronto EDT
END:DAYLIGHT
BEGIN:DAYLIGHT
DTSTART:20260308T030000
RDATE:20261101T010000
TZOFFSETFROM:-0500
TZOFFSETTO:-0400
TZNAME:America/Toronto EDT
END:DAYLIGHT
BEGIN:DAYLIGHT
DTSTART:20270314T030000
RDATE:20271107T010000
TZOFFSETFROM:-0500
TZOFFSETTO:-0400
TZNAME:America/Toronto EDT
END:DAYLIGHT
BEGIN:DAYLIGHT
DTSTART:20280312T030000
RDATE:20281105T010000
TZOFFSETFROM:-0500
TZOFFSETTO:-0400
TZNAME:America/Toronto EDT
END:DAYLIGHT
BEGIN:DAYLIGHT
DTSTART:20290311T030000
RDATE:20291104T010000
TZOFFSETFROM:-0500
TZOFFSETTO:-0400
TZNAME:America/Toronto EDT
END:DAYLIGHT
BEGIN:DAYLIGHT
DTSTART:20300310T030000
RDATE:20301103T010000
TZOFFSETFROM:-0500
TZOFFSETTO:-0400
TZNAME:America/Toronto EDT
END:DAYLIGHT
BEGIN:DAYLIGHT
DTSTART:20310309T030000
RDATE:20311102T010000
TZOFFSETFROM:-0500
TZOFFSETTO:-0400
TZNAME:America/Toronto EDT
END:DAYLIGHT
END:VTIMEZONE
BEGIN:VEVENT
UID:31680259ba7cc838b433d221e2b997c9
CATEGORIES:Durham Events
CREATED:20230817T175922
SUMMARY:Family Fun Fair and BBQ
LOCATION:900 King St E\, Oshawa
DESCRIPTION:Summer Spectacular: A Day of Community Fun \nOshawa, ON - Get ready for a f
 un day of laughter, games, and cherished memories at the Durham Deaf Servic
 es (DDS) Family Fun Fair, taking place on Saturday, August 26, 2023, from 1
 0 a.m. until 5 p.m., at 900 King Street East, Oshawa ON.\nDDS is partnering
  with the Durham Deaf Club and Oshawa Deaf Senior Citizens Club to bring th
 e community a fun family event featuring fun outdoor activities, carnival g
 ames, creative crafts, door prizes and more. A car wash fundraiser will run
  throughout the event, along with a BBQ lunch from 11 a.m. until 2 p.m.\nAd
 mission is $2 per person, car washes are $10, and BBQ prices will be listed
  on our event page. We ask that people please RVSP on the event page on our
  site or our Facebook event, although it is not mandatory. Bring your own l
 awn chair for picnic purposes!\n \nWhat: Family Fun Fair, BBQ &amp; Car Was
 h\nWhen: Saturday, August 26, 2023 – 10 a.m. until 5 p.m. \nWhere: 900 King
  Street East, Oshawa ON\nWho: Open to the general public\nCost: 2$ admissio
 n fee, $10 Car Wash (optional), BBQ lunch cost (TBA)\n \nAbout Durham Deaf 
 Services \nDurham Deaf Services has been serving the community for more tha
 n 40 years. DDS aims to promote independence and autonomy for all in the De
 af, deafened, and hard-of-hearing community by eliminating barriers to part
 icipation and preserving Deaf culture, language, and heritage.\n \nPlease c
 all us at 905-579-3328 or email This email address is being protected from 
 spambots. You need JavaScript enabled to view it. for questions.\n
X-ALT-DESC;FMTTYPE=text/html:<p><b>Summer Spectacular: A Day of Community Fun </b></p><p><b>Oshawa, ON</
 b> - Get ready for a fun day of laughter, games, and cherished memories at 
 the Durham Deaf Services (DDS) Family Fun Fair, taking place on Saturday, A
 ugust 26, 2023, from 10 a.m. until 5 p.m., at 900 King Street East, Oshawa 
 ON.</p><p>DDS is partnering with the Durham Deaf Club and Oshawa Deaf Senio
 r Citizens Club to bring the community a fun family event featuring fun out
 door activities, carnival games, creative crafts, door prizes and more. A c
 ar wash fundraiser will run throughout the event, along with a BBQ lunch fr
 om 11 a.m. until 2 p.m.</p><p>Admission is $2 per person, car washes are $1
 0, and BBQ prices will be listed on our event page. We ask that people plea
 se RVSP on the event page on our site or our Facebook event, although it is
  not mandatory. Bring your own lawn chair for picnic purposes!</p><p> </p><
 p><strong>What: </strong>Family Fun Fair, BBQ &amp; Car Wash</p><p><strong>
 When: </strong>Saturday, August 26, 2023 – 10 a.m. until 5 p.m. </p><p><str
 ong>Where:</strong> 900 King Street East, Oshawa ON</p><p><strong>Who:</str
 ong> Open to the general public</p><p><strong>Cost:</strong> 2$ admission f
 ee, $10 Car Wash (optional), BBQ lunch cost (TBA)</p><p> </p><p><strong>Abo
 ut Durham Deaf Services </strong></p><p>Durham Deaf Services has been servi
 ng the community for more than 40 years. DDS aims to promote independence a
 nd autonomy for all in the Deaf, deafened, and hard-of-hearing community by
  eliminating barriers to participation and preserving Deaf culture, languag
 e, and heritage.</p><p> </p><p>Please call us at 905-579-3328 or email <joo
 mla-hidden-mail  is-link="1" is-email="1" first="aW5mbw==" last="ZHVyaGFtZG
 VhZi5vcmc=" text="aW5mb0BkdXJoYW1kZWFmLm9yZw==" base="" >This email address
  is being protected from spambots. You need JavaScript enabled to view it.<
 /joomla-hidden-mail> for questions.</p>
CONTACT:905-579-3328
DTSTAMP:20260420T064104
DTSTART;TZID=America/Toronto:20230826T100000
DTEND;TZID=America/Toronto:20230826T170000
SEQUENCE:0
TRANSP:OPAQUE
END:VEVENT
END:VCALENDAR