BEGIN:VCALENDAR
VERSION:2.0
PRODID:-//jEvents 2.0 for Joomla//EN
CALSCALE:GREGORIAN
METHOD:PUBLISH
BEGIN:VTIMEZONE
TZID:America/Toronto
BEGIN:STANDARD
DTSTART:20221106T010000
RDATE:20230312T030000
TZOFFSETFROM:-0400
TZOFFSETTO:-0500
TZNAME:America/Toronto EST
END:STANDARD
BEGIN:STANDARD
DTSTART:20231105T010000
RDATE:20240310T030000
TZOFFSETFROM:-0400
TZOFFSETTO:-0500
TZNAME:America/Toronto EST
END:STANDARD
BEGIN:STANDARD
DTSTART:20241103T010000
RDATE:20250309T030000
TZOFFSETFROM:-0400
TZOFFSETTO:-0500
TZNAME:America/Toronto EST
END:STANDARD
BEGIN:STANDARD
DTSTART:20251102T010000
RDATE:20260308T030000
TZOFFSETFROM:-0400
TZOFFSETTO:-0500
TZNAME:America/Toronto EST
END:STANDARD
BEGIN:STANDARD
DTSTART:20261101T010000
RDATE:20270314T030000
TZOFFSETFROM:-0400
TZOFFSETTO:-0500
TZNAME:America/Toronto EST
END:STANDARD
BEGIN:STANDARD
DTSTART:20271107T010000
RDATE:20280312T030000
TZOFFSETFROM:-0400
TZOFFSETTO:-0500
TZNAME:America/Toronto EST
END:STANDARD
BEGIN:STANDARD
DTSTART:20281105T010000
RDATE:20290311T030000
TZOFFSETFROM:-0400
TZOFFSETTO:-0500
TZNAME:America/Toronto EST
END:STANDARD
BEGIN:STANDARD
DTSTART:20291104T010000
RDATE:20300310T030000
TZOFFSETFROM:-0400
TZOFFSETTO:-0500
TZNAME:America/Toronto EST
END:STANDARD
BEGIN:STANDARD
DTSTART:20301103T010000
RDATE:20310309T030000
TZOFFSETFROM:-0400
TZOFFSETTO:-0500
TZNAME:America/Toronto EST
END:STANDARD
BEGIN:STANDARD
DTSTART:20311102T010000
RDATE:20320314T030000
TZOFFSETFROM:-0400
TZOFFSETTO:-0500
TZNAME:America/Toronto EST
END:STANDARD
BEGIN:DAYLIGHT
DTSTART:20220825T083000
RDATE:20221106T010000
TZOFFSETFROM:-0500
TZOFFSETTO:-0400
TZNAME:America/Toronto EDT
END:DAYLIGHT
BEGIN:DAYLIGHT
DTSTART:20230312T030000
RDATE:20231105T010000
TZOFFSETFROM:-0500
TZOFFSETTO:-0400
TZNAME:America/Toronto EDT
END:DAYLIGHT
BEGIN:DAYLIGHT
DTSTART:20240310T030000
RDATE:20241103T010000
TZOFFSETFROM:-0500
TZOFFSETTO:-0400
TZNAME:America/Toronto EDT
END:DAYLIGHT
BEGIN:DAYLIGHT
DTSTART:20250309T030000
RDATE:20251102T010000
TZOFFSETFROM:-0500
TZOFFSETTO:-0400
TZNAME:America/Toronto EDT
END:DAYLIGHT
BEGIN:DAYLIGHT
DTSTART:20260308T030000
RDATE:20261101T010000
TZOFFSETFROM:-0500
TZOFFSETTO:-0400
TZNAME:America/Toronto EDT
END:DAYLIGHT
BEGIN:DAYLIGHT
DTSTART:20270314T030000
RDATE:20271107T010000
TZOFFSETFROM:-0500
TZOFFSETTO:-0400
TZNAME:America/Toronto EDT
END:DAYLIGHT
BEGIN:DAYLIGHT
DTSTART:20280312T030000
RDATE:20281105T010000
TZOFFSETFROM:-0500
TZOFFSETTO:-0400
TZNAME:America/Toronto EDT
END:DAYLIGHT
BEGIN:DAYLIGHT
DTSTART:20290311T030000
RDATE:20291104T010000
TZOFFSETFROM:-0500
TZOFFSETTO:-0400
TZNAME:America/Toronto EDT
END:DAYLIGHT
BEGIN:DAYLIGHT
DTSTART:20300310T030000
RDATE:20301103T010000
TZOFFSETFROM:-0500
TZOFFSETTO:-0400
TZNAME:America/Toronto EDT
END:DAYLIGHT
BEGIN:DAYLIGHT
DTSTART:20310309T030000
RDATE:20311102T010000
TZOFFSETFROM:-0500
TZOFFSETTO:-0400
TZNAME:America/Toronto EDT
END:DAYLIGHT
END:VTIMEZONE
BEGIN:VEVENT
UID:2513fa765943b8af7523c4a63e879432
CATEGORIES:Durham Events
CREATED:20230823T095002
SUMMARY:Free Hockey Equipment Day
LOCATION:Port Perry Auto Supply CarQuest 16050 Old Simcoe Rd. Port Perry
DESCRIPTION:Second Annual Hockey Equipment Day\nFREE COMMUNITY EVENT - all welcome\nTAK
 E ALL OR ANY HOCKEY GEAR you need, in exchange for a food or monetary donat
 ion to Operation Scugog Foodbank.\nYour food donation gets you a chance to 
 win a new hockey net donated by Canadian Tire - Port Perry.\nDonate equipme
 nt for a chance to win a brand new pair of skates donated by The Blade Co.\
 nLocation:  Port Perry Auto Supply (Car Quest)\n                16050 Old S
 imcoe Road (across from Tim Horton's beside Scugog Arena)\n                
  Port Perry, ON (905) 985-8481\nFree BBQ compliments of The Trading Post\n 
 \nCommunity partners:  Port Perry Auto Supply\n                            
        Brian's Towing\n                                   Malcolm's Auto\n 
                                   Focus on Scugog\n                        
            The Blade Co\n                                   The Piano Inn a
 nd Cafe\n \n \n
X-ALT-DESC;FMTTYPE=text/html:<p style="text-align: center;"><span style="text-decoration: underline;">Se
 cond Annual Hockey Equipment Day</span></p><p style="text-align: center;"><
 span style="text-decoration: underline;">FREE COMMUNITY EVENT - all welcome
 </span></p><p>TAKE ALL OR ANY HOCKEY GEAR you need, in exchange for a food 
 or monetary donation to Operation Scugog Foodbank.</p><p>Your food donation
  gets you a chance to win a new hockey net donated by Canadian Tire - Port 
 Perry.</p><p>Donate equipment for a chance to win a brand new pair of skate
 s donated by The Blade Co.</p><p>Location:  Port Perry Auto Supply (Car Que
 st)</p><p>                16050 Old Simcoe Road (across from Tim Horton's b
 eside Scugog Arena)</p><p>                 Port Perry, ON (905) 985-8481</p
 ><p>Free BBQ compliments of The Trading Post</p><p> </p><p>Community partne
 rs:  Port Perry Auto Supply</p><p>                                   Brian'
 s Towing</p><p>                                   Malcolm's Auto</p><p>    
                                Focus on Scugog</p><p>                      
              The Blade Co</p><p>                                   The Pian
 o Inn and Cafe</p><p> </p><p> </p>
CONTACT:Kathy LeFort
X-EXTRAINFO:Free to all.  Huge amount of equipment for all.  Any food or money collecte
 d will go to the foodbank
DTSTAMP:20260420T031557
DTSTART;TZID=America/Toronto:20230826T083000
DTEND;TZID=America/Toronto:20230826T123000
SEQUENCE:0
TRANSP:OPAQUE
END:VEVENT
END:VCALENDAR