BEGIN:VCALENDAR
VERSION:2.0
PRODID:-//jEvents 2.0 for Joomla//EN
CALSCALE:GREGORIAN
METHOD:PUBLISH
BEGIN:VTIMEZONE
TZID:America/Toronto
BEGIN:STANDARD
DTSTART:20221106T010000
RDATE:20230312T030000
TZOFFSETFROM:-0400
TZOFFSETTO:-0500
TZNAME:America/Toronto EST
END:STANDARD
BEGIN:STANDARD
DTSTART:20231105T010000
RDATE:20240310T030000
TZOFFSETFROM:-0400
TZOFFSETTO:-0500
TZNAME:America/Toronto EST
END:STANDARD
BEGIN:STANDARD
DTSTART:20241103T010000
RDATE:20250309T030000
TZOFFSETFROM:-0400
TZOFFSETTO:-0500
TZNAME:America/Toronto EST
END:STANDARD
BEGIN:STANDARD
DTSTART:20251102T010000
RDATE:20260308T030000
TZOFFSETFROM:-0400
TZOFFSETTO:-0500
TZNAME:America/Toronto EST
END:STANDARD
BEGIN:STANDARD
DTSTART:20261101T010000
RDATE:20270314T030000
TZOFFSETFROM:-0400
TZOFFSETTO:-0500
TZNAME:America/Toronto EST
END:STANDARD
BEGIN:STANDARD
DTSTART:20271107T010000
RDATE:20280312T030000
TZOFFSETFROM:-0400
TZOFFSETTO:-0500
TZNAME:America/Toronto EST
END:STANDARD
BEGIN:STANDARD
DTSTART:20281105T010000
RDATE:20290311T030000
TZOFFSETFROM:-0400
TZOFFSETTO:-0500
TZNAME:America/Toronto EST
END:STANDARD
BEGIN:STANDARD
DTSTART:20291104T010000
RDATE:20300310T030000
TZOFFSETFROM:-0400
TZOFFSETTO:-0500
TZNAME:America/Toronto EST
END:STANDARD
BEGIN:STANDARD
DTSTART:20301103T010000
RDATE:20310309T030000
TZOFFSETFROM:-0400
TZOFFSETTO:-0500
TZNAME:America/Toronto EST
END:STANDARD
BEGIN:STANDARD
DTSTART:20311102T010000
RDATE:20320314T030000
TZOFFSETFROM:-0400
TZOFFSETTO:-0500
TZNAME:America/Toronto EST
END:STANDARD
BEGIN:DAYLIGHT
DTSTART:20220915T090000
RDATE:20221106T010000
TZOFFSETFROM:-0500
TZOFFSETTO:-0400
TZNAME:America/Toronto EDT
END:DAYLIGHT
BEGIN:DAYLIGHT
DTSTART:20230312T030000
RDATE:20231105T010000
TZOFFSETFROM:-0500
TZOFFSETTO:-0400
TZNAME:America/Toronto EDT
END:DAYLIGHT
BEGIN:DAYLIGHT
DTSTART:20240310T030000
RDATE:20241103T010000
TZOFFSETFROM:-0500
TZOFFSETTO:-0400
TZNAME:America/Toronto EDT
END:DAYLIGHT
BEGIN:DAYLIGHT
DTSTART:20250309T030000
RDATE:20251102T010000
TZOFFSETFROM:-0500
TZOFFSETTO:-0400
TZNAME:America/Toronto EDT
END:DAYLIGHT
BEGIN:DAYLIGHT
DTSTART:20260308T030000
RDATE:20261101T010000
TZOFFSETFROM:-0500
TZOFFSETTO:-0400
TZNAME:America/Toronto EDT
END:DAYLIGHT
BEGIN:DAYLIGHT
DTSTART:20270314T030000
RDATE:20271107T010000
TZOFFSETFROM:-0500
TZOFFSETTO:-0400
TZNAME:America/Toronto EDT
END:DAYLIGHT
BEGIN:DAYLIGHT
DTSTART:20280312T030000
RDATE:20281105T010000
TZOFFSETFROM:-0500
TZOFFSETTO:-0400
TZNAME:America/Toronto EDT
END:DAYLIGHT
BEGIN:DAYLIGHT
DTSTART:20290311T030000
RDATE:20291104T010000
TZOFFSETFROM:-0500
TZOFFSETTO:-0400
TZNAME:America/Toronto EDT
END:DAYLIGHT
BEGIN:DAYLIGHT
DTSTART:20300310T030000
RDATE:20301103T010000
TZOFFSETFROM:-0500
TZOFFSETTO:-0400
TZNAME:America/Toronto EDT
END:DAYLIGHT
BEGIN:DAYLIGHT
DTSTART:20310309T030000
RDATE:20311102T010000
TZOFFSETFROM:-0500
TZOFFSETTO:-0400
TZNAME:America/Toronto EDT
END:DAYLIGHT
END:VTIMEZONE
BEGIN:VEVENT
UID:f8a0fdf196ca1134bc122043e85ef415
CATEGORIES:Durham Events
CREATED:20230830T225724
SUMMARY:Oshawa Airport Lions Road Car Rally Fundraiser
LOCATION:Road rally through Oshawa and Whitby
DESCRIPTION:Fundraiser to support Lions Foundation of Canada Dog Guides New Building Fu
 nd\nThe Oshawa Airport Lions Club is holding our first annual Car Road Rall
 y on Saturday, September 16, 2023. The route planned will take approximatel
 y 3 hours with a short break at the halfway point.  This course is based on
  KMs and not time and there will be clues to solve to point the way as well
  as a few challenges/problems to solve along the way.  Fun for all ages.\n 
 \n There will be a maximum of 50 teams for this road car rally.  The cost w
 ill be $50 per car including the driver and navigator. Dogs are free. Once 
 you find your way to the end, there will be a BBQ (included) prizes and a r
 affle. Please call Lion Debra at 289-260-7457 to hold your spot.\n \n \n
X-ALT-DESC;FMTTYPE=text/html:<p><strong>Fundraiser to support Lions Foundation of Canada Dog Guides New 
 Building Fund</strong></p><p>The Oshawa Airport Lions Club is holding our f
 irst annual Car Road Rally on Saturday, September 16, 2023. The route plann
 ed will take approximately 3 hours with a short break at the halfway point.
   This course is based on KMs and not time and there will be clues to solve
  to point the way as well as a few challenges/problems to solve along the w
 ay.  Fun for all ages.</p><p> <br /> There will be a maximum of 50 teams fo
 r this road car rally.  The cost will be $50 per car including the driver a
 nd navigator. Dogs are free. Once you find your way to the end, there will 
 be a BBQ (included) prizes and a raffle. Please call Lion Debra at 289-260-
 7457 to hold your spot.<br /> </p><p> </p>
CONTACT:Debra Jomes
DTSTAMP:20260419T205845
DTSTART;TZID=America/Toronto:20230916T090000
DTEND;TZID=America/Toronto:20230916T160000
SEQUENCE:0
TRANSP:OPAQUE
END:VEVENT
END:VCALENDAR