BEGIN:VCALENDAR
VERSION:2.0
PRODID:-//jEvents 2.0 for Joomla//EN
CALSCALE:GREGORIAN
METHOD:PUBLISH
BEGIN:VTIMEZONE
TZID:America/Toronto
BEGIN:STANDARD
DTSTART:20221106T010000
RDATE:20230312T030000
TZOFFSETFROM:-0400
TZOFFSETTO:-0500
TZNAME:America/Toronto EST
END:STANDARD
BEGIN:STANDARD
DTSTART:20231105T010000
RDATE:20240310T030000
TZOFFSETFROM:-0400
TZOFFSETTO:-0500
TZNAME:America/Toronto EST
END:STANDARD
BEGIN:STANDARD
DTSTART:20241103T010000
RDATE:20250309T030000
TZOFFSETFROM:-0400
TZOFFSETTO:-0500
TZNAME:America/Toronto EST
END:STANDARD
BEGIN:STANDARD
DTSTART:20251102T010000
RDATE:20260308T030000
TZOFFSETFROM:-0400
TZOFFSETTO:-0500
TZNAME:America/Toronto EST
END:STANDARD
BEGIN:STANDARD
DTSTART:20261101T010000
RDATE:20270314T030000
TZOFFSETFROM:-0400
TZOFFSETTO:-0500
TZNAME:America/Toronto EST
END:STANDARD
BEGIN:STANDARD
DTSTART:20271107T010000
RDATE:20280312T030000
TZOFFSETFROM:-0400
TZOFFSETTO:-0500
TZNAME:America/Toronto EST
END:STANDARD
BEGIN:STANDARD
DTSTART:20281105T010000
RDATE:20290311T030000
TZOFFSETFROM:-0400
TZOFFSETTO:-0500
TZNAME:America/Toronto EST
END:STANDARD
BEGIN:STANDARD
DTSTART:20291104T010000
RDATE:20300310T030000
TZOFFSETFROM:-0400
TZOFFSETTO:-0500
TZNAME:America/Toronto EST
END:STANDARD
BEGIN:STANDARD
DTSTART:20301103T010000
RDATE:20310309T030000
TZOFFSETFROM:-0400
TZOFFSETTO:-0500
TZNAME:America/Toronto EST
END:STANDARD
BEGIN:STANDARD
DTSTART:20311102T010000
RDATE:20320314T030000
TZOFFSETFROM:-0400
TZOFFSETTO:-0500
TZNAME:America/Toronto EST
END:STANDARD
BEGIN:DAYLIGHT
DTSTART:20220921T180000
RDATE:20221106T010000
TZOFFSETFROM:-0500
TZOFFSETTO:-0400
TZNAME:America/Toronto EDT
END:DAYLIGHT
BEGIN:DAYLIGHT
DTSTART:20230312T030000
RDATE:20231105T010000
TZOFFSETFROM:-0500
TZOFFSETTO:-0400
TZNAME:America/Toronto EDT
END:DAYLIGHT
BEGIN:DAYLIGHT
DTSTART:20240310T030000
RDATE:20241103T010000
TZOFFSETFROM:-0500
TZOFFSETTO:-0400
TZNAME:America/Toronto EDT
END:DAYLIGHT
BEGIN:DAYLIGHT
DTSTART:20250309T030000
RDATE:20251102T010000
TZOFFSETFROM:-0500
TZOFFSETTO:-0400
TZNAME:America/Toronto EDT
END:DAYLIGHT
BEGIN:DAYLIGHT
DTSTART:20260308T030000
RDATE:20261101T010000
TZOFFSETFROM:-0500
TZOFFSETTO:-0400
TZNAME:America/Toronto EDT
END:DAYLIGHT
BEGIN:DAYLIGHT
DTSTART:20270314T030000
RDATE:20271107T010000
TZOFFSETFROM:-0500
TZOFFSETTO:-0400
TZNAME:America/Toronto EDT
END:DAYLIGHT
BEGIN:DAYLIGHT
DTSTART:20280312T030000
RDATE:20281105T010000
TZOFFSETFROM:-0500
TZOFFSETTO:-0400
TZNAME:America/Toronto EDT
END:DAYLIGHT
BEGIN:DAYLIGHT
DTSTART:20290311T030000
RDATE:20291104T010000
TZOFFSETFROM:-0500
TZOFFSETTO:-0400
TZNAME:America/Toronto EDT
END:DAYLIGHT
BEGIN:DAYLIGHT
DTSTART:20300310T030000
RDATE:20301103T010000
TZOFFSETFROM:-0500
TZOFFSETTO:-0400
TZNAME:America/Toronto EDT
END:DAYLIGHT
BEGIN:DAYLIGHT
DTSTART:20310309T030000
RDATE:20311102T010000
TZOFFSETFROM:-0500
TZOFFSETTO:-0400
TZNAME:America/Toronto EDT
END:DAYLIGHT
END:VTIMEZONE
BEGIN:VEVENT
UID:0866e232c33133920740854fb071901e
CATEGORIES:Durham Events
CREATED:20230912T114848
SUMMARY:Free Public Stargazing
LOCATION:Millennium Square\, south end of Liverpool Road\, Pickering
DESCRIPTION:Join us, The Royal Astronomical Society of Canada, for an evening of free p
 ublic stargazing along the north shore of Lake Ontario at Millennium Square
  (https://goo.gl/maps/LWBbGxtvw84u4YUv7) (south end of Liverpool Road in Pi
 ckering).\nObserve the Moon, Jupiter, Saturn, and stars through our telesco
 pes! Check out astronomy literature at our information booth, and ask us qu
 estions to learn more about the stars and planets.\nYou can bring your own 
 telescope and we'd be happy to help you set it up and aim it at the Moon.\n
 Everything gets underway at 6:00pm with solar-filtered telescopes providing
  views of sunspots and prominences.\nPlease check our website (https://rasc
 to.ca/) (https://rascto.ca/ (https://rascto.ca/)) for a GO/NO-GO decision b
 ased on the weather before heading to the Square.\nPlease note that we make
  our GO/NO-GO calls a few hours before an event but, if the weather worsens
 , we may have to cancel or wrap up earlier than planned.\nWe'll try to post
  updates but please use your best judgment if you're planning to join us.\n
  \n
X-ALT-DESC;FMTTYPE=text/html:<p>Join us, The Royal Astronomical Society of Canada, for an evening of fre
 e public stargazing along the north shore of Lake Ontario at <a href="https
 ://goo.gl/maps/LWBbGxtvw84u4YUv7">Millennium Square</a> (south end of Liver
 pool Road in Pickering).</p><p>Observe the Moon, Jupiter, Saturn, and stars
  through our telescopes! Check out astronomy literature at our information 
 booth, and ask us questions to learn more about the stars and planets.</p><
 p>You can bring your own telescope and we'd be happy to help you set it up 
 and aim it at the Moon.</p><p>Everything gets underway at 6:00pm with solar
 -filtered telescopes providing views of sunspots and prominences.</p><p>Ple
 ase check <a href="https://rascto.ca/">our website</a> (<a href="https://ra
 scto.ca/">https://rascto.ca/</a>) for a GO/NO-GO decision based on the weat
 her before heading to the Square.</p><p><em>Please note that we make our GO
 /NO-GO calls a few hours before an event but, if the weather worsens, we ma
 y have to cancel or wrap up earlier than planned.</em></p><p><em>We'll try 
 to post updates but please use your best judgment if you're planning to joi
 n us.</em></p><p><em> </em></p>
CONTACT:This email address is being protected from spambots. You need JavaScript enabled to view it.
DTSTAMP:20260419T190351
DTSTART;TZID=America/Toronto:20230922T180000
DTEND;TZID=America/Toronto:20230922T230000
SEQUENCE:0
TRANSP:OPAQUE
END:VEVENT
END:VCALENDAR