BEGIN:VCALENDAR
VERSION:2.0
PRODID:-//jEvents 2.0 for Joomla//EN
CALSCALE:GREGORIAN
METHOD:PUBLISH
BEGIN:VTIMEZONE
TZID:America/Toronto
BEGIN:STANDARD
DTSTART:20221106T010000
RDATE:20230312T030000
TZOFFSETFROM:-0400
TZOFFSETTO:-0500
TZNAME:America/Toronto EST
END:STANDARD
BEGIN:STANDARD
DTSTART:20231105T010000
RDATE:20240310T030000
TZOFFSETFROM:-0400
TZOFFSETTO:-0500
TZNAME:America/Toronto EST
END:STANDARD
BEGIN:STANDARD
DTSTART:20241103T010000
RDATE:20250309T030000
TZOFFSETFROM:-0400
TZOFFSETTO:-0500
TZNAME:America/Toronto EST
END:STANDARD
BEGIN:STANDARD
DTSTART:20251102T010000
RDATE:20260308T030000
TZOFFSETFROM:-0400
TZOFFSETTO:-0500
TZNAME:America/Toronto EST
END:STANDARD
BEGIN:STANDARD
DTSTART:20261101T010000
RDATE:20270314T030000
TZOFFSETFROM:-0400
TZOFFSETTO:-0500
TZNAME:America/Toronto EST
END:STANDARD
BEGIN:STANDARD
DTSTART:20271107T010000
RDATE:20280312T030000
TZOFFSETFROM:-0400
TZOFFSETTO:-0500
TZNAME:America/Toronto EST
END:STANDARD
BEGIN:STANDARD
DTSTART:20281105T010000
RDATE:20290311T030000
TZOFFSETFROM:-0400
TZOFFSETTO:-0500
TZNAME:America/Toronto EST
END:STANDARD
BEGIN:STANDARD
DTSTART:20291104T010000
RDATE:20300310T030000
TZOFFSETFROM:-0400
TZOFFSETTO:-0500
TZNAME:America/Toronto EST
END:STANDARD
BEGIN:STANDARD
DTSTART:20301103T010000
RDATE:20310309T030000
TZOFFSETFROM:-0400
TZOFFSETTO:-0500
TZNAME:America/Toronto EST
END:STANDARD
BEGIN:STANDARD
DTSTART:20311102T010000
RDATE:20320314T030000
TZOFFSETFROM:-0400
TZOFFSETTO:-0500
TZNAME:America/Toronto EST
END:STANDARD
BEGIN:DAYLIGHT
DTSTART:20221019T180000
RDATE:20221106T010000
TZOFFSETFROM:-0500
TZOFFSETTO:-0400
TZNAME:America/Toronto EDT
END:DAYLIGHT
BEGIN:DAYLIGHT
DTSTART:20230312T030000
RDATE:20231105T010000
TZOFFSETFROM:-0500
TZOFFSETTO:-0400
TZNAME:America/Toronto EDT
END:DAYLIGHT
BEGIN:DAYLIGHT
DTSTART:20240310T030000
RDATE:20241103T010000
TZOFFSETFROM:-0500
TZOFFSETTO:-0400
TZNAME:America/Toronto EDT
END:DAYLIGHT
BEGIN:DAYLIGHT
DTSTART:20250309T030000
RDATE:20251102T010000
TZOFFSETFROM:-0500
TZOFFSETTO:-0400
TZNAME:America/Toronto EDT
END:DAYLIGHT
BEGIN:DAYLIGHT
DTSTART:20260308T030000
RDATE:20261101T010000
TZOFFSETFROM:-0500
TZOFFSETTO:-0400
TZNAME:America/Toronto EDT
END:DAYLIGHT
BEGIN:DAYLIGHT
DTSTART:20270314T030000
RDATE:20271107T010000
TZOFFSETFROM:-0500
TZOFFSETTO:-0400
TZNAME:America/Toronto EDT
END:DAYLIGHT
BEGIN:DAYLIGHT
DTSTART:20280312T030000
RDATE:20281105T010000
TZOFFSETFROM:-0500
TZOFFSETTO:-0400
TZNAME:America/Toronto EDT
END:DAYLIGHT
BEGIN:DAYLIGHT
DTSTART:20290311T030000
RDATE:20291104T010000
TZOFFSETFROM:-0500
TZOFFSETTO:-0400
TZNAME:America/Toronto EDT
END:DAYLIGHT
BEGIN:DAYLIGHT
DTSTART:20300310T030000
RDATE:20301103T010000
TZOFFSETFROM:-0500
TZOFFSETTO:-0400
TZNAME:America/Toronto EDT
END:DAYLIGHT
BEGIN:DAYLIGHT
DTSTART:20310309T030000
RDATE:20311102T010000
TZOFFSETFROM:-0500
TZOFFSETTO:-0400
TZNAME:America/Toronto EDT
END:DAYLIGHT
END:VTIMEZONE
BEGIN:VEVENT
UID:c70453011d9f2d6377fb3f5718259897
CATEGORIES:Durham Events
CREATED:20230912T115605
SUMMARY:Free Public Stargazing
LOCATION:Millennium Square\, south end of Liverpool Road\, Pickering
DESCRIPTION:Join us for an evening of free public stargazing along the north shore of L
 ake Ontario at Millennium Square (https://goo.gl/maps/LWBbGxtvw84u4YUv7), a
 t the south end of Liverpool Road in Pickering.\nObserve the Moon, Jupiter,
  Saturn, even Uranus and Neptune and stars through our telescopes! Check ou
 t astronomy literature at our information booth, and ask us questions to le
 arn more about the stars and planets.\nYou can bring your own telescope and
  we'd be happy to help you set it up and aim it at the Moon.\nEverything ge
 ts underway at 6:00 pm with solar-filtered telescopes providing views of su
 nspots and prominences.\nRemember to dress for cold temperatures down by th
 e lake.\nPlease note that we make our GO/NO-GO calls a few hours before an 
 event but, if the weather worsens, we may have to cancel or wrap up earlier
  than planned.\nWe'll try to post updates but please use your best judgment
  if you're planning to join us.\nWho can attend: Everyone\nAdmission Fee: F
 ree\nOrganized by: The Royal Astronomical Society of Canada, Toronto Centre
  (https://www.rascto.ca/)\nLocation: Millennium Square (https://goo.gl/maps
 /T3mwbP12R8TSX9VD7) (South end of Liverpool Road, next to Frenchman's Bay, 
 Pickering, ON)\n
X-ALT-DESC;FMTTYPE=text/html:<p>Join us for an evening of free public stargazing along the north shore o
 f Lake Ontario at <a href="https://goo.gl/maps/LWBbGxtvw84u4YUv7">Millenniu
 m Square</a>, at the south end of Liverpool Road in Pickering.</p><p>Observ
 e the Moon, Jupiter, Saturn, even Uranus and Neptune and stars through our 
 telescopes! Check out astronomy literature at our information booth, and as
 k us questions to learn more about the stars and planets.</p><p>You can bri
 ng your own telescope and we'd be happy to help you set it up and aim it at
  the Moon.</p><p>Everything gets underway at 6:00 pm with solar-filtered te
 lescopes providing views of sunspots and prominences.</p><p>Remember to dre
 ss for cold temperatures down by the lake.</p><p><em>Please note that we ma
 ke our GO/NO-GO calls a few hours before an event but, if the weather worse
 ns, we may have to cancel or wrap up earlier than planned.</em></p><p><em>W
 e'll try to post updates but please use your best judgment if you're planni
 ng to join us.</em></p><p><strong>Who can attend: </strong>Everyone</p><p><
 strong>Admission Fee:</strong> Free</p><p><strong>Organized by:</strong> <a
  href="https://www.rascto.ca/" target="_blank" rel="noopener noreferrer">Th
 e Royal Astronomical Society of Canada, Toronto Centre</a></p><p><strong>Lo
 cation:</strong> <a href="https://goo.gl/maps/T3mwbP12R8TSX9VD7" target="_b
 lank" rel="noopener noreferrer">Millennium Square</a> (South end of Liverpo
 ol Road, next to Frenchman's Bay, Pickering, ON)</p>
CONTACT:This email address is being protected from spambots. You need JavaScript enabled to view it.
DTSTAMP:20260419T153933
DTSTART;TZID=America/Toronto:20231020T180000
DTEND;TZID=America/Toronto:20231020T230000
SEQUENCE:0
TRANSP:OPAQUE
END:VEVENT
END:VCALENDAR