BEGIN:VCALENDAR
VERSION:2.0
PRODID:-//jEvents 2.0 for Joomla//EN
CALSCALE:GREGORIAN
METHOD:PUBLISH
BEGIN:VTIMEZONE
TZID:America/Toronto
BEGIN:STANDARD
DTSTART:20221106T010000
RDATE:20230312T030000
TZOFFSETFROM:-0400
TZOFFSETTO:-0500
TZNAME:America/Toronto EST
END:STANDARD
BEGIN:STANDARD
DTSTART:20231105T010000
RDATE:20240310T030000
TZOFFSETFROM:-0400
TZOFFSETTO:-0500
TZNAME:America/Toronto EST
END:STANDARD
BEGIN:STANDARD
DTSTART:20241103T010000
RDATE:20250309T030000
TZOFFSETFROM:-0400
TZOFFSETTO:-0500
TZNAME:America/Toronto EST
END:STANDARD
BEGIN:STANDARD
DTSTART:20251102T010000
RDATE:20260308T030000
TZOFFSETFROM:-0400
TZOFFSETTO:-0500
TZNAME:America/Toronto EST
END:STANDARD
BEGIN:STANDARD
DTSTART:20261101T010000
RDATE:20270314T030000
TZOFFSETFROM:-0400
TZOFFSETTO:-0500
TZNAME:America/Toronto EST
END:STANDARD
BEGIN:STANDARD
DTSTART:20271107T010000
RDATE:20280312T030000
TZOFFSETFROM:-0400
TZOFFSETTO:-0500
TZNAME:America/Toronto EST
END:STANDARD
BEGIN:STANDARD
DTSTART:20281105T010000
RDATE:20290311T030000
TZOFFSETFROM:-0400
TZOFFSETTO:-0500
TZNAME:America/Toronto EST
END:STANDARD
BEGIN:STANDARD
DTSTART:20291104T010000
RDATE:20300310T030000
TZOFFSETFROM:-0400
TZOFFSETTO:-0500
TZNAME:America/Toronto EST
END:STANDARD
BEGIN:STANDARD
DTSTART:20301103T010000
RDATE:20310309T030000
TZOFFSETFROM:-0400
TZOFFSETTO:-0500
TZNAME:America/Toronto EST
END:STANDARD
BEGIN:STANDARD
DTSTART:20311102T010000
RDATE:20320314T030000
TZOFFSETFROM:-0400
TZOFFSETTO:-0500
TZNAME:America/Toronto EST
END:STANDARD
BEGIN:DAYLIGHT
DTSTART:20220929T193000
RDATE:20221106T010000
TZOFFSETFROM:-0500
TZOFFSETTO:-0400
TZNAME:America/Toronto EDT
END:DAYLIGHT
BEGIN:DAYLIGHT
DTSTART:20230312T030000
RDATE:20231105T010000
TZOFFSETFROM:-0500
TZOFFSETTO:-0400
TZNAME:America/Toronto EDT
END:DAYLIGHT
BEGIN:DAYLIGHT
DTSTART:20240310T030000
RDATE:20241103T010000
TZOFFSETFROM:-0500
TZOFFSETTO:-0400
TZNAME:America/Toronto EDT
END:DAYLIGHT
BEGIN:DAYLIGHT
DTSTART:20250309T030000
RDATE:20251102T010000
TZOFFSETFROM:-0500
TZOFFSETTO:-0400
TZNAME:America/Toronto EDT
END:DAYLIGHT
BEGIN:DAYLIGHT
DTSTART:20260308T030000
RDATE:20261101T010000
TZOFFSETFROM:-0500
TZOFFSETTO:-0400
TZNAME:America/Toronto EDT
END:DAYLIGHT
BEGIN:DAYLIGHT
DTSTART:20270314T030000
RDATE:20271107T010000
TZOFFSETFROM:-0500
TZOFFSETTO:-0400
TZNAME:America/Toronto EDT
END:DAYLIGHT
BEGIN:DAYLIGHT
DTSTART:20280312T030000
RDATE:20281105T010000
TZOFFSETFROM:-0500
TZOFFSETTO:-0400
TZNAME:America/Toronto EDT
END:DAYLIGHT
BEGIN:DAYLIGHT
DTSTART:20290311T030000
RDATE:20291104T010000
TZOFFSETFROM:-0500
TZOFFSETTO:-0400
TZNAME:America/Toronto EDT
END:DAYLIGHT
BEGIN:DAYLIGHT
DTSTART:20300310T030000
RDATE:20301103T010000
TZOFFSETFROM:-0500
TZOFFSETTO:-0400
TZNAME:America/Toronto EDT
END:DAYLIGHT
BEGIN:DAYLIGHT
DTSTART:20310309T030000
RDATE:20311102T010000
TZOFFSETFROM:-0500
TZOFFSETTO:-0400
TZNAME:America/Toronto EDT
END:DAYLIGHT
END:VTIMEZONE
BEGIN:VEVENT
UID:58bd243ede2367839f115d0ca37a155f
CATEGORIES:Durham Events
CREATED:20230921T171301
SUMMARY:MINE! True Stories and Legends of the Porcupine Gold Rush - LIVE! at Camp Samac
LOCATION:Camp Samac Council Hall (273 Conlin Road East\, Oshawa\, ON)
DESCRIPTION:Come along on a musical journey back to a time of prospectors, pioneers, bo
 otlegger-bandits, high-graders, dog-sledders and moonshiners! MINE! True St
 ories and Legends of the Porcupine Gold Rush tells real-life harrowing tale
 s of adventure and perseverance from a forgotten chapter of Canadian histor
 y through 12 new, original Folk songs in different traditional, historical 
 styles, celebrating unsung characters from the past. An original Solo Folk 
 Musical written and performed by Will Gillespie. It is a multi-media storyt
 elling experience featuring projections of original landscape paintings cre
 ated by Oshawa's own visual Artist Susan Robinson and historical photos fro
 m the collection at the Timmins Museum National Exhibition Centre of the re
 al people, places and events Will Gillespie will be singing about. There ar
 e many famous stories about the Klondike Gold Rush in the Yukon and the Cal
 ifornia Gold Rush of 1849. Another even bigger gold rush happened right her
 e in Ontario, up North in the Porcupine Camp. MINE! True Stories and legend
 s of the Porcupine Gold Rush has toured across Ontario twice. NOW! You can 
 see it right here in Oshawa ONE NIGHT ONLY! Saturday, September 30 at 7:30 
 pm (doors at 7:00pm)Playing at Camp Samac in the Council Hall (273 Conlin R
 oad East) Tickets are $15 for adults, $10 for students/seniors, $5 for Scou
 ts (+ Cubs, Venturers, Guides, etc.) available at the door, or online at: w
 ww.chasingshadowsproductions.com (https://www.chasingshadowsproductions.com
 )                        
X-ALT-DESC;FMTTYPE=text/html:<div class="xdj266r x11i5rnm xat24cr x1mh8g0r x1vvkbs">Come along on a musi
 cal journey back to a time of prospectors, pioneers, bootlegger-bandits, hi
 gh-graders, dog-sledders and moonshiners!</div><div class="xdj266r x11i5rnm
  xat24cr x1mh8g0r x1vvkbs"> </div><div class="x11i5rnm xat24cr x1mh8g0r x1v
 vkbs xtlvy1s"><strong>MINE! True Stories and Legends of the Porcupine Gold 
 Rush</strong> tells real-life harrowing tales of adventure and perseverance
  from a forgotten chapter of Canadian history through 12 new, original Folk
  songs in different traditional, historical styles, celebrating unsung char
 acters from the past.</div><div class="x11i5rnm xat24cr x1mh8g0r x1vvkbs xt
 lvy1s"> </div><div class="x11i5rnm xat24cr x1mh8g0r x1vvkbs xtlvy1s">An ori
 ginal Solo Folk Musical written and performed by<strong> Will Gillespie</st
 rong>. It is a multi-media storytelling experience featuring projections of
  original landscape paintings created by Oshawa's own visual Artist <strong
 >Susan Robinson</strong> and historical photos from the collection at the T
 immins Museum National Exhibition Centre of the real people, places and eve
 nts Will Gillespie will be singing about.</div><div class="x11i5rnm xat24cr
  x1mh8g0r x1vvkbs xtlvy1s"> </div><div class="x11i5rnm xat24cr x1mh8g0r x1v
 vkbs xtlvy1s">There are many famous stories about the Klondike Gold Rush in
  the Yukon and the California Gold Rush of 1849. Another even bigger gold r
 ush happened right here in Ontario, up North in the Porcupine Camp.</div><d
 iv class="x11i5rnm xat24cr x1mh8g0r x1vvkbs xtlvy1s"> </div><div class="x11
 i5rnm xat24cr x1mh8g0r x1vvkbs xtlvy1s"><strong>MINE! True Stories and lege
 nds of the Porcupine Gold Rush</strong> has toured across Ontario twice.</d
 iv><div class="x11i5rnm xat24cr x1mh8g0r x1vvkbs xtlvy1s"> </div><div class
 ="x11i5rnm xat24cr x1mh8g0r x1vvkbs xtlvy1s">NOW! You can see it right here
  in Oshawa <span style="text-decoration: underline;"><em><strong>ONE NIGHT 
 ONLY!</strong></em></span></div><div class="x11i5rnm xat24cr x1mh8g0r x1vvk
 bs xtlvy1s"> </div><div class="x11i5rnm xat24cr x1mh8g0r x1vvkbs xtlvy1s"><
 strong>Saturday, September 30</strong> at 7:30 pm <em>(doors at 7:00pm)</em
 ></div><div class="x11i5rnm xat24cr x1mh8g0r x1vvkbs xtlvy1s">Playing at Ca
 mp Samac in the Council Hall (273 Conlin Road East)</div><div class="x11i5r
 nm xat24cr x1mh8g0r x1vvkbs xtlvy1s"> </div><div class="x11i5rnm xat24cr x1
 mh8g0r x1vvkbs xtlvy1s">Tickets are $15 for adults, $10 for students/senior
 s, $5 for Scouts <em>(+ Cubs, Venturers, Guides, etc.)</em></div><div class
 ="x11i5rnm xat24cr x1mh8g0r x1vvkbs xtlvy1s"> </div><div class="x11i5rnm xa
 t24cr x1mh8g0r x1vvkbs xtlvy1s">available at the door, or online at: <a tit
 le="Chasing Shadows Productions Website" href="https://www.chasingshadowspr
 oductions.com" target="_blank" rel="noopener noreferrer">www.chasingshadows
 productions.com</a></div><div class="x11i5rnm xat24cr x1mh8g0r x1vvkbs xtlv
 y1s"> </div><div class="x11i5rnm xat24cr x1mh8g0r x1vvkbs xtlvy1s"> </div><
 div class="x11i5rnm xat24cr x1mh8g0r x1vvkbs xtlvy1s">                     
  </div>
DTSTAMP:20260419T170212
DTSTART;TZID=America/Toronto:20230930T193000
DTEND;TZID=America/Toronto:20230930T204500
SEQUENCE:0
TRANSP:OPAQUE
END:VEVENT
END:VCALENDAR