BEGIN:VCALENDAR
VERSION:2.0
PRODID:-//jEvents 2.0 for Joomla//EN
CALSCALE:GREGORIAN
METHOD:PUBLISH
BEGIN:VTIMEZONE
TZID:America/Toronto
BEGIN:STANDARD
DTSTART:20230209T100000
RDATE:20230312T030000
TZOFFSETFROM:-0400
TZOFFSETTO:-0500
TZNAME:America/Toronto EST
END:STANDARD
BEGIN:STANDARD
DTSTART:20231105T010000
RDATE:20240310T030000
TZOFFSETFROM:-0400
TZOFFSETTO:-0500
TZNAME:America/Toronto EST
END:STANDARD
BEGIN:STANDARD
DTSTART:20241103T010000
RDATE:20250309T030000
TZOFFSETFROM:-0400
TZOFFSETTO:-0500
TZNAME:America/Toronto EST
END:STANDARD
BEGIN:STANDARD
DTSTART:20251102T010000
RDATE:20260308T030000
TZOFFSETFROM:-0400
TZOFFSETTO:-0500
TZNAME:America/Toronto EST
END:STANDARD
BEGIN:STANDARD
DTSTART:20261101T010000
RDATE:20270314T030000
TZOFFSETFROM:-0400
TZOFFSETTO:-0500
TZNAME:America/Toronto EST
END:STANDARD
BEGIN:STANDARD
DTSTART:20271107T010000
RDATE:20280312T030000
TZOFFSETFROM:-0400
TZOFFSETTO:-0500
TZNAME:America/Toronto EST
END:STANDARD
BEGIN:STANDARD
DTSTART:20281105T010000
RDATE:20290311T030000
TZOFFSETFROM:-0400
TZOFFSETTO:-0500
TZNAME:America/Toronto EST
END:STANDARD
BEGIN:STANDARD
DTSTART:20291104T010000
RDATE:20300310T030000
TZOFFSETFROM:-0400
TZOFFSETTO:-0500
TZNAME:America/Toronto EST
END:STANDARD
BEGIN:STANDARD
DTSTART:20301103T010000
RDATE:20310309T030000
TZOFFSETFROM:-0400
TZOFFSETTO:-0500
TZNAME:America/Toronto EST
END:STANDARD
BEGIN:STANDARD
DTSTART:20311102T010000
RDATE:20320314T030000
TZOFFSETFROM:-0400
TZOFFSETTO:-0500
TZNAME:America/Toronto EST
END:STANDARD
BEGIN:DAYLIGHT
DTSTART:20230312T030000
RDATE:20231105T010000
TZOFFSETFROM:-0500
TZOFFSETTO:-0400
TZNAME:America/Toronto EDT
END:DAYLIGHT
BEGIN:DAYLIGHT
DTSTART:20240310T030000
RDATE:20241103T010000
TZOFFSETFROM:-0500
TZOFFSETTO:-0400
TZNAME:America/Toronto EDT
END:DAYLIGHT
BEGIN:DAYLIGHT
DTSTART:20250309T030000
RDATE:20251102T010000
TZOFFSETFROM:-0500
TZOFFSETTO:-0400
TZNAME:America/Toronto EDT
END:DAYLIGHT
BEGIN:DAYLIGHT
DTSTART:20260308T030000
RDATE:20261101T010000
TZOFFSETFROM:-0500
TZOFFSETTO:-0400
TZNAME:America/Toronto EDT
END:DAYLIGHT
BEGIN:DAYLIGHT
DTSTART:20270314T030000
RDATE:20271107T010000
TZOFFSETFROM:-0500
TZOFFSETTO:-0400
TZNAME:America/Toronto EDT
END:DAYLIGHT
BEGIN:DAYLIGHT
DTSTART:20280312T030000
RDATE:20281105T010000
TZOFFSETFROM:-0500
TZOFFSETTO:-0400
TZNAME:America/Toronto EDT
END:DAYLIGHT
BEGIN:DAYLIGHT
DTSTART:20290311T030000
RDATE:20291104T010000
TZOFFSETFROM:-0500
TZOFFSETTO:-0400
TZNAME:America/Toronto EDT
END:DAYLIGHT
BEGIN:DAYLIGHT
DTSTART:20300310T030000
RDATE:20301103T010000
TZOFFSETFROM:-0500
TZOFFSETTO:-0400
TZNAME:America/Toronto EDT
END:DAYLIGHT
BEGIN:DAYLIGHT
DTSTART:20310309T030000
RDATE:20311102T010000
TZOFFSETFROM:-0500
TZOFFSETTO:-0400
TZNAME:America/Toronto EDT
END:DAYLIGHT
END:VTIMEZONE
BEGIN:VEVENT
UID:b2791322f5f06ea0e47205fe24404a5b
CATEGORIES:Durham Events
CREATED:20240109T134116
SUMMARY:Admissions Open House
LOCATION:Trafalgar Castle School
DESCRIPTION:Established in 1874, Trafalgar Castle School is a school for girls in Grade
 s 4-12. We are differentiated by our size, location, and the strength of ou
 r community and are known, in particular, for nurturing and growing the abi
 lities of students who may become lost in a larger setting. We pride oursel
 ves on challenging each student’s mind, strengthening their voice and nurtu
 ring their heart.\n\nIf you or someone you know is interested in learning m
 ore about the benefits of a Trafalgar Castle School education for their chi
 ld, please invite them to join us at our upcoming Open House. \nSaturday, F
 ebruary 10\n10 a.m. to 12 noon\n\n\nWith exceptional academics and a strong
  focus on future-ready competencies, we are committed to helping students a
 pproach life with determination, thoughtful insight, compassion and kindnes
 s. REGISTER (https://forms.gle/TXgNWguQZSTHbivS7) for our Open House today!
  We look forward to getting to know you and your family and welcoming you t
 o our community of learners at Trafalgar Castle School.
X-ALT-DESC;FMTTYPE=text/html:<div>Established in 1874, Trafalgar Castle School is a school for girls in 
 Grades 4-12. We are differentiated by our size, location, and the strength 
 of our community and are known, in particular, for nurturing and growing th
 e abilities of students who may become lost in a larger setting. We pride o
 urselves on challenging each student’s mind, strengthening their voice and 
 nurturing their heart.<br /><br />If you or someone you know is interested 
 in learning more about the benefits of a Trafalgar Castle School education 
 for their child, please invite them to join us at our upcoming Open House.<
 /div><p> <br /><strong>Saturday, February 10<br />10 a.m. to 12 noon</stron
 g><br /><br /></p><div>With exceptional academics and a strong focus on fut
 ure-ready competencies, we are committed to helping students approach life 
 with determination, thoughtful insight, compassion and kindness.</div><div>
  </div><div><a href="https://forms.gle/TXgNWguQZSTHbivS7" target="_blank" r
 el="noopener" data-cke-saved-href="https://forms.gle/TXgNWguQZSTHbivS7">REG
 ISTER</a> for our Open House today! We look forward to getting to know you 
 and your family and welcoming you to our community of learners at Trafalgar
  Castle School.</div>
CONTACT:Admissions
DTSTAMP:20260422T202436
DTSTART;TZID=America/Toronto:20240210T100000
DTEND;TZID=America/Toronto:20240210T120000
SEQUENCE:0
TRANSP:OPAQUE
END:VEVENT
END:VCALENDAR