BEGIN:VCALENDAR
VERSION:2.0
PRODID:-//jEvents 2.0 for Joomla//EN
CALSCALE:GREGORIAN
METHOD:PUBLISH
BEGIN:VTIMEZONE
TZID:America/Toronto
BEGIN:STANDARD
DTSTART:20231105T010000
RDATE:20240310T030000
TZOFFSETFROM:-0400
TZOFFSETTO:-0500
TZNAME:America/Toronto EST
END:STANDARD
BEGIN:STANDARD
DTSTART:20241103T010000
RDATE:20250309T030000
TZOFFSETFROM:-0400
TZOFFSETTO:-0500
TZNAME:America/Toronto EST
END:STANDARD
BEGIN:STANDARD
DTSTART:20251102T010000
RDATE:20260308T030000
TZOFFSETFROM:-0400
TZOFFSETTO:-0500
TZNAME:America/Toronto EST
END:STANDARD
BEGIN:STANDARD
DTSTART:20261101T010000
RDATE:20270314T030000
TZOFFSETFROM:-0400
TZOFFSETTO:-0500
TZNAME:America/Toronto EST
END:STANDARD
BEGIN:STANDARD
DTSTART:20271107T010000
RDATE:20280312T030000
TZOFFSETFROM:-0400
TZOFFSETTO:-0500
TZNAME:America/Toronto EST
END:STANDARD
BEGIN:STANDARD
DTSTART:20281105T010000
RDATE:20290311T030000
TZOFFSETFROM:-0400
TZOFFSETTO:-0500
TZNAME:America/Toronto EST
END:STANDARD
BEGIN:STANDARD
DTSTART:20291104T010000
RDATE:20300310T030000
TZOFFSETFROM:-0400
TZOFFSETTO:-0500
TZNAME:America/Toronto EST
END:STANDARD
BEGIN:STANDARD
DTSTART:20301103T010000
RDATE:20310309T030000
TZOFFSETFROM:-0400
TZOFFSETTO:-0500
TZNAME:America/Toronto EST
END:STANDARD
BEGIN:STANDARD
DTSTART:20311102T010000
RDATE:20320314T030000
TZOFFSETFROM:-0400
TZOFFSETTO:-0500
TZNAME:America/Toronto EST
END:STANDARD
BEGIN:DAYLIGHT
DTSTART:20230526T090000
RDATE:20231105T010000
TZOFFSETFROM:-0500
TZOFFSETTO:-0400
TZNAME:America/Toronto EDT
END:DAYLIGHT
BEGIN:DAYLIGHT
DTSTART:20240310T030000
RDATE:20241103T010000
TZOFFSETFROM:-0500
TZOFFSETTO:-0400
TZNAME:America/Toronto EDT
END:DAYLIGHT
BEGIN:DAYLIGHT
DTSTART:20250309T030000
RDATE:20251102T010000
TZOFFSETFROM:-0500
TZOFFSETTO:-0400
TZNAME:America/Toronto EDT
END:DAYLIGHT
BEGIN:DAYLIGHT
DTSTART:20260308T030000
RDATE:20261101T010000
TZOFFSETFROM:-0500
TZOFFSETTO:-0400
TZNAME:America/Toronto EDT
END:DAYLIGHT
BEGIN:DAYLIGHT
DTSTART:20270314T030000
RDATE:20271107T010000
TZOFFSETFROM:-0500
TZOFFSETTO:-0400
TZNAME:America/Toronto EDT
END:DAYLIGHT
BEGIN:DAYLIGHT
DTSTART:20280312T030000
RDATE:20281105T010000
TZOFFSETFROM:-0500
TZOFFSETTO:-0400
TZNAME:America/Toronto EDT
END:DAYLIGHT
BEGIN:DAYLIGHT
DTSTART:20290311T030000
RDATE:20291104T010000
TZOFFSETFROM:-0500
TZOFFSETTO:-0400
TZNAME:America/Toronto EDT
END:DAYLIGHT
BEGIN:DAYLIGHT
DTSTART:20300310T030000
RDATE:20301103T010000
TZOFFSETFROM:-0500
TZOFFSETTO:-0400
TZNAME:America/Toronto EDT
END:DAYLIGHT
BEGIN:DAYLIGHT
DTSTART:20310309T030000
RDATE:20311102T010000
TZOFFSETFROM:-0500
TZOFFSETTO:-0400
TZNAME:America/Toronto EDT
END:DAYLIGHT
END:VTIMEZONE
BEGIN:VEVENT
UID:008c4477f5910febd404c3127530e904
CATEGORIES:Durham Events
CREATED:20240412T091441
SUMMARY:Ajax Lions Club - Pet Valu Walk for Dog Guides 
LOCATION:Ajax Lions Clubhouse 500 Clements Rd W\, Ajax\, Ontario
DESCRIPTION:Ajax Lions club is hosting the Pet Value Walk for Dog Guides on May 26, 202
 4 at the Ajax Lions Clubhouse on 500 Clements Rd W, Ajax Ontario - registra
 tion at 9:00 am, walk starts at 10:00 am. \nPlease participate in our walk 
 to raise funds for members of our community that need a service dog to help
  them navigate their world.  Note: you do not need a dog to participate jus
 t a willingness to join the walk and raise funds or donate to the walk usin
 g the link below.  \n \n
X-ALT-DESC;FMTTYPE=text/html:<p>Ajax Lions club is hosting the Pet Value Walk for Dog Guides on May 26, 
 2024 at the Ajax Lions Clubhouse on 500 Clements Rd W, Ajax Ontario - regis
 tration at 9:00 am, walk starts at 10:00 am. </p><p>Please participate in o
 ur walk to raise funds for members of our community that need a service dog
  to help them navigate their world.  Note: you <strong><span style="text-de
 coration: underline;">do not need a dog to participate </span></strong>just
  a willingness to join the walk and raise funds or donate to the walk using
  the link below.  </p><p> </p>
CONTACT:Sara Crocker 905-686-2130 or This email address is being protected from spambots. You need JavaScript enabled to view it.
X-EXTRAINFO:Walk registration 9:00 am walk starts at 10:00 am finishes at 12:00 pm.\nTo
  join the walk and/or donate please go to the following link: \nhttps://www
 .walkfordogguides.com/fundraisers/Ajax-WhitbyLionsClubs/pet-valu24\n
DTSTAMP:20260422T053727
DTSTART;TZID=America/Toronto:20240526T090000
DTEND;TZID=America/Toronto:20240526T120000
SEQUENCE:0
TRANSP:OPAQUE
END:VEVENT
END:VCALENDAR