BEGIN:VCALENDAR
VERSION:2.0
PRODID:-//jEvents 2.0 for Joomla//EN
CALSCALE:GREGORIAN
METHOD:PUBLISH
BEGIN:VTIMEZONE
TZID:America/Toronto
BEGIN:STANDARD
DTSTART:20231105T010000
RDATE:20240310T030000
TZOFFSETFROM:-0400
TZOFFSETTO:-0500
TZNAME:America/Toronto EST
END:STANDARD
BEGIN:STANDARD
DTSTART:20241103T010000
RDATE:20250309T030000
TZOFFSETFROM:-0400
TZOFFSETTO:-0500
TZNAME:America/Toronto EST
END:STANDARD
BEGIN:STANDARD
DTSTART:20251102T010000
RDATE:20260308T030000
TZOFFSETFROM:-0400
TZOFFSETTO:-0500
TZNAME:America/Toronto EST
END:STANDARD
BEGIN:STANDARD
DTSTART:20261101T010000
RDATE:20270314T030000
TZOFFSETFROM:-0400
TZOFFSETTO:-0500
TZNAME:America/Toronto EST
END:STANDARD
BEGIN:STANDARD
DTSTART:20271107T010000
RDATE:20280312T030000
TZOFFSETFROM:-0400
TZOFFSETTO:-0500
TZNAME:America/Toronto EST
END:STANDARD
BEGIN:STANDARD
DTSTART:20281105T010000
RDATE:20290311T030000
TZOFFSETFROM:-0400
TZOFFSETTO:-0500
TZNAME:America/Toronto EST
END:STANDARD
BEGIN:STANDARD
DTSTART:20291104T010000
RDATE:20300310T030000
TZOFFSETFROM:-0400
TZOFFSETTO:-0500
TZNAME:America/Toronto EST
END:STANDARD
BEGIN:STANDARD
DTSTART:20301103T010000
RDATE:20310309T030000
TZOFFSETFROM:-0400
TZOFFSETTO:-0500
TZNAME:America/Toronto EST
END:STANDARD
BEGIN:STANDARD
DTSTART:20311102T010000
RDATE:20320314T030000
TZOFFSETFROM:-0400
TZOFFSETTO:-0500
TZNAME:America/Toronto EST
END:STANDARD
BEGIN:DAYLIGHT
DTSTART:20230714T123000
RDATE:20231105T010000
TZOFFSETFROM:-0500
TZOFFSETTO:-0400
TZNAME:America/Toronto EDT
END:DAYLIGHT
BEGIN:DAYLIGHT
DTSTART:20240310T030000
RDATE:20241103T010000
TZOFFSETFROM:-0500
TZOFFSETTO:-0400
TZNAME:America/Toronto EDT
END:DAYLIGHT
BEGIN:DAYLIGHT
DTSTART:20250309T030000
RDATE:20251102T010000
TZOFFSETFROM:-0500
TZOFFSETTO:-0400
TZNAME:America/Toronto EDT
END:DAYLIGHT
BEGIN:DAYLIGHT
DTSTART:20260308T030000
RDATE:20261101T010000
TZOFFSETFROM:-0500
TZOFFSETTO:-0400
TZNAME:America/Toronto EDT
END:DAYLIGHT
BEGIN:DAYLIGHT
DTSTART:20270314T030000
RDATE:20271107T010000
TZOFFSETFROM:-0500
TZOFFSETTO:-0400
TZNAME:America/Toronto EDT
END:DAYLIGHT
BEGIN:DAYLIGHT
DTSTART:20280312T030000
RDATE:20281105T010000
TZOFFSETFROM:-0500
TZOFFSETTO:-0400
TZNAME:America/Toronto EDT
END:DAYLIGHT
BEGIN:DAYLIGHT
DTSTART:20290311T030000
RDATE:20291104T010000
TZOFFSETFROM:-0500
TZOFFSETTO:-0400
TZNAME:America/Toronto EDT
END:DAYLIGHT
BEGIN:DAYLIGHT
DTSTART:20300310T030000
RDATE:20301103T010000
TZOFFSETFROM:-0500
TZOFFSETTO:-0400
TZNAME:America/Toronto EDT
END:DAYLIGHT
BEGIN:DAYLIGHT
DTSTART:20310309T030000
RDATE:20311102T010000
TZOFFSETFROM:-0500
TZOFFSETTO:-0400
TZNAME:America/Toronto EDT
END:DAYLIGHT
END:VTIMEZONE
BEGIN:VEVENT
UID:9d6cc3b10063e42699b8336b6b3276e8
CATEGORIES:Durham Events
CREATED:20240416T110057
SUMMARY:Grandpa Henry's Picnic
LOCATION:Oshawa Museum
DESCRIPTION:<p><strong><em>Bring your own picnic, there’s shade and there’s sun; and th
 en when that’s over, it’s time for the fun!</em></strong></p><p> </p><p>Gra
 ndpa Henry’s Picnic is back at the Oshawa Museum on July 14, 2024! Take a t
 rip down memory lane and experience an afternoon in our heritage gardens wi
 th your family. Discover the fascinating history of the Henrys, one of Osha
 wa's earliest settler families, on your journey. You might be surprised to 
 learn that Thomas Henry used to organize a special picnic for his grandchil
 dren every year, and we're continuing that tradition he started over 150 ye
 ars ago!</p><p>This year, you can bring your own picnic and treat yourself 
 to hand-churned ice cream and popcorn. There will be games, races, costumes
 , and tours of Henry House and the garden, so there's something for everyon
 e to enjoy!</p><p>The admission fee for Grandpa Henry’s Picnic is $5 per pe
 rson, but if you're a member of the Oshawa Historical Society, you can get 
 in for free! Make sure to join before the event to take advantage of this d
 iscount. The picnic will run from 12:30 to 2:30 p.m., but you're welcome to
  stick around and explore the grounds afterward.</p><p>Please note that thi
 s is a rain or shine event, and some activities may be subject to change du
 e to inclement weather. Phone Jill at 905-436-7624 ext. 106  for more infor
 mation or sponsorship opportunities.</p><p><strong>https://grandpaspicnic.e
 ventbrite.ca</strong></p>
CONTACT:Jill Passmore
DTSTAMP:20260422T005705
DTSTART;TZID=America/Toronto:20240714T123000
DTEND;TZID=America/Toronto:20240714T143000
SEQUENCE:0
TRANSP:OPAQUE
END:VEVENT
END:VCALENDAR