BEGIN:VCALENDAR
VERSION:2.0
PRODID:-//jEvents 2.0 for Joomla//EN
CALSCALE:GREGORIAN
METHOD:PUBLISH
BEGIN:VTIMEZONE
TZID:America/Toronto
BEGIN:STANDARD
DTSTART:20231105T010000
RDATE:20240310T030000
TZOFFSETFROM:-0400
TZOFFSETTO:-0500
TZNAME:America/Toronto EST
END:STANDARD
BEGIN:STANDARD
DTSTART:20241103T010000
RDATE:20250309T030000
TZOFFSETFROM:-0400
TZOFFSETTO:-0500
TZNAME:America/Toronto EST
END:STANDARD
BEGIN:STANDARD
DTSTART:20251102T010000
RDATE:20260308T030000
TZOFFSETFROM:-0400
TZOFFSETTO:-0500
TZNAME:America/Toronto EST
END:STANDARD
BEGIN:STANDARD
DTSTART:20261101T010000
RDATE:20270314T030000
TZOFFSETFROM:-0400
TZOFFSETTO:-0500
TZNAME:America/Toronto EST
END:STANDARD
BEGIN:STANDARD
DTSTART:20271107T010000
RDATE:20280312T030000
TZOFFSETFROM:-0400
TZOFFSETTO:-0500
TZNAME:America/Toronto EST
END:STANDARD
BEGIN:STANDARD
DTSTART:20281105T010000
RDATE:20290311T030000
TZOFFSETFROM:-0400
TZOFFSETTO:-0500
TZNAME:America/Toronto EST
END:STANDARD
BEGIN:STANDARD
DTSTART:20291104T010000
RDATE:20300310T030000
TZOFFSETFROM:-0400
TZOFFSETTO:-0500
TZNAME:America/Toronto EST
END:STANDARD
BEGIN:STANDARD
DTSTART:20301103T010000
RDATE:20310309T030000
TZOFFSETFROM:-0400
TZOFFSETTO:-0500
TZNAME:America/Toronto EST
END:STANDARD
BEGIN:STANDARD
DTSTART:20311102T010000
RDATE:20320314T030000
TZOFFSETFROM:-0400
TZOFFSETTO:-0500
TZNAME:America/Toronto EST
END:STANDARD
BEGIN:DAYLIGHT
DTSTART:20230622T180000
RDATE:20231105T010000
TZOFFSETFROM:-0500
TZOFFSETTO:-0400
TZNAME:America/Toronto EDT
END:DAYLIGHT
BEGIN:DAYLIGHT
DTSTART:20240310T030000
RDATE:20241103T010000
TZOFFSETFROM:-0500
TZOFFSETTO:-0400
TZNAME:America/Toronto EDT
END:DAYLIGHT
BEGIN:DAYLIGHT
DTSTART:20250309T030000
RDATE:20251102T010000
TZOFFSETFROM:-0500
TZOFFSETTO:-0400
TZNAME:America/Toronto EDT
END:DAYLIGHT
BEGIN:DAYLIGHT
DTSTART:20260308T030000
RDATE:20261101T010000
TZOFFSETFROM:-0500
TZOFFSETTO:-0400
TZNAME:America/Toronto EDT
END:DAYLIGHT
BEGIN:DAYLIGHT
DTSTART:20270314T030000
RDATE:20271107T010000
TZOFFSETFROM:-0500
TZOFFSETTO:-0400
TZNAME:America/Toronto EDT
END:DAYLIGHT
BEGIN:DAYLIGHT
DTSTART:20280312T030000
RDATE:20281105T010000
TZOFFSETFROM:-0500
TZOFFSETTO:-0400
TZNAME:America/Toronto EDT
END:DAYLIGHT
BEGIN:DAYLIGHT
DTSTART:20290311T030000
RDATE:20291104T010000
TZOFFSETFROM:-0500
TZOFFSETTO:-0400
TZNAME:America/Toronto EDT
END:DAYLIGHT
BEGIN:DAYLIGHT
DTSTART:20300310T030000
RDATE:20301103T010000
TZOFFSETFROM:-0500
TZOFFSETTO:-0400
TZNAME:America/Toronto EDT
END:DAYLIGHT
BEGIN:DAYLIGHT
DTSTART:20310309T030000
RDATE:20311102T010000
TZOFFSETFROM:-0500
TZOFFSETTO:-0400
TZNAME:America/Toronto EDT
END:DAYLIGHT
END:VTIMEZONE
BEGIN:VEVENT
UID:bfb6e5c04bec523186061be450b4b015
CATEGORIES:Durham Events
CREATED:20240422T092547
SUMMARY:Dine with the DEAD-Jesters Court, Port Perry
LOCATION:279 Queen Street Port Perry\, ON L9L 1B9
DESCRIPTION:Join International Psychic Medium, Cathy Chafe as she entertains while you 
 dine! Her unique channeling is one of a kind. Her precise and mind-blowing 
 messages has gained international attention. Cathy's humorous character and
  talent has become very popular where restaurants and other entertainment v
 enues want in! Her "Dine with the Dead" show is a MUST see!\nSold out venue
 s across Toronto, GTA, Kawarthas, and eastern Ontario! Cathy will be in Por
 t Perry June 22nd. This is a limited seat venue. Cathy prefers up close and
  personal.\nYou will enjoy Jesters Court delicious Roast Beef or Turkey Din
 ner with all the trimmings while Cathy channels the room. There will also b
 e ghost equipment used to communicate! Jesters Court is known to be haunted
 , but that won't stop Cathy Chafe! \n$65/person, includes your meal! Cash B
 ar.\nTo purchase your tickets, visit https://www.eventbrite.com/e/dine-with
 -the-dead-at-jesters-court-port-perry-june-22nd-tickets-861522736697\n \n \
 n \n
X-ALT-DESC;FMTTYPE=text/html:<p>Join International Psychic Medium, Cathy Chafe as she entertains while y
 ou dine! Her unique channeling is one of a kind. Her precise and mind-blowi
 ng messages has gained international attention. Cathy's humorous character 
 and talent has become very popular where restaurants and other entertainmen
 t venues want in! Her "Dine with the Dead" show is a MUST see!</p><p>Sold o
 ut venues across Toronto, GTA, Kawarthas, and eastern Ontario! Cathy will b
 e in Port Perry June 22nd. This is a limited seat venue. Cathy prefers up c
 lose and personal.</p><p>You will enjoy Jesters Court delicious Roast Beef 
 or Turkey Dinner with all the trimmings while Cathy channels the room. Ther
 e will also be ghost equipment used to communicate! Jesters Court is known 
 to be haunted, but that won't stop Cathy Chafe! </p><p>$65/person, includes
  your meal! Cash Bar.</p><p>To purchase your tickets, visit <a href="https:
 //www.eventbrite.com/e/dine-with-the-dead-at-jesters-court-port-perry-june-
 22nd-tickets-861522736697">https://www.eventbrite.com/e/dine-with-the-dead-
 at-jesters-court-port-perry-june-22nd-tickets-861522736697</a></p><p> </p><
 p> </p><p> </p>
CONTACT:Jesse Manners, Event &amp; Media for Cathy Chafe 905-244-5106
X-EXTRAINFO:Only 40 seats available. First come, First Serve. Must be over the age of 1
 6. \nIf sold out, no worries...more dates added and will be posted on Socia
 l Media once released.
DTSTAMP:20260422T085953
DTSTART;TZID=America/Toronto:20240622T180000
DTEND;TZID=America/Toronto:20240622T210000
SEQUENCE:0
TRANSP:OPAQUE
END:VEVENT
END:VCALENDAR