BEGIN:VCALENDAR
VERSION:2.0
PRODID:-//jEvents 2.0 for Joomla//EN
CALSCALE:GREGORIAN
METHOD:PUBLISH
BEGIN:VTIMEZONE
TZID:America/Toronto
BEGIN:STANDARD
DTSTART:20231105T010000
RDATE:20240310T030000
TZOFFSETFROM:-0400
TZOFFSETTO:-0500
TZNAME:America/Toronto EST
END:STANDARD
BEGIN:STANDARD
DTSTART:20241103T010000
RDATE:20250309T030000
TZOFFSETFROM:-0400
TZOFFSETTO:-0500
TZNAME:America/Toronto EST
END:STANDARD
BEGIN:STANDARD
DTSTART:20251102T010000
RDATE:20260308T030000
TZOFFSETFROM:-0400
TZOFFSETTO:-0500
TZNAME:America/Toronto EST
END:STANDARD
BEGIN:STANDARD
DTSTART:20261101T010000
RDATE:20270314T030000
TZOFFSETFROM:-0400
TZOFFSETTO:-0500
TZNAME:America/Toronto EST
END:STANDARD
BEGIN:STANDARD
DTSTART:20271107T010000
RDATE:20280312T030000
TZOFFSETFROM:-0400
TZOFFSETTO:-0500
TZNAME:America/Toronto EST
END:STANDARD
BEGIN:STANDARD
DTSTART:20281105T010000
RDATE:20290311T030000
TZOFFSETFROM:-0400
TZOFFSETTO:-0500
TZNAME:America/Toronto EST
END:STANDARD
BEGIN:STANDARD
DTSTART:20291104T010000
RDATE:20300310T030000
TZOFFSETFROM:-0400
TZOFFSETTO:-0500
TZNAME:America/Toronto EST
END:STANDARD
BEGIN:STANDARD
DTSTART:20301103T010000
RDATE:20310309T030000
TZOFFSETFROM:-0400
TZOFFSETTO:-0500
TZNAME:America/Toronto EST
END:STANDARD
BEGIN:STANDARD
DTSTART:20311102T010000
RDATE:20320314T030000
TZOFFSETFROM:-0400
TZOFFSETTO:-0500
TZNAME:America/Toronto EST
END:STANDARD
BEGIN:DAYLIGHT
DTSTART:20230526T103000
RDATE:20231105T010000
TZOFFSETFROM:-0500
TZOFFSETTO:-0400
TZNAME:America/Toronto EDT
END:DAYLIGHT
BEGIN:DAYLIGHT
DTSTART:20240310T030000
RDATE:20241103T010000
TZOFFSETFROM:-0500
TZOFFSETTO:-0400
TZNAME:America/Toronto EDT
END:DAYLIGHT
BEGIN:DAYLIGHT
DTSTART:20250309T030000
RDATE:20251102T010000
TZOFFSETFROM:-0500
TZOFFSETTO:-0400
TZNAME:America/Toronto EDT
END:DAYLIGHT
BEGIN:DAYLIGHT
DTSTART:20260308T030000
RDATE:20261101T010000
TZOFFSETFROM:-0500
TZOFFSETTO:-0400
TZNAME:America/Toronto EDT
END:DAYLIGHT
BEGIN:DAYLIGHT
DTSTART:20270314T030000
RDATE:20271107T010000
TZOFFSETFROM:-0500
TZOFFSETTO:-0400
TZNAME:America/Toronto EDT
END:DAYLIGHT
BEGIN:DAYLIGHT
DTSTART:20280312T030000
RDATE:20281105T010000
TZOFFSETFROM:-0500
TZOFFSETTO:-0400
TZNAME:America/Toronto EDT
END:DAYLIGHT
BEGIN:DAYLIGHT
DTSTART:20290311T030000
RDATE:20291104T010000
TZOFFSETFROM:-0500
TZOFFSETTO:-0400
TZNAME:America/Toronto EDT
END:DAYLIGHT
BEGIN:DAYLIGHT
DTSTART:20300310T030000
RDATE:20301103T010000
TZOFFSETFROM:-0500
TZOFFSETTO:-0400
TZNAME:America/Toronto EDT
END:DAYLIGHT
BEGIN:DAYLIGHT
DTSTART:20310309T030000
RDATE:20311102T010000
TZOFFSETFROM:-0500
TZOFFSETTO:-0400
TZNAME:America/Toronto EDT
END:DAYLIGHT
END:VTIMEZONE
BEGIN:VEVENT
UID:194dfa37f40d3f166df9cee9da1ae96b
CATEGORIES:Durham Events
CREATED:20240509T130617
SUMMARY:PET VALU WALK FOR DOG GUIDES OSHAWA
LOCATION:Lakefront Park W 1425 Phillip Murray Ave Unifor Local 222 Parking lot
DESCRIPTION:A 5km loop walk to raise money for the Lions Foundation Of Canada Dog Guide
 s. They provide Dog Guides to our fellow Canadians with disabilities at no 
 cost to them. They receive no government funding, so it is fundraisers such
  as this &amp; yourselves who make the difference. Family friendly event, w
 hich include your dogs, but you don't have to have a dog to join in. You ca
 n sign up at www.walkfordogguides.com/fundraisers/oshawa (http://www.walkfo
 rdogguides.com/fundraisers/oshawa) and start fundraising. Easy to use, to e
 mail friends, post on social media. Top Fundraiser Reward to the person who
  has raised the most and attends the event! Rain or Shine! Special grab bag
 s for those who register in advance. See you there!\n
X-ALT-DESC;FMTTYPE=text/html:<p>A 5km loop walk to raise money for the Lions Foundation Of Canada Dog Gu
 ides. They provide Dog Guides to our fellow Canadians with disabilities at 
 no cost to them. They receive no government funding, so it is fundraisers s
 uch as this &amp; yourselves who make the difference. Family friendly event
 , which include your dogs, but you don't have to have a dog to join in. You
  can sign up at <a href="http://www.walkfordogguides.com/fundraisers/oshawa
 ">www.walkfordogguides.com/fundraisers/oshawa</a> and start fundraising. Ea
 sy to use, to email friends, post on social media. Top Fundraiser Reward to
  the person who has raised the most and attends the event! Rain or Shine! S
 pecial grab bags for those who register in advance. See you there!</p>
CONTACT:Sarah
DTSTAMP:20260422T053727
DTSTART;TZID=America/Toronto:20240526T103000
DTEND;TZID=America/Toronto:20240526T130000
SEQUENCE:0
TRANSP:OPAQUE
END:VEVENT
END:VCALENDAR