BEGIN:VCALENDAR
VERSION:2.0
PRODID:-//jEvents 2.0 for Joomla//EN
CALSCALE:GREGORIAN
METHOD:PUBLISH
BEGIN:VTIMEZONE
TZID:America/Toronto
BEGIN:STANDARD
DTSTART:20231105T010000
RDATE:20240310T030000
TZOFFSETFROM:-0400
TZOFFSETTO:-0500
TZNAME:America/Toronto EST
END:STANDARD
BEGIN:STANDARD
DTSTART:20241103T010000
RDATE:20250309T030000
TZOFFSETFROM:-0400
TZOFFSETTO:-0500
TZNAME:America/Toronto EST
END:STANDARD
BEGIN:STANDARD
DTSTART:20251102T010000
RDATE:20260308T030000
TZOFFSETFROM:-0400
TZOFFSETTO:-0500
TZNAME:America/Toronto EST
END:STANDARD
BEGIN:STANDARD
DTSTART:20261101T010000
RDATE:20270314T030000
TZOFFSETFROM:-0400
TZOFFSETTO:-0500
TZNAME:America/Toronto EST
END:STANDARD
BEGIN:STANDARD
DTSTART:20271107T010000
RDATE:20280312T030000
TZOFFSETFROM:-0400
TZOFFSETTO:-0500
TZNAME:America/Toronto EST
END:STANDARD
BEGIN:STANDARD
DTSTART:20281105T010000
RDATE:20290311T030000
TZOFFSETFROM:-0400
TZOFFSETTO:-0500
TZNAME:America/Toronto EST
END:STANDARD
BEGIN:STANDARD
DTSTART:20291104T010000
RDATE:20300310T030000
TZOFFSETFROM:-0400
TZOFFSETTO:-0500
TZNAME:America/Toronto EST
END:STANDARD
BEGIN:STANDARD
DTSTART:20301103T010000
RDATE:20310309T030000
TZOFFSETFROM:-0400
TZOFFSETTO:-0500
TZNAME:America/Toronto EST
END:STANDARD
BEGIN:STANDARD
DTSTART:20311102T010000
RDATE:20320314T030000
TZOFFSETFROM:-0400
TZOFFSETTO:-0500
TZNAME:America/Toronto EST
END:STANDARD
BEGIN:DAYLIGHT
DTSTART:20230608T100000
RDATE:20231105T010000
TZOFFSETFROM:-0500
TZOFFSETTO:-0400
TZNAME:America/Toronto EDT
END:DAYLIGHT
BEGIN:DAYLIGHT
DTSTART:20240310T030000
RDATE:20241103T010000
TZOFFSETFROM:-0500
TZOFFSETTO:-0400
TZNAME:America/Toronto EDT
END:DAYLIGHT
BEGIN:DAYLIGHT
DTSTART:20250309T030000
RDATE:20251102T010000
TZOFFSETFROM:-0500
TZOFFSETTO:-0400
TZNAME:America/Toronto EDT
END:DAYLIGHT
BEGIN:DAYLIGHT
DTSTART:20260308T030000
RDATE:20261101T010000
TZOFFSETFROM:-0500
TZOFFSETTO:-0400
TZNAME:America/Toronto EDT
END:DAYLIGHT
BEGIN:DAYLIGHT
DTSTART:20270314T030000
RDATE:20271107T010000
TZOFFSETFROM:-0500
TZOFFSETTO:-0400
TZNAME:America/Toronto EDT
END:DAYLIGHT
BEGIN:DAYLIGHT
DTSTART:20280312T030000
RDATE:20281105T010000
TZOFFSETFROM:-0500
TZOFFSETTO:-0400
TZNAME:America/Toronto EDT
END:DAYLIGHT
BEGIN:DAYLIGHT
DTSTART:20290311T030000
RDATE:20291104T010000
TZOFFSETFROM:-0500
TZOFFSETTO:-0400
TZNAME:America/Toronto EDT
END:DAYLIGHT
BEGIN:DAYLIGHT
DTSTART:20300310T030000
RDATE:20301103T010000
TZOFFSETFROM:-0500
TZOFFSETTO:-0400
TZNAME:America/Toronto EDT
END:DAYLIGHT
BEGIN:DAYLIGHT
DTSTART:20310309T030000
RDATE:20311102T010000
TZOFFSETFROM:-0500
TZOFFSETTO:-0400
TZNAME:America/Toronto EDT
END:DAYLIGHT
END:VTIMEZONE
BEGIN:VEVENT
UID:134fc946039b93c181d8d60efaee755e
CATEGORIES:Durham Events
CREATED:20240512T195259
SUMMARY:2nd Annual Car Rally: Travelling Through the Decades
LOCATION:900 King St E\, Oshawa
DESCRIPTION:<p>2<sup>nd</sup> Annual Car Rally Event: Travelling Through the Decades</p
 ><p><a href="https://durhamdeaf.org/events/dds-car-rally-2024/">DDS Car Ral
 ly 2024 | Durham Deaf Services</a></p><p> </p><p>Saturday June 8, 2024 - Os
 hawa, ON - Durham Deaf Services (DDS)</p><p>Get ready for an exhilarating d
 ay of adventure and excitement as we bring you the ultimate car rally and s
 cavenger hunt experience – our second annual car rally event! This year’s t
 heme is travelling through the decades!</p><p>Gather your friends, family a
 nd form a team to embark on an unforgettable journey around Oshawa. You and
  your team will navigate through Oshawa following the clues and engaging in
  fun stops along the way. Teams will tackle challenges activities, hunt for
  specific objects in our scavenger hunt, and capture moments for additional
  points- all while having fun! Extra points will be rewarded for creatively
  decorated cars and team costumes!</p><p>The Car Rally takes place at the D
 DS office, located at 900 King Street East, Oshawa, Ontario. The first car 
 to launch at 10 am – various start times available. Winners announced aroun
 d 4:30 pm in closing announcements.</p><p>Upon completing the route and ret
 urning to DDS, the teams will indulge in a BBQ lunch, partake in themed gam
 es, socialize with fellow participants, and have the opportunity to interac
 t with our amazing sponsors. Additionally, we’ll be hosting a 50/50 draw fo
 r participants (at an extra cost).</p><p> </p><p>Don’t miss out on this inc
 redible event! REGISTER NOW! $45 per team/car <a href="https://durhamdeaf.o
 rg/events/dds-car-rally-2024/">DDS Car Rally 2024 | Durham Deaf Services</a
 ></p><ul><li>Teams of 4 people max.</li><li>Registration includes lunch, sn
 acks, and refreshments</li><li>Teams to dress up as a decade of their choic
 e (e.g., 70s, 80s, or 30s)</li></ul><p>Prizes for 1<sup>st</sup> place, 2<s
 up>nd</sup> place, 3<sup>rd</sup> place, and best team spirit! Some prizes 
 include:</p><ul><li>Concert Tickets</li><li>Ripley Aquarium Admission Ticke
 ts</li><li>Family Weekend Pass to the VARAC Vintage Grand Prix at Canadian 
 Tire Motorsport Park</li><li>Reptilia Admission Tickets</li><li>Gift Cards<
 /li><li>And More!</li></ul><p>Get ready to rev your engines, solve clues, a
 nd race against the clock. We can’t wait to see you at the 2nd Annual Car R
 ally &amp; Scavenger Hunt! Registration is online at <a href="https://durha
 mdeaf.org/events/dds-car-rally-2024/">DDS Car Rally 2024 | Durham Deaf Serv
 ices</a></p><p><strong> </strong><strong>Check out our social media (Facebo
 ok and Instagram) about this event! </strong></p><p><strong> </strong></p><
 p><strong>About Durham Deaf Services </strong></p><p>Durham Deaf Services h
 as been serving the community for more than 40 years. DDS aims to promote i
 ndependence and autonomy for all in the Deaf, deafened, and hard-of-hearing
  community by eliminating barriers to participation and preserving Deaf cul
 ture, language, and heritage.</p><p> </p><p><strong>Register for the DDS Ca
 r Rally at: <a href="https://durhamdeaf.org/events/dds-car-rally-2024/">DDS
  Car Rally 2024 | Durham Deaf Services</a></strong></p>
CONTACT:905-579-3328
X-EXTRAINFO:email This email address is being protected from spambots. You need JavaScr
 ipt enabled to view it. or This email address is being protected from spamb
 ots. You need JavaScript enabled to view it. for general inquiries about th
 e event
DTSTAMP:20260422T071109
DTSTART;TZID=America/Toronto:20240608T100000
DTEND;TZID=America/Toronto:20240608T170000
SEQUENCE:0
TRANSP:OPAQUE
END:VEVENT
END:VCALENDAR