BEGIN:VCALENDAR
VERSION:2.0
PRODID:-//jEvents 2.0 for Joomla//EN
CALSCALE:GREGORIAN
METHOD:PUBLISH
BEGIN:VTIMEZONE
TZID:America/Toronto
BEGIN:STANDARD
DTSTART:20231105T010000
RDATE:20240310T030000
TZOFFSETFROM:-0400
TZOFFSETTO:-0500
TZNAME:America/Toronto EST
END:STANDARD
BEGIN:STANDARD
DTSTART:20241103T010000
RDATE:20250309T030000
TZOFFSETFROM:-0400
TZOFFSETTO:-0500
TZNAME:America/Toronto EST
END:STANDARD
BEGIN:STANDARD
DTSTART:20251102T010000
RDATE:20260308T030000
TZOFFSETFROM:-0400
TZOFFSETTO:-0500
TZNAME:America/Toronto EST
END:STANDARD
BEGIN:STANDARD
DTSTART:20261101T010000
RDATE:20270314T030000
TZOFFSETFROM:-0400
TZOFFSETTO:-0500
TZNAME:America/Toronto EST
END:STANDARD
BEGIN:STANDARD
DTSTART:20271107T010000
RDATE:20280312T030000
TZOFFSETFROM:-0400
TZOFFSETTO:-0500
TZNAME:America/Toronto EST
END:STANDARD
BEGIN:STANDARD
DTSTART:20281105T010000
RDATE:20290311T030000
TZOFFSETFROM:-0400
TZOFFSETTO:-0500
TZNAME:America/Toronto EST
END:STANDARD
BEGIN:STANDARD
DTSTART:20291104T010000
RDATE:20300310T030000
TZOFFSETFROM:-0400
TZOFFSETTO:-0500
TZNAME:America/Toronto EST
END:STANDARD
BEGIN:STANDARD
DTSTART:20301103T010000
RDATE:20310309T030000
TZOFFSETFROM:-0400
TZOFFSETTO:-0500
TZNAME:America/Toronto EST
END:STANDARD
BEGIN:STANDARD
DTSTART:20311102T010000
RDATE:20320314T030000
TZOFFSETFROM:-0400
TZOFFSETTO:-0500
TZNAME:America/Toronto EST
END:STANDARD
BEGIN:DAYLIGHT
DTSTART:20230614T160000
RDATE:20231105T010000
TZOFFSETFROM:-0500
TZOFFSETTO:-0400
TZNAME:America/Toronto EDT
END:DAYLIGHT
BEGIN:DAYLIGHT
DTSTART:20240310T030000
RDATE:20241103T010000
TZOFFSETFROM:-0500
TZOFFSETTO:-0400
TZNAME:America/Toronto EDT
END:DAYLIGHT
BEGIN:DAYLIGHT
DTSTART:20250309T030000
RDATE:20251102T010000
TZOFFSETFROM:-0500
TZOFFSETTO:-0400
TZNAME:America/Toronto EDT
END:DAYLIGHT
BEGIN:DAYLIGHT
DTSTART:20260308T030000
RDATE:20261101T010000
TZOFFSETFROM:-0500
TZOFFSETTO:-0400
TZNAME:America/Toronto EDT
END:DAYLIGHT
BEGIN:DAYLIGHT
DTSTART:20270314T030000
RDATE:20271107T010000
TZOFFSETFROM:-0500
TZOFFSETTO:-0400
TZNAME:America/Toronto EDT
END:DAYLIGHT
BEGIN:DAYLIGHT
DTSTART:20280312T030000
RDATE:20281105T010000
TZOFFSETFROM:-0500
TZOFFSETTO:-0400
TZNAME:America/Toronto EDT
END:DAYLIGHT
BEGIN:DAYLIGHT
DTSTART:20290311T030000
RDATE:20291104T010000
TZOFFSETFROM:-0500
TZOFFSETTO:-0400
TZNAME:America/Toronto EDT
END:DAYLIGHT
BEGIN:DAYLIGHT
DTSTART:20300310T030000
RDATE:20301103T010000
TZOFFSETFROM:-0500
TZOFFSETTO:-0400
TZNAME:America/Toronto EDT
END:DAYLIGHT
BEGIN:DAYLIGHT
DTSTART:20310309T030000
RDATE:20311102T010000
TZOFFSETFROM:-0500
TZOFFSETTO:-0400
TZNAME:America/Toronto EDT
END:DAYLIGHT
END:VTIMEZONE
BEGIN:VEVENT
UID:75aab85acfe7b0da41159a018bbc3b76
CATEGORIES:Durham Events
CREATED:20240518T131408
SUMMARY:Many Voices Tell a Story! Pre Fiesta Week Storytelling and Music Concert
LOCATION:Caribbean Cultural Centre  600 Wentworth Street East Oshawa\, ON L1H 3V9
DESCRIPTION:https://www.eventbrite.ca/e/many-voices-tell-a-story-tickets-902904550817?a
 ff=oddtdtcreator \nIn partnership with Storytelling Toronto International S
 torytelling Festival and Oshawa Club Carib Caribbean Culture Centre "Sassy 
 Seniors" Pre-Fiesta Concert.\nImmerse yourself in captivating storytelling 
 and live performances with international talents Jan Blake, and TuuP from t
 he UK alongside local Dub poet, Judith Shaw, and drummer Negus Medhin. Host
 ed by Kesha Christie.  Artistic Director Heather Whaley.\nReserve your spot
  now! The concert begins at 4 pm sharp. (Doors open at 2:30 for a light lun
 ch and mingling.)\n \n
X-ALT-DESC;FMTTYPE=text/html:<p><a title="Many Voices Tell a Story! at Club Carib" href="https://www.eve
 ntbrite.ca/e/many-voices-tell-a-story-tickets-902904550817?aff=oddtdtcreato
 r">https://www.eventbrite.ca/e/many-voices-tell-a-story-tickets-90290455081
 7?aff=oddtdtcreator </a></p><p>In partnership with Storytelling Toronto Int
 ernational Storytelling Festival and <strong>Oshawa Club Carib Caribbean Cu
 lture Centre "Sassy Seniors" </strong><strong style="font-size: 1rem;">Pre-
 Fiesta Concert.</strong></p><p>Immerse yourself in captivating storytelling
  and live performances with international talents Jan Blake, and TuuP from 
 the UK alongside local Dub poet, Judith Shaw, and drummer Negus Medhin. Hos
 ted by Kesha Christie.  Artistic Director Heather Whaley.</p><p>Reserve you
 r spot now! The concert begins at 4 pm sharp. (Doors open at 2:30 for a lig
 ht lunch and mingling.)</p><p> </p>
CONTACT:Lydia Francis (905) 449-0009
X-EXTRAINFO:Director Heather Whaley can be reached at 289 688-1492
DTSTAMP:20260422T140920
DTSTART;TZID=America/Toronto:20240614T160000
DTEND;TZID=America/Toronto:20240614T180000
SEQUENCE:0
TRANSP:OPAQUE
END:VEVENT
END:VCALENDAR