BEGIN:VCALENDAR
VERSION:2.0
PRODID:-//jEvents 2.0 for Joomla//EN
CALSCALE:GREGORIAN
METHOD:PUBLISH
BEGIN:VTIMEZONE
TZID:America/Toronto
BEGIN:STANDARD
DTSTART:20231105T010000
RDATE:20240310T030000
TZOFFSETFROM:-0400
TZOFFSETTO:-0500
TZNAME:America/Toronto EST
END:STANDARD
BEGIN:STANDARD
DTSTART:20241103T010000
RDATE:20250309T030000
TZOFFSETFROM:-0400
TZOFFSETTO:-0500
TZNAME:America/Toronto EST
END:STANDARD
BEGIN:STANDARD
DTSTART:20251102T010000
RDATE:20260308T030000
TZOFFSETFROM:-0400
TZOFFSETTO:-0500
TZNAME:America/Toronto EST
END:STANDARD
BEGIN:STANDARD
DTSTART:20261101T010000
RDATE:20270314T030000
TZOFFSETFROM:-0400
TZOFFSETTO:-0500
TZNAME:America/Toronto EST
END:STANDARD
BEGIN:STANDARD
DTSTART:20271107T010000
RDATE:20280312T030000
TZOFFSETFROM:-0400
TZOFFSETTO:-0500
TZNAME:America/Toronto EST
END:STANDARD
BEGIN:STANDARD
DTSTART:20281105T010000
RDATE:20290311T030000
TZOFFSETFROM:-0400
TZOFFSETTO:-0500
TZNAME:America/Toronto EST
END:STANDARD
BEGIN:STANDARD
DTSTART:20291104T010000
RDATE:20300310T030000
TZOFFSETFROM:-0400
TZOFFSETTO:-0500
TZNAME:America/Toronto EST
END:STANDARD
BEGIN:STANDARD
DTSTART:20301103T010000
RDATE:20310309T030000
TZOFFSETFROM:-0400
TZOFFSETTO:-0500
TZNAME:America/Toronto EST
END:STANDARD
BEGIN:STANDARD
DTSTART:20311102T010000
RDATE:20320314T030000
TZOFFSETFROM:-0400
TZOFFSETTO:-0500
TZNAME:America/Toronto EST
END:STANDARD
BEGIN:DAYLIGHT
DTSTART:20230704T103000
RDATE:20231105T010000
TZOFFSETFROM:-0500
TZOFFSETTO:-0400
TZNAME:America/Toronto EDT
END:DAYLIGHT
BEGIN:DAYLIGHT
DTSTART:20240310T030000
RDATE:20241103T010000
TZOFFSETFROM:-0500
TZOFFSETTO:-0400
TZNAME:America/Toronto EDT
END:DAYLIGHT
BEGIN:DAYLIGHT
DTSTART:20250309T030000
RDATE:20251102T010000
TZOFFSETFROM:-0500
TZOFFSETTO:-0400
TZNAME:America/Toronto EDT
END:DAYLIGHT
BEGIN:DAYLIGHT
DTSTART:20260308T030000
RDATE:20261101T010000
TZOFFSETFROM:-0500
TZOFFSETTO:-0400
TZNAME:America/Toronto EDT
END:DAYLIGHT
BEGIN:DAYLIGHT
DTSTART:20270314T030000
RDATE:20271107T010000
TZOFFSETFROM:-0500
TZOFFSETTO:-0400
TZNAME:America/Toronto EDT
END:DAYLIGHT
BEGIN:DAYLIGHT
DTSTART:20280312T030000
RDATE:20281105T010000
TZOFFSETFROM:-0500
TZOFFSETTO:-0400
TZNAME:America/Toronto EDT
END:DAYLIGHT
BEGIN:DAYLIGHT
DTSTART:20290311T030000
RDATE:20291104T010000
TZOFFSETFROM:-0500
TZOFFSETTO:-0400
TZNAME:America/Toronto EDT
END:DAYLIGHT
BEGIN:DAYLIGHT
DTSTART:20300310T030000
RDATE:20301103T010000
TZOFFSETFROM:-0500
TZOFFSETTO:-0400
TZNAME:America/Toronto EDT
END:DAYLIGHT
BEGIN:DAYLIGHT
DTSTART:20310309T030000
RDATE:20311102T010000
TZOFFSETFROM:-0500
TZOFFSETTO:-0400
TZNAME:America/Toronto EDT
END:DAYLIGHT
END:VTIMEZONE
BEGIN:VEVENT
UID:8c95c718932baa99e49906feaf6feea4
CATEGORIES:Durham Events
CREATED:20240531T121635
SUMMARY:TD Summer Reading Club Kick Off
LOCATION:Whitby Public Library
DESCRIPTION:All Ages \nWonderPhil (https://www.magicintoronto.com/) the magician is her
 e to kick off the TD Summer Reading Club! You won't want to miss this excit
 ing and entertaining kick off to Canada’s biggest, bilingual summer reading
  program for kids of all ages, interests, and abilities.\nBrooklin Branch: 
 Thursday, July 4, 10:30–11:30 a.m.\nRossland Branch: Thursday, July 4, 12:3
 0–1:30 p.m.\nCentral Library: Thursday, July 4, 2:30–3:30 p.m.\nDrop-in pro
 gram. No registration required. (https://whitbylibrary.libcal.com/calendars
 ?t=d&amp;q=Kick%20off&amp;cid=-1&amp;cal=-1&amp;inc=0)\n
X-ALT-DESC;FMTTYPE=text/html:<h1 class="media-heading"><strong style="font-size: 1rem;">All Ages </stron
 g></h1><div id="s-lc-event-desc"><p><br /><a href="https://www.magicintoron
 to.com/">WonderPhil</a> the magician is here to kick off the TD Summer Read
 ing Club! You won't want to miss this exciting and entertaining kick off to
  <span style="font-size: 1rem;">Canada’s biggest, bilingual summer reading 
 program for kids of </span><span style="font-size: 1rem;">all ages, interes
 ts, and abilities.</span></p><div><p class="x_x_MsoNormal">Brooklin Branch:
  <span style="font-size: 1rem;">Thursday, July 4, 10:30–11:30 a.m.</span></
 p></div><div><p class="x_x_MsoNormal">Rossland Branch: <span style="font-si
 ze: 1rem;">Thursday, July 4, 12:30–1:30 p.m.</span></p></div><div><p class=
 "x_x_MsoNormal">Central Library: <span style="font-size: 1rem;">Thursday, J
 uly 4, 2:30–3:30 p.m.</span></p><p class="x_x_MsoNormal"><a href="https://w
 hitbylibrary.libcal.com/calendars?t=d&amp;q=Kick%20off&amp;cid=-1&amp;cal=-
 1&amp;inc=0"><span style="font-size: 1rem;">Drop-in program. No registratio
 n required.</span></a></p></div></div>
DTSTAMP:20260422T053329
DTSTART;TZID=America/Toronto:20240704T103000
SEQUENCE:0
TRANSP:OPAQUE
END:VEVENT
END:VCALENDAR