BEGIN:VCALENDAR
VERSION:2.0
PRODID:-//jEvents 2.0 for Joomla//EN
CALSCALE:GREGORIAN
METHOD:PUBLISH
BEGIN:VTIMEZONE
TZID:America/Toronto
BEGIN:STANDARD
DTSTART:20231105T010000
RDATE:20240310T030000
TZOFFSETFROM:-0400
TZOFFSETTO:-0500
TZNAME:America/Toronto EST
END:STANDARD
BEGIN:STANDARD
DTSTART:20241103T010000
RDATE:20250309T030000
TZOFFSETFROM:-0400
TZOFFSETTO:-0500
TZNAME:America/Toronto EST
END:STANDARD
BEGIN:STANDARD
DTSTART:20251102T010000
RDATE:20260308T030000
TZOFFSETFROM:-0400
TZOFFSETTO:-0500
TZNAME:America/Toronto EST
END:STANDARD
BEGIN:STANDARD
DTSTART:20261101T010000
RDATE:20270314T030000
TZOFFSETFROM:-0400
TZOFFSETTO:-0500
TZNAME:America/Toronto EST
END:STANDARD
BEGIN:STANDARD
DTSTART:20271107T010000
RDATE:20280312T030000
TZOFFSETFROM:-0400
TZOFFSETTO:-0500
TZNAME:America/Toronto EST
END:STANDARD
BEGIN:STANDARD
DTSTART:20281105T010000
RDATE:20290311T030000
TZOFFSETFROM:-0400
TZOFFSETTO:-0500
TZNAME:America/Toronto EST
END:STANDARD
BEGIN:STANDARD
DTSTART:20291104T010000
RDATE:20300310T030000
TZOFFSETFROM:-0400
TZOFFSETTO:-0500
TZNAME:America/Toronto EST
END:STANDARD
BEGIN:STANDARD
DTSTART:20301103T010000
RDATE:20310309T030000
TZOFFSETFROM:-0400
TZOFFSETTO:-0500
TZNAME:America/Toronto EST
END:STANDARD
BEGIN:STANDARD
DTSTART:20311102T010000
RDATE:20320314T030000
TZOFFSETFROM:-0400
TZOFFSETTO:-0500
TZNAME:America/Toronto EST
END:STANDARD
BEGIN:DAYLIGHT
DTSTART:20230630T143000
RDATE:20231105T010000
TZOFFSETFROM:-0500
TZOFFSETTO:-0400
TZNAME:America/Toronto EDT
END:DAYLIGHT
BEGIN:DAYLIGHT
DTSTART:20240310T030000
RDATE:20241103T010000
TZOFFSETFROM:-0500
TZOFFSETTO:-0400
TZNAME:America/Toronto EDT
END:DAYLIGHT
BEGIN:DAYLIGHT
DTSTART:20250309T030000
RDATE:20251102T010000
TZOFFSETFROM:-0500
TZOFFSETTO:-0400
TZNAME:America/Toronto EDT
END:DAYLIGHT
BEGIN:DAYLIGHT
DTSTART:20260308T030000
RDATE:20261101T010000
TZOFFSETFROM:-0500
TZOFFSETTO:-0400
TZNAME:America/Toronto EDT
END:DAYLIGHT
BEGIN:DAYLIGHT
DTSTART:20270314T030000
RDATE:20271107T010000
TZOFFSETFROM:-0500
TZOFFSETTO:-0400
TZNAME:America/Toronto EDT
END:DAYLIGHT
BEGIN:DAYLIGHT
DTSTART:20280312T030000
RDATE:20281105T010000
TZOFFSETFROM:-0500
TZOFFSETTO:-0400
TZNAME:America/Toronto EDT
END:DAYLIGHT
BEGIN:DAYLIGHT
DTSTART:20290311T030000
RDATE:20291104T010000
TZOFFSETFROM:-0500
TZOFFSETTO:-0400
TZNAME:America/Toronto EDT
END:DAYLIGHT
BEGIN:DAYLIGHT
DTSTART:20300310T030000
RDATE:20301103T010000
TZOFFSETFROM:-0500
TZOFFSETTO:-0400
TZNAME:America/Toronto EDT
END:DAYLIGHT
BEGIN:DAYLIGHT
DTSTART:20310309T030000
RDATE:20311102T010000
TZOFFSETFROM:-0500
TZOFFSETTO:-0400
TZNAME:America/Toronto EDT
END:DAYLIGHT
END:VTIMEZONE
BEGIN:VEVENT
UID:bdde9bee211a0183e6ac3010b85eb40d
CATEGORIES:Durham Events
CREATED:20240606T104816
SUMMARY:Music4life Ensemble presents Golden Grooves
LOCATION:St. Francis Centre\, Ajax
DESCRIPTION:<div class="xdj266r x11i5rnm xat24cr x1mh8g0r x1vvkbs x126k92a"><div dir="a
 uto">Join Us for 'Golden Grooves'! </div><div dir="auto">Join Music4life En
 semble Sunday, June 30th, 2024 for an unforgettable seniors-centric musical
  event! Sponsored by the Town of Ajax through the <span class="html-span xd
 j266r x11i5rnm xat24cr x1mh8g0r xexx8yu x4uap5 x18d9i69 xkhd6sd x1hl2dhg x1
 6tdsg8 x1vvkbs"><a class="x1i10hfl xjbqb8w x1ejq31n xd10rxx x1sy0etr x17r0t
 ee x972fbf xcfux6l x1qhh985 xm0m39n x9f619 x1ypdohk xt0psk2 xe8uvvx xdj266r
  x11i5rnm xat24cr x1mh8g0r xexx8yu x4uap5 x18d9i69 xkhd6sd x16tdsg8 x1hl2dh
 g xggy1nq x1a2a7pz x1sur9pj xkrqix3 x1fey0fg xo1l8bm" tabindex="0" role="li
 nk" href="https://www.facebook.com/hashtag/ajaxpartnershipfund?__eep__=6&am
 p;__cft__[0]=AZUN7mMXX3ewjL4V4F21__RAIeXzDKvAM7NPdtn4PDSVMMsnqDeK9go4-WARAr
 0noez1H6hr7jOxEVDKcrVHd7ZOW_P1NU64_PCg41VH0RGq9nwos57cb90b0GoQEvppGVe6QAp9O
 kj2jeKn96i0h1zZZlkESUQwbX4ZZnTx5HWnI7XikC7t2rqst0YOzzZpsSMk7GUkAx2_Or7Y0FyN
 -L9saCZEMRN9EnpKtxtyLFAK7HdgliKH333fRUVDQpwj3-0&amp;__tn__=*NK-R">#ajaxpart
 nershipfund</a></span>, we're dedicated to keeping our community inspired a
 nd musically engaged. </div><div dir="auto"> </div><div dir="auto">Performa
 nce Time: 2:30 PM - 3:30 PM</div><div dir="auto">Free Refreshments: Availab
 le after the event</div><div dir="auto">This is a FREE event, but spots are
  limited! Don't miss out – register now to secure your spot! </div><div dir
 ="auto"> </div><div dir="auto"><span class="html-span xdj266r x11i5rnm xat2
 4cr x1mh8g0r xexx8yu x4uap5 x18d9i69 xkhd6sd x1hl2dhg x16tdsg8 x1vvkbs"><a 
 class="x1i10hfl xjbqb8w x1ejq31n xd10rxx x1sy0etr x17r0tee x972fbf xcfux6l 
 x1qhh985 xm0m39n x9f619 x1ypdohk xt0psk2 xe8uvvx xdj266r x11i5rnm xat24cr x
 1mh8g0r xexx8yu x4uap5 x18d9i69 xkhd6sd x16tdsg8 x1hl2dhg xggy1nq x1a2a7pz 
 x1sur9pj xkrqix3 x1fey0fg" tabindex="0" role="link" href="https://www.music
 4lifeensemble.ca/events/goldengrooves?fbclid=IwZXh0bgNhZW0CMTAAAR1GQ_5-HLOe
 qdXoEL-XHVCCQec6luV2aDC-jQeLuZwN3e0Ph0EFSdXmPvQ_aem_Aaq4v-Pn1VR2lI2Duw47hC1
 O6GH15UCAlXDsfMtrhJsfa_-ikgXJz29jwm3ZdqyohH1UfkEdJylD8X3QQRUFR6A5" target="
 _blank" rel="nofollow noopener noreferrer">https://www.music4lifeensemble.c
 a/events/goldengrooves</a></span></div></div><div class="x11i5rnm xat24cr x
 1mh8g0r x1vvkbs xtlvy1s x126k92a"><div dir="auto"> </div><div dir="auto">To
 wnofAjax <span class="html-span xdj266r x11i5rnm xat24cr x1mh8g0r xexx8yu x
 4uap5 x18d9i69 xkhd6sd x1hl2dhg x16tdsg8 x1vvkbs"><a class="x1i10hfl xjbqb8
 w x1ejq31n xd10rxx x1sy0etr x17r0tee x972fbf xcfux6l x1qhh985 xm0m39n x9f61
 9 x1ypdohk xt0psk2 xe8uvvx xdj266r x11i5rnm xat24cr x1mh8g0r xexx8yu x4uap5
  x18d9i69 xkhd6sd x16tdsg8 x1hl2dhg xggy1nq x1a2a7pz x1sur9pj xkrqix3 x1fey
 0fg xo1l8bm" tabindex="0" role="link" href="https://www.facebook.com/hashta
 g/goldengrooves?__eep__=6&amp;__cft__[0]=AZUN7mMXX3ewjL4V4F21__RAIeXzDKvAM7
 NPdtn4PDSVMMsnqDeK9go4-WARAr0noez1H6hr7jOxEVDKcrVHd7ZOW_P1NU64_PCg41VH0RGq9
 nwos57cb90b0GoQEvppGVe6QAp9Okj2jeKn96i0h1zZZlkESUQwbX4ZZnTx5HWnI7XikC7t2rqs
 t0YOzzZpsSMk7GUkAx2_Or7Y0FyN-L9saCZEMRN9EnpKtxtyLFAK7HdgliKH333fRUVDQpwj3-0
 &amp;__tn__=*NK-R">#goldengrooves</a></span> <span class="html-span xdj266r
  x11i5rnm xat24cr x1mh8g0r xexx8yu x4uap5 x18d9i69 xkhd6sd x1hl2dhg x16tdsg
 8 x1vvkbs"><a class="x1i10hfl xjbqb8w x1ejq31n xd10rxx x1sy0etr x17r0tee x9
 72fbf xcfux6l x1qhh985 xm0m39n x9f619 x1ypdohk xt0psk2 xe8uvvx xdj266r x11i
 5rnm xat24cr x1mh8g0r xexx8yu x4uap5 x18d9i69 xkhd6sd x16tdsg8 x1hl2dhg xgg
 y1nq x1a2a7pz x1sur9pj xkrqix3 x1fey0fg xo1l8bm" tabindex="0" role="link" h
 ref="https://www.facebook.com/hashtag/music4lifeensemble?__eep__=6&amp;__cf
 t__[0]=AZUN7mMXX3ewjL4V4F21__RAIeXzDKvAM7NPdtn4PDSVMMsnqDeK9go4-WARAr0noez1
 H6hr7jOxEVDKcrVHd7ZOW_P1NU64_PCg41VH0RGq9nwos57cb90b0GoQEvppGVe6QAp9Okj2jeK
 n96i0h1zZZlkESUQwbX4ZZnTx5HWnI7XikC7t2rqst0YOzzZpsSMk7GUkAx2_Or7Y0FyN-L9saC
 ZEMRN9EnpKtxtyLFAK7HdgliKH333fRUVDQpwj3-0&amp;__tn__=*NK-R">#music4LifeEnse
 mble</a></span> <span class="html-span xdj266r x11i5rnm xat24cr x1mh8g0r xe
 xx8yu x4uap5 x18d9i69 xkhd6sd x1hl2dhg x16tdsg8 x1vvkbs"><a class="x1i10hfl
  xjbqb8w x1ejq31n xd10rxx x1sy0etr x17r0tee x972fbf xcfux6l x1qhh985 xm0m39
 n x9f619 x1ypdohk xt0psk2 xe8uvvx xdj266r x11i5rnm xat24cr x1mh8g0r xexx8yu
  x4uap5 x18d9i69 xkhd6sd x16tdsg8 x1hl2dhg xggy1nq x1a2a7pz x1sur9pj xkrqix
 3 x1fey0fg xo1l8bm" tabindex="0" role="link" href="https://www.facebook.com
 /hashtag/communityevent?__eep__=6&amp;__cft__[0]=AZUN7mMXX3ewjL4V4F21__RAIe
 XzDKvAM7NPdtn4PDSVMMsnqDeK9go4-WARAr0noez1H6hr7jOxEVDKcrVHd7ZOW_P1NU64_PCg4
 1VH0RGq9nwos57cb90b0GoQEvppGVe6QAp9Okj2jeKn96i0h1zZZlkESUQwbX4ZZnTx5HWnI7Xi
 kC7t2rqst0YOzzZpsSMk7GUkAx2_Or7Y0FyN-L9saCZEMRN9EnpKtxtyLFAK7HdgliKH333fRUV
 DQpwj3-0&amp;__tn__=*NK-R">#communityevent</a></span>#seniorsevent <span cl
 ass="html-span xdj266r x11i5rnm xat24cr x1mh8g0r xexx8yu x4uap5 x18d9i69 xk
 hd6sd x1hl2dhg x16tdsg8 x1vvkbs"><a class="x1i10hfl xjbqb8w x1ejq31n xd10rx
 x x1sy0etr x17r0tee x972fbf xcfux6l x1qhh985 xm0m39n x9f619 x1ypdohk xt0psk
 2 xe8uvvx xdj266r x11i5rnm xat24cr x1mh8g0r xexx8yu x4uap5 x18d9i69 xkhd6sd
  x16tdsg8 x1hl2dhg xggy1nq x1a2a7pz x1sur9pj xkrqix3 x1fey0fg xo1l8bm" tabi
 ndex="0" role="link" href="https://www.facebook.com/hashtag/ajaxpartnership
 fund?__eep__=6&amp;__cft__[0]=AZUN7mMXX3ewjL4V4F21__RAIeXzDKvAM7NPdtn4PDSVM
 MsnqDeK9go4-WARAr0noez1H6hr7jOxEVDKcrVHd7ZOW_P1NU64_PCg41VH0RGq9nwos57cb90b
 0GoQEvppGVe6QAp9Okj2jeKn96i0h1zZZlkESUQwbX4ZZnTx5HWnI7XikC7t2rqst0YOzzZpsSM
 k7GUkAx2_Or7Y0FyN-L9saCZEMRN9EnpKtxtyLFAK7HdgliKH333fRUVDQpwj3-0&amp;__tn__
 =*NK-R">#ajaxpartnershipfund</a></span></div><div dir="auto">Let's make som
 e golden memories together! </div></div>
CONTACT:This email address is being protected from spambots. You need JavaScript enabled to view it.
DTSTAMP:20260422T053410
DTSTART;TZID=America/Toronto:20240630T143000
DTEND;TZID=America/Toronto:20240630T153000
SEQUENCE:0
TRANSP:OPAQUE
END:VEVENT
END:VCALENDAR