BEGIN:VCALENDAR
VERSION:2.0
PRODID:-//jEvents 2.0 for Joomla//EN
CALSCALE:GREGORIAN
METHOD:PUBLISH
BEGIN:VTIMEZONE
TZID:America/Toronto
BEGIN:STANDARD
DTSTART:20231105T010000
RDATE:20240310T030000
TZOFFSETFROM:-0400
TZOFFSETTO:-0500
TZNAME:America/Toronto EST
END:STANDARD
BEGIN:STANDARD
DTSTART:20241103T010000
RDATE:20250309T030000
TZOFFSETFROM:-0400
TZOFFSETTO:-0500
TZNAME:America/Toronto EST
END:STANDARD
BEGIN:STANDARD
DTSTART:20251102T010000
RDATE:20260308T030000
TZOFFSETFROM:-0400
TZOFFSETTO:-0500
TZNAME:America/Toronto EST
END:STANDARD
BEGIN:STANDARD
DTSTART:20261101T010000
RDATE:20270314T030000
TZOFFSETFROM:-0400
TZOFFSETTO:-0500
TZNAME:America/Toronto EST
END:STANDARD
BEGIN:STANDARD
DTSTART:20271107T010000
RDATE:20280312T030000
TZOFFSETFROM:-0400
TZOFFSETTO:-0500
TZNAME:America/Toronto EST
END:STANDARD
BEGIN:STANDARD
DTSTART:20281105T010000
RDATE:20290311T030000
TZOFFSETFROM:-0400
TZOFFSETTO:-0500
TZNAME:America/Toronto EST
END:STANDARD
BEGIN:STANDARD
DTSTART:20291104T010000
RDATE:20300310T030000
TZOFFSETFROM:-0400
TZOFFSETTO:-0500
TZNAME:America/Toronto EST
END:STANDARD
BEGIN:STANDARD
DTSTART:20301103T010000
RDATE:20310309T030000
TZOFFSETFROM:-0400
TZOFFSETTO:-0500
TZNAME:America/Toronto EST
END:STANDARD
BEGIN:STANDARD
DTSTART:20311102T010000
RDATE:20320314T030000
TZOFFSETFROM:-0400
TZOFFSETTO:-0500
TZNAME:America/Toronto EST
END:STANDARD
BEGIN:DAYLIGHT
DTSTART:20230706T110000
RDATE:20231105T010000
TZOFFSETFROM:-0500
TZOFFSETTO:-0400
TZNAME:America/Toronto EDT
END:DAYLIGHT
BEGIN:DAYLIGHT
DTSTART:20240310T030000
RDATE:20241103T010000
TZOFFSETFROM:-0500
TZOFFSETTO:-0400
TZNAME:America/Toronto EDT
END:DAYLIGHT
BEGIN:DAYLIGHT
DTSTART:20250309T030000
RDATE:20251102T010000
TZOFFSETFROM:-0500
TZOFFSETTO:-0400
TZNAME:America/Toronto EDT
END:DAYLIGHT
BEGIN:DAYLIGHT
DTSTART:20260308T030000
RDATE:20261101T010000
TZOFFSETFROM:-0500
TZOFFSETTO:-0400
TZNAME:America/Toronto EDT
END:DAYLIGHT
BEGIN:DAYLIGHT
DTSTART:20270314T030000
RDATE:20271107T010000
TZOFFSETFROM:-0500
TZOFFSETTO:-0400
TZNAME:America/Toronto EDT
END:DAYLIGHT
BEGIN:DAYLIGHT
DTSTART:20280312T030000
RDATE:20281105T010000
TZOFFSETFROM:-0500
TZOFFSETTO:-0400
TZNAME:America/Toronto EDT
END:DAYLIGHT
BEGIN:DAYLIGHT
DTSTART:20290311T030000
RDATE:20291104T010000
TZOFFSETFROM:-0500
TZOFFSETTO:-0400
TZNAME:America/Toronto EDT
END:DAYLIGHT
BEGIN:DAYLIGHT
DTSTART:20300310T030000
RDATE:20301103T010000
TZOFFSETFROM:-0500
TZOFFSETTO:-0400
TZNAME:America/Toronto EDT
END:DAYLIGHT
BEGIN:DAYLIGHT
DTSTART:20310309T030000
RDATE:20311102T010000
TZOFFSETFROM:-0500
TZOFFSETTO:-0400
TZNAME:America/Toronto EDT
END:DAYLIGHT
END:VTIMEZONE
BEGIN:VEVENT
UID:95359550921819bef855f60ada754cd4
CATEGORIES:Durham Events
CREATED:20240607T113152
SUMMARY:Bloom Field Gardens First Annual Garden Tour
LOCATION:3745 Durham Regional Hwy 2\, Newcastle\, ON L1B 0R2
DESCRIPTION:Bloom Field Gardens 1st Annual Garden Tour in support of the Clarington Eas
 t Food Bank\nMark your calendars for Saturday July 6th, 2024, and join us f
 rom 11AM to 3PM for our First Annual Garden Tour!\nEmbark on an adults-only
  adventure through our lush gardens, where you can savor wine, beer, garden
  cocktails, and culinary delights by Encore Catering. Seize the opportunity
  to explore never-before-seen parts of our gardens while enjoying lawn game
 s and great company.\nTickets are just $10, with 100% of the entry fee bein
 g donated to Clarington East Food Bank.\nDon’t miss out on this unique and 
 charitable event!\nTickets are available in-store and online\n*This event i
 s liquor-licensed and only open to guests aged 19 and over (we ID). Cell ph
 one photography is permitted*\n
X-ALT-DESC;FMTTYPE=text/html:<p><strong>Bloom Field Gardens 1st Annual Garden Tour in support of the Cla
 rington East Food Bank</strong></p><p><strong>Mark your calendars for Satur
 day July 6th, 2024, and join us from 11AM to 3PM for our First Annual Garde
 n Tour!</strong></p><p>Embark on an adults-only adventure through our lush 
 gardens, where you can savor wine, beer, garden cocktails, and culinary del
 ights by Encore Catering. Seize the opportunity to explore never-before-see
 n parts of our gardens while enjoying lawn games and great company.</p><p><
 strong>Tickets are just $10, with 100% of the entry fee being donated to Cl
 arington East Food Bank.</strong></p><p>Don’t miss out on this unique and c
 haritable event!</p><p>Tickets are available in-store and online</p><p><str
 ong>*This event is liquor-licensed and only open to guests aged 19 and over
  (we ID). Cell phone photography is permitted*</strong></p>
DTSTAMP:20260422T053411
DTSTART;TZID=America/Toronto:20240706T110000
DTEND;TZID=America/Toronto:20240706T150000
SEQUENCE:0
TRANSP:OPAQUE
END:VEVENT
END:VCALENDAR