BEGIN:VCALENDAR
VERSION:2.0
PRODID:-//jEvents 2.0 for Joomla//EN
CALSCALE:GREGORIAN
METHOD:PUBLISH
BEGIN:VTIMEZONE
TZID:America/Toronto
BEGIN:STANDARD
DTSTART:20231105T010000
RDATE:20240310T030000
TZOFFSETFROM:-0400
TZOFFSETTO:-0500
TZNAME:America/Toronto EST
END:STANDARD
BEGIN:STANDARD
DTSTART:20241103T010000
RDATE:20250309T030000
TZOFFSETFROM:-0400
TZOFFSETTO:-0500
TZNAME:America/Toronto EST
END:STANDARD
BEGIN:STANDARD
DTSTART:20251102T010000
RDATE:20260308T030000
TZOFFSETFROM:-0400
TZOFFSETTO:-0500
TZNAME:America/Toronto EST
END:STANDARD
BEGIN:STANDARD
DTSTART:20261101T010000
RDATE:20270314T030000
TZOFFSETFROM:-0400
TZOFFSETTO:-0500
TZNAME:America/Toronto EST
END:STANDARD
BEGIN:STANDARD
DTSTART:20271107T010000
RDATE:20280312T030000
TZOFFSETFROM:-0400
TZOFFSETTO:-0500
TZNAME:America/Toronto EST
END:STANDARD
BEGIN:STANDARD
DTSTART:20281105T010000
RDATE:20290311T030000
TZOFFSETFROM:-0400
TZOFFSETTO:-0500
TZNAME:America/Toronto EST
END:STANDARD
BEGIN:STANDARD
DTSTART:20291104T010000
RDATE:20300310T030000
TZOFFSETFROM:-0400
TZOFFSETTO:-0500
TZNAME:America/Toronto EST
END:STANDARD
BEGIN:STANDARD
DTSTART:20301103T010000
RDATE:20310309T030000
TZOFFSETFROM:-0400
TZOFFSETTO:-0500
TZNAME:America/Toronto EST
END:STANDARD
BEGIN:STANDARD
DTSTART:20311102T010000
RDATE:20320314T030000
TZOFFSETFROM:-0400
TZOFFSETTO:-0500
TZNAME:America/Toronto EST
END:STANDARD
BEGIN:DAYLIGHT
DTSTART:20230815T183000
RDATE:20231105T010000
TZOFFSETFROM:-0500
TZOFFSETTO:-0400
TZNAME:America/Toronto EDT
END:DAYLIGHT
BEGIN:DAYLIGHT
DTSTART:20240310T030000
RDATE:20241103T010000
TZOFFSETFROM:-0500
TZOFFSETTO:-0400
TZNAME:America/Toronto EDT
END:DAYLIGHT
BEGIN:DAYLIGHT
DTSTART:20250309T030000
RDATE:20251102T010000
TZOFFSETFROM:-0500
TZOFFSETTO:-0400
TZNAME:America/Toronto EDT
END:DAYLIGHT
BEGIN:DAYLIGHT
DTSTART:20260308T030000
RDATE:20261101T010000
TZOFFSETFROM:-0500
TZOFFSETTO:-0400
TZNAME:America/Toronto EDT
END:DAYLIGHT
BEGIN:DAYLIGHT
DTSTART:20270314T030000
RDATE:20271107T010000
TZOFFSETFROM:-0500
TZOFFSETTO:-0400
TZNAME:America/Toronto EDT
END:DAYLIGHT
BEGIN:DAYLIGHT
DTSTART:20280312T030000
RDATE:20281105T010000
TZOFFSETFROM:-0500
TZOFFSETTO:-0400
TZNAME:America/Toronto EDT
END:DAYLIGHT
BEGIN:DAYLIGHT
DTSTART:20290311T030000
RDATE:20291104T010000
TZOFFSETFROM:-0500
TZOFFSETTO:-0400
TZNAME:America/Toronto EDT
END:DAYLIGHT
BEGIN:DAYLIGHT
DTSTART:20300310T030000
RDATE:20301103T010000
TZOFFSETFROM:-0500
TZOFFSETTO:-0400
TZNAME:America/Toronto EDT
END:DAYLIGHT
BEGIN:DAYLIGHT
DTSTART:20310309T030000
RDATE:20311102T010000
TZOFFSETFROM:-0500
TZOFFSETTO:-0400
TZNAME:America/Toronto EDT
END:DAYLIGHT
END:VTIMEZONE
BEGIN:VEVENT
UID:a2f81252b8443f7170fa56d123782b23
CATEGORIES:Durham Events
CREATED:20240704T231135
SUMMARY:"Free" Storytelling in the Park at Dr. George Blake Parkette
LOCATION:Dr. George Blake Parkette\, 95 Royal Street\, Oshawa
DESCRIPTION:As a special nod to our founder, Durham Storytellers are performing a "free
 " storytelling concert for the community at the Dr. George Blake Parkette's
  Story Circle (95 Royal St. Oshawa) on Thursday, August 15, 2023 from 6:30 
 pm to 8:30 pm. Weather permitting.\nWe will be amusing and entertaining the
  audience with a variety of stories from many places around the world. Ever
 yone is welcome to attend. This is a family-friendly event. Bring your lawn
  chairs. \nDurham Storytellers was started in September 1990 by our founder
 , Dr. George Blake, and a handful of enthusiasts. The membership blossomed 
 to become a forum for storytellers and those interested in storytelling and
  folklore. We aim to honour our founder by performing this "free" storytell
 ing concert for the public. Come out and join us for an evening of great st
 ories! \nCome Listen, Come Tell, Catch the Magic!\n
X-ALT-DESC;FMTTYPE=text/html:<p>As a special nod to our founder, Durham Storytellers are performing a "f
 ree" storytelling concert for the community at the Dr. George Blake Parkett
 e's Story Circle (95 Royal St. Oshawa) on Thursday, August 15, 2023 from 6:
 30 pm to 8:30 pm. Weather permitting.</p><p>We will be amusing and entertai
 ning the audience with a variety of stories from many places around the wor
 ld. Everyone is welcome to attend. This is a family-friendly event. Bring y
 our lawn chairs. </p><p>Durham Storytellers was started in September 1990 b
 y our founder, Dr. George Blake, and a handful of enthusiasts. The membersh
 ip blossomed to become a forum for storytellers and those interested in sto
 rytelling and folklore. We aim to honour our founder by performing this "fr
 ee" storytelling concert for the public. Come out and join us for an evenin
 g of great stories! </p><p>Come Listen, Come Tell, Catch the Magic!</p>
CONTACT:Kathleen Smyth, Communications
X-EXTRAINFO:This email address is being protected from spambots. You need JavaScript en
 abled to view it.\n\nwww.durhamstorytellers.com/events
DTSTAMP:20260421T103501
DTSTART;TZID=America/Toronto:20240815T183000
DTEND;TZID=America/Toronto:20240815T203000
SEQUENCE:0
TRANSP:OPAQUE
END:VEVENT
END:VCALENDAR