BEGIN:VCALENDAR
VERSION:2.0
PRODID:-//jEvents 2.0 for Joomla//EN
CALSCALE:GREGORIAN
METHOD:PUBLISH
BEGIN:VTIMEZONE
TZID:America/Toronto
BEGIN:STANDARD
DTSTART:20231105T010000
RDATE:20240310T030000
TZOFFSETFROM:-0400
TZOFFSETTO:-0500
TZNAME:America/Toronto EST
END:STANDARD
BEGIN:STANDARD
DTSTART:20241103T010000
RDATE:20250309T030000
TZOFFSETFROM:-0400
TZOFFSETTO:-0500
TZNAME:America/Toronto EST
END:STANDARD
BEGIN:STANDARD
DTSTART:20251102T010000
RDATE:20260308T030000
TZOFFSETFROM:-0400
TZOFFSETTO:-0500
TZNAME:America/Toronto EST
END:STANDARD
BEGIN:STANDARD
DTSTART:20261101T010000
RDATE:20270314T030000
TZOFFSETFROM:-0400
TZOFFSETTO:-0500
TZNAME:America/Toronto EST
END:STANDARD
BEGIN:STANDARD
DTSTART:20271107T010000
RDATE:20280312T030000
TZOFFSETFROM:-0400
TZOFFSETTO:-0500
TZNAME:America/Toronto EST
END:STANDARD
BEGIN:STANDARD
DTSTART:20281105T010000
RDATE:20290311T030000
TZOFFSETFROM:-0400
TZOFFSETTO:-0500
TZNAME:America/Toronto EST
END:STANDARD
BEGIN:STANDARD
DTSTART:20291104T010000
RDATE:20300310T030000
TZOFFSETFROM:-0400
TZOFFSETTO:-0500
TZNAME:America/Toronto EST
END:STANDARD
BEGIN:STANDARD
DTSTART:20301103T010000
RDATE:20310309T030000
TZOFFSETFROM:-0400
TZOFFSETTO:-0500
TZNAME:America/Toronto EST
END:STANDARD
BEGIN:STANDARD
DTSTART:20311102T010000
RDATE:20320314T030000
TZOFFSETFROM:-0400
TZOFFSETTO:-0500
TZNAME:America/Toronto EST
END:STANDARD
BEGIN:DAYLIGHT
DTSTART:20230810T100000
RDATE:20231105T010000
TZOFFSETFROM:-0500
TZOFFSETTO:-0400
TZNAME:America/Toronto EDT
END:DAYLIGHT
BEGIN:DAYLIGHT
DTSTART:20240310T030000
RDATE:20241103T010000
TZOFFSETFROM:-0500
TZOFFSETTO:-0400
TZNAME:America/Toronto EDT
END:DAYLIGHT
BEGIN:DAYLIGHT
DTSTART:20250309T030000
RDATE:20251102T010000
TZOFFSETFROM:-0500
TZOFFSETTO:-0400
TZNAME:America/Toronto EDT
END:DAYLIGHT
BEGIN:DAYLIGHT
DTSTART:20260308T030000
RDATE:20261101T010000
TZOFFSETFROM:-0500
TZOFFSETTO:-0400
TZNAME:America/Toronto EDT
END:DAYLIGHT
BEGIN:DAYLIGHT
DTSTART:20270314T030000
RDATE:20271107T010000
TZOFFSETFROM:-0500
TZOFFSETTO:-0400
TZNAME:America/Toronto EDT
END:DAYLIGHT
BEGIN:DAYLIGHT
DTSTART:20280312T030000
RDATE:20281105T010000
TZOFFSETFROM:-0500
TZOFFSETTO:-0400
TZNAME:America/Toronto EDT
END:DAYLIGHT
BEGIN:DAYLIGHT
DTSTART:20290311T030000
RDATE:20291104T010000
TZOFFSETFROM:-0500
TZOFFSETTO:-0400
TZNAME:America/Toronto EDT
END:DAYLIGHT
BEGIN:DAYLIGHT
DTSTART:20300310T030000
RDATE:20301103T010000
TZOFFSETFROM:-0500
TZOFFSETTO:-0400
TZNAME:America/Toronto EDT
END:DAYLIGHT
BEGIN:DAYLIGHT
DTSTART:20310309T030000
RDATE:20311102T010000
TZOFFSETFROM:-0500
TZOFFSETTO:-0400
TZNAME:America/Toronto EDT
END:DAYLIGHT
END:VTIMEZONE
BEGIN:VEVENT
UID:8d46c7b10b4e168cfe33fe3cad7e80af
CATEGORIES:Durham Events
CREATED:20240719T192810
SUMMARY:15th Annual Orono Antique Street Festival
LOCATION:Main Street Downtown Orono
DESCRIPTION:Mark your calendar for Saturday, August 10th, 2024 as the 15th Annual Orono
  Antique Street Festival will be held on Main Street, Orono. This is a free
  admission event and is held between 10am to 4pm, rain or shine.\nOn August
  10th, the Main Street in downtown Orono will be closed to traffic between 
 10am and 4pm to showcase the 15th Annual Orono Antique Street Festival. Res
 idents and visitors alike will be treated to a great selection of antiques,
  collectables, vintage finds, furniture, toys, books, jewellery, art, vinta
 ge vinyl and so much more in this one day event.\nOnce again, Orono Antique
  Market representatives, Allister Macrae and Rebecca Goddard have taken on 
 the responsibility of organizing this year’s show. Last year’s show was a h
 uge success and the event reached record attendance.  Ms. Goddard was pleas
 ed to inform us that this year’s Antique Street Festival has attracted 25 p
 lus independent new and returning Antique Dealers, who will be displaying t
 heir antiques and collectables on the street that day. She also stated that
 , in addition, the local antique shops of Orono, which include the Orono An
 tique Market and Main Thru Church Antique Mall, will all be open for busine
 ss with great in-store specials to celebrate this event. These two independ
 ent antique shops collectively represent approximately 11,000 sq ft of anti
 que and vintage items and are host to 25-30 antique dealers year-round.\nOr
 ono has become quite the destination for Antique and Vintage shoppers.\nOnc
 e festival goers have worked up an appetite they can grab a bite to eat at 
 one of Orono’s local restaurants or outdoor food venues and enjoy music fro
 m our live entertainment.\nOrono is located just off Hwy115, 7 minutes nort
 h of the 401 or 3 minutes south of the 407.\nFor more information, please c
 ontact Rebecca Goddard or Allister Macrae at:\nThe Orono Antique Market\n90
 5-983-1122\nThis email address is being protected from spambots. You need J
 avaScript enabled to view it.\n
X-ALT-DESC;FMTTYPE=text/html:<p>Mark your calendar for Saturday, August 10<sup>th</sup>, 2024 as the 15<
 sup>th</sup> Annual Orono Antique Street Festival will be held on Main Stre
 et, Orono. This is a free admission event and is held between 10am to 4pm, 
 rain or shine.</p><p>On August 10<sup>th,</sup> the Main Street in downtown
  Orono will be closed to traffic between 10am and 4pm to showcase the 15<su
 p>th</sup> Annual Orono Antique Street Festival. Residents and visitors ali
 ke will be treated to a great selection of antiques, collectables, vintage 
 finds, furniture, toys, books, jewellery, art, vintage vinyl and so much mo
 re in this one day event.</p><p>Once again, Orono Antique Market representa
 tives, Allister Macrae and Rebecca Goddard have taken on the responsibility
  of organizing this year’s show. Last year’s show was a huge success and th
 e event reached record attendance.  Ms. Goddard was pleased to inform us th
 at this year’s Antique Street Festival has attracted 25 plus independent ne
 w and returning Antique Dealers, who will be displaying their antiques and 
 collectables on the street that day. She also stated that, in addition, the
  local antique shops of Orono, which include the Orono Antique Market and M
 ain Thru Church Antique Mall, will all be open for business with great in-s
 tore specials to celebrate this event. These two independent antique shops 
 collectively represent approximately 11,000 sq ft of antique and vintage it
 ems and are host to 25-30 antique dealers year-round.</p><p>Orono has becom
 e quite the destination for Antique and Vintage shoppers.</p><p>Once festiv
 al goers have worked up an appetite they can grab a bite to eat at one of O
 rono’s local restaurants or outdoor food venues and enjoy music from our li
 ve entertainment.</p><p>Orono is located just off Hwy115, 7 minutes north o
 f the 401 or 3 minutes south of the 407.</p><p>For more information, please
  contact Rebecca Goddard or Allister Macrae at:</p><p>The Orono Antique Mar
 ket</p><p>905-983-1122</p><p><joomla-hidden-mail  is-link="1" is-email="1" 
 first="aW5mbw==" last="b3Jvbm9hbnRpcXVlbWFya2V0LmNh" text="aW5mb0Bvcm9ub2Fu
 dGlxdWVtYXJrZXQuY2E=" base="" >This email address is being protected from s
 pambots. You need JavaScript enabled to view it.</joomla-hidden-mail></p>
CONTACT:Rebecca Goddard or Allister Macrae
X-EXTRAINFO:Contact Info\n905-983-1122\n\nThis email address is being protected from sp
 ambots. You need JavaScript enabled to view it.
DTSTAMP:20260421T183200
DTSTART;TZID=America/Toronto:20240810T100000
DTEND;TZID=America/Toronto:20240810T160000
SEQUENCE:0
TRANSP:OPAQUE
END:VEVENT
END:VCALENDAR