BEGIN:VCALENDAR
VERSION:2.0
PRODID:-//jEvents 2.0 for Joomla//EN
CALSCALE:GREGORIAN
METHOD:PUBLISH
BEGIN:VTIMEZONE
TZID:America/Toronto
BEGIN:STANDARD
DTSTART:20240228T190000
RDATE:20240310T030000
TZOFFSETFROM:-0400
TZOFFSETTO:-0500
TZNAME:America/Toronto EST
END:STANDARD
BEGIN:STANDARD
DTSTART:20241103T010000
RDATE:20250309T030000
TZOFFSETFROM:-0400
TZOFFSETTO:-0500
TZNAME:America/Toronto EST
END:STANDARD
BEGIN:STANDARD
DTSTART:20251102T010000
RDATE:20260308T030000
TZOFFSETFROM:-0400
TZOFFSETTO:-0500
TZNAME:America/Toronto EST
END:STANDARD
BEGIN:STANDARD
DTSTART:20261101T010000
RDATE:20270314T030000
TZOFFSETFROM:-0400
TZOFFSETTO:-0500
TZNAME:America/Toronto EST
END:STANDARD
BEGIN:STANDARD
DTSTART:20271107T010000
RDATE:20280312T030000
TZOFFSETFROM:-0400
TZOFFSETTO:-0500
TZNAME:America/Toronto EST
END:STANDARD
BEGIN:STANDARD
DTSTART:20281105T010000
RDATE:20290311T030000
TZOFFSETFROM:-0400
TZOFFSETTO:-0500
TZNAME:America/Toronto EST
END:STANDARD
BEGIN:STANDARD
DTSTART:20291104T010000
RDATE:20300310T030000
TZOFFSETFROM:-0400
TZOFFSETTO:-0500
TZNAME:America/Toronto EST
END:STANDARD
BEGIN:STANDARD
DTSTART:20301103T010000
RDATE:20310309T030000
TZOFFSETFROM:-0400
TZOFFSETTO:-0500
TZNAME:America/Toronto EST
END:STANDARD
BEGIN:STANDARD
DTSTART:20311102T010000
RDATE:20320314T030000
TZOFFSETFROM:-0400
TZOFFSETTO:-0500
TZNAME:America/Toronto EST
END:STANDARD
BEGIN:DAYLIGHT
DTSTART:20240310T030000
RDATE:20241103T010000
TZOFFSETFROM:-0500
TZOFFSETTO:-0400
TZNAME:America/Toronto EDT
END:DAYLIGHT
BEGIN:DAYLIGHT
DTSTART:20250309T030000
RDATE:20251102T010000
TZOFFSETFROM:-0500
TZOFFSETTO:-0400
TZNAME:America/Toronto EDT
END:DAYLIGHT
BEGIN:DAYLIGHT
DTSTART:20260308T030000
RDATE:20261101T010000
TZOFFSETFROM:-0500
TZOFFSETTO:-0400
TZNAME:America/Toronto EDT
END:DAYLIGHT
BEGIN:DAYLIGHT
DTSTART:20270314T030000
RDATE:20271107T010000
TZOFFSETFROM:-0500
TZOFFSETTO:-0400
TZNAME:America/Toronto EDT
END:DAYLIGHT
BEGIN:DAYLIGHT
DTSTART:20280312T030000
RDATE:20281105T010000
TZOFFSETFROM:-0500
TZOFFSETTO:-0400
TZNAME:America/Toronto EDT
END:DAYLIGHT
BEGIN:DAYLIGHT
DTSTART:20290311T030000
RDATE:20291104T010000
TZOFFSETFROM:-0500
TZOFFSETTO:-0400
TZNAME:America/Toronto EDT
END:DAYLIGHT
BEGIN:DAYLIGHT
DTSTART:20300310T030000
RDATE:20301103T010000
TZOFFSETFROM:-0500
TZOFFSETTO:-0400
TZNAME:America/Toronto EDT
END:DAYLIGHT
BEGIN:DAYLIGHT
DTSTART:20310309T030000
RDATE:20311102T010000
TZOFFSETFROM:-0500
TZOFFSETTO:-0400
TZNAME:America/Toronto EDT
END:DAYLIGHT
END:VTIMEZONE
BEGIN:VEVENT
UID:0facc77814e9e2512d6aea67c3a16496
CATEGORIES:Durham Events
CREATED:20240929T135214
SUMMARY:Josephine: A Musical Cabaret
LOCATION:St. Francis Centre for Community\, Arts &amp; Culture - 78 Church St. S.\, 
 Ajax
DESCRIPTION:Before Ella, Tina, Billie, or Beyoncé – there was JOSEPHINE!\nThe St. Franc
 is Centre is honoured to present this one-woman biographical musical that c
 ombines cabaret, theatre, and dance to tell the story of the iconic Josephi
 ne Baker; the first African-American international superstar and one of the
  most remarkable figures of the 20th Century. Tymisha Harris stars in this 
 dazzling retelling of Josephine Baker’s revolutionary life as a singer, mov
 ie star, WWII spy, civil rights activist and cultural icon. Winning multipl
 e international awards across several continents and coming off of a succes
 sful off-Broadway run, this burlesque cabaret dream play is not to be misse
 d!\nCash bar and concessions available.\nTickets are only $35/ticket and ar
 e available online at ajax.ca/sfc or at the Ajax and McLean Community Centr
 es, the Audley Recreation Centre, at the St. Francis Centre Box Office, or 
 by calling 905-619-2529, ext. 2787 (ARTS)\n
X-ALT-DESC;FMTTYPE=text/html:<p>Before Ella, Tina, Billie, or Beyoncé – there was JOSEPHINE!</p><p>The S
 t. Francis Centre is honoured to present this one-woman biographical musica
 l that combines cabaret, theatre, and dance to tell the story of the iconic
  Josephine Baker; the first African-American international superstar and on
 e of the most remarkable figures of the 20th Century. Tymisha Harris stars 
 in this dazzling retelling of Josephine Baker’s revolutionary life as a sin
 ger, movie star, WWII spy, civil rights activist and cultural icon. Winning
  multiple international awards across several continents and coming off of 
 a successful off-Broadway run, this burlesque cabaret dream play is not to 
 be missed!</p><p>Cash bar and concessions available.</p><p>Tickets are only
  $35/ticket and are available online at ajax.ca/sfc or at the Ajax and McLe
 an Community Centres, the Audley Recreation Centre, at the St. Francis Cent
 re Box Office, or by calling 905-619-2529, ext. 2787 (ARTS)</p>
CONTACT:Franco Pang
DTSTAMP:20260421T135857
DTSTART;TZID=America/Toronto:20250228T190000
DTEND;TZID=America/Toronto:20250228T210000
SEQUENCE:0
TRANSP:OPAQUE
END:VEVENT
END:VCALENDAR