BEGIN:VCALENDAR
VERSION:2.0
PRODID:-//jEvents 2.0 for Joomla//EN
CALSCALE:GREGORIAN
METHOD:PUBLISH
BEGIN:VTIMEZONE
TZID:America/Toronto
BEGIN:STANDARD
DTSTART:20241103T010000
RDATE:20250309T030000
TZOFFSETFROM:-0400
TZOFFSETTO:-0500
TZNAME:America/Toronto EST
END:STANDARD
BEGIN:STANDARD
DTSTART:20251102T010000
RDATE:20260308T030000
TZOFFSETFROM:-0400
TZOFFSETTO:-0500
TZNAME:America/Toronto EST
END:STANDARD
BEGIN:STANDARD
DTSTART:20261101T010000
RDATE:20270314T030000
TZOFFSETFROM:-0400
TZOFFSETTO:-0500
TZNAME:America/Toronto EST
END:STANDARD
BEGIN:STANDARD
DTSTART:20271107T010000
RDATE:20280312T030000
TZOFFSETFROM:-0400
TZOFFSETTO:-0500
TZNAME:America/Toronto EST
END:STANDARD
BEGIN:STANDARD
DTSTART:20281105T010000
RDATE:20290311T030000
TZOFFSETFROM:-0400
TZOFFSETTO:-0500
TZNAME:America/Toronto EST
END:STANDARD
BEGIN:STANDARD
DTSTART:20291104T010000
RDATE:20300310T030000
TZOFFSETFROM:-0400
TZOFFSETTO:-0500
TZNAME:America/Toronto EST
END:STANDARD
BEGIN:STANDARD
DTSTART:20301103T010000
RDATE:20310309T030000
TZOFFSETFROM:-0400
TZOFFSETTO:-0500
TZNAME:America/Toronto EST
END:STANDARD
BEGIN:STANDARD
DTSTART:20311102T010000
RDATE:20320314T030000
TZOFFSETFROM:-0400
TZOFFSETTO:-0500
TZNAME:America/Toronto EST
END:STANDARD
BEGIN:DAYLIGHT
DTSTART:20240418T190000
RDATE:20241103T010000
TZOFFSETFROM:-0500
TZOFFSETTO:-0400
TZNAME:America/Toronto EDT
END:DAYLIGHT
BEGIN:DAYLIGHT
DTSTART:20250309T030000
RDATE:20251102T010000
TZOFFSETFROM:-0500
TZOFFSETTO:-0400
TZNAME:America/Toronto EDT
END:DAYLIGHT
BEGIN:DAYLIGHT
DTSTART:20260308T030000
RDATE:20261101T010000
TZOFFSETFROM:-0500
TZOFFSETTO:-0400
TZNAME:America/Toronto EDT
END:DAYLIGHT
BEGIN:DAYLIGHT
DTSTART:20270314T030000
RDATE:20271107T010000
TZOFFSETFROM:-0500
TZOFFSETTO:-0400
TZNAME:America/Toronto EDT
END:DAYLIGHT
BEGIN:DAYLIGHT
DTSTART:20280312T030000
RDATE:20281105T010000
TZOFFSETFROM:-0500
TZOFFSETTO:-0400
TZNAME:America/Toronto EDT
END:DAYLIGHT
BEGIN:DAYLIGHT
DTSTART:20290311T030000
RDATE:20291104T010000
TZOFFSETFROM:-0500
TZOFFSETTO:-0400
TZNAME:America/Toronto EDT
END:DAYLIGHT
BEGIN:DAYLIGHT
DTSTART:20300310T030000
RDATE:20301103T010000
TZOFFSETFROM:-0500
TZOFFSETTO:-0400
TZNAME:America/Toronto EDT
END:DAYLIGHT
BEGIN:DAYLIGHT
DTSTART:20310309T030000
RDATE:20311102T010000
TZOFFSETFROM:-0500
TZOFFSETTO:-0400
TZNAME:America/Toronto EDT
END:DAYLIGHT
END:VTIMEZONE
BEGIN:VEVENT
UID:255fc0bcf7bab546d33d8ff132b1256f
CATEGORIES:Durham Events
CREATED:20240929T140256
SUMMARY:Piano Heist
LOCATION:St. Francis Centre for Community\, Arts &amp; Culture - 78 Church St. S.\, 
 Ajax
DESCRIPTION:Lifelong friends and colleagues, Nico Rhodes and Patrick Courtin, have emba
 rked on the divine quest of redeeming the keyboard from an instrument that 
 is no longer considered to be cool, to reinstating its reputation as the gr
 eatest instrument of all time! Armed with the music of the greatest compose
 rs, songwriters, and performers from the past 300 years, and powered by the
 ir 21st-century virtual orchestra D.O.U.G.I. (Digital Orchestral Ultimate G
 izmo Intelligence), they present a dynamic range of performances from class
 ical to explosive boogie-woogie and romantic ballads to thrilling '80s synt
 h battles. Piano Heist is a mishmash of theatrical wonder, comedy, heartfel
 t stories, a pinch of history, and a world of musical madness. Cash bar and
  concessions available.\nTickets are only $35/ticket and are available onli
 ne at ajax.ca/sfc or at the Ajax and McLean Community Centres, the Audley R
 ecreation Centre, at the St. Francis Centre Box Office, or by calling 905-6
 19-2529, ext. 2787 (ARTS)\n
X-ALT-DESC;FMTTYPE=text/html:<p>Lifelong friends and colleagues, Nico Rhodes and Patrick Courtin, have e
 mbarked on the divine quest of redeeming the keyboard from an instrument th
 at is no longer considered to be cool, to reinstating its reputation as the
  greatest instrument of all time! Armed with the music of the greatest comp
 osers, songwriters, and performers from the past 300 years, and powered by 
 their 21st-century virtual orchestra D.O.U.G.I. (Digital Orchestral Ultimat
 e Gizmo Intelligence), they present a dynamic range of performances from cl
 assical to explosive boogie-woogie and romantic ballads to thrilling '80s s
 ynth battles. Piano Heist is a mishmash of theatrical wonder, comedy, heart
 felt stories, a pinch of history, and a world of musical madness. Cash bar 
 and concessions available.</p><p>Tickets are only $35/ticket and are availa
 ble online at ajax.ca/sfc or at the Ajax and McLean Community Centres, the 
 Audley Recreation Centre, at the St. Francis Centre Box Office, or by calli
 ng 905-619-2529, ext. 2787 (ARTS)</p>
CONTACT:Franco Pang
DTSTAMP:20260421T155329
DTSTART;TZID=America/Toronto:20250419T190000
DTEND;TZID=America/Toronto:20250419T203000
SEQUENCE:0
TRANSP:OPAQUE
END:VEVENT
END:VCALENDAR