BEGIN:VCALENDAR
VERSION:2.0
PRODID:-//jEvents 2.0 for Joomla//EN
CALSCALE:GREGORIAN
METHOD:PUBLISH
BEGIN:VTIMEZONE
TZID:America/Toronto
BEGIN:STANDARD
DTSTART:20241103T010000
RDATE:20250309T030000
TZOFFSETFROM:-0400
TZOFFSETTO:-0500
TZNAME:America/Toronto EST
END:STANDARD
BEGIN:STANDARD
DTSTART:20251102T010000
RDATE:20260308T030000
TZOFFSETFROM:-0400
TZOFFSETTO:-0500
TZNAME:America/Toronto EST
END:STANDARD
BEGIN:STANDARD
DTSTART:20261101T010000
RDATE:20270314T030000
TZOFFSETFROM:-0400
TZOFFSETTO:-0500
TZNAME:America/Toronto EST
END:STANDARD
BEGIN:STANDARD
DTSTART:20271107T010000
RDATE:20280312T030000
TZOFFSETFROM:-0400
TZOFFSETTO:-0500
TZNAME:America/Toronto EST
END:STANDARD
BEGIN:STANDARD
DTSTART:20281105T010000
RDATE:20290311T030000
TZOFFSETFROM:-0400
TZOFFSETTO:-0500
TZNAME:America/Toronto EST
END:STANDARD
BEGIN:STANDARD
DTSTART:20291104T010000
RDATE:20300310T030000
TZOFFSETFROM:-0400
TZOFFSETTO:-0500
TZNAME:America/Toronto EST
END:STANDARD
BEGIN:STANDARD
DTSTART:20301103T010000
RDATE:20310309T030000
TZOFFSETFROM:-0400
TZOFFSETTO:-0500
TZNAME:America/Toronto EST
END:STANDARD
BEGIN:STANDARD
DTSTART:20311102T010000
RDATE:20320314T030000
TZOFFSETFROM:-0400
TZOFFSETTO:-0500
TZNAME:America/Toronto EST
END:STANDARD
BEGIN:DAYLIGHT
DTSTART:20240523T190000
RDATE:20241103T010000
TZOFFSETFROM:-0500
TZOFFSETTO:-0400
TZNAME:America/Toronto EDT
END:DAYLIGHT
BEGIN:DAYLIGHT
DTSTART:20250309T030000
RDATE:20251102T010000
TZOFFSETFROM:-0500
TZOFFSETTO:-0400
TZNAME:America/Toronto EDT
END:DAYLIGHT
BEGIN:DAYLIGHT
DTSTART:20260308T030000
RDATE:20261101T010000
TZOFFSETFROM:-0500
TZOFFSETTO:-0400
TZNAME:America/Toronto EDT
END:DAYLIGHT
BEGIN:DAYLIGHT
DTSTART:20270314T030000
RDATE:20271107T010000
TZOFFSETFROM:-0500
TZOFFSETTO:-0400
TZNAME:America/Toronto EDT
END:DAYLIGHT
BEGIN:DAYLIGHT
DTSTART:20280312T030000
RDATE:20281105T010000
TZOFFSETFROM:-0500
TZOFFSETTO:-0400
TZNAME:America/Toronto EDT
END:DAYLIGHT
BEGIN:DAYLIGHT
DTSTART:20290311T030000
RDATE:20291104T010000
TZOFFSETFROM:-0500
TZOFFSETTO:-0400
TZNAME:America/Toronto EDT
END:DAYLIGHT
BEGIN:DAYLIGHT
DTSTART:20300310T030000
RDATE:20301103T010000
TZOFFSETFROM:-0500
TZOFFSETTO:-0400
TZNAME:America/Toronto EDT
END:DAYLIGHT
BEGIN:DAYLIGHT
DTSTART:20310309T030000
RDATE:20311102T010000
TZOFFSETFROM:-0500
TZOFFSETTO:-0400
TZNAME:America/Toronto EDT
END:DAYLIGHT
END:VTIMEZONE
BEGIN:VEVENT
UID:3f6d50f4319a045123c04d13927a9742
CATEGORIES:Durham Events
CREATED:20240929T140443
SUMMARY:Fleetwood Mac Mania
LOCATION:St. Francis Centre for Community\, Arts &amp; Culture - 78 Church St. S.\, 
 Ajax
DESCRIPTION:Join us for this stunning visual and musical tribute to Fleetwood Mac, with
  each seasoned performer channeling their spirit to capture the essence of 
 the original band. Including solo hits from Stevie Nicks, this concert deli
 vers a complete package that has captivated and surprised audiences from co
 ast to coast. Fleetwood Mac Mania’s front line perfectly captures the harmo
 nies and chemistry that made Fleetwood Mac one of the most successful acts 
 in music history, and with years of world-class experience, the band’s rhyt
 hm section flawlessly maintains their signature driving rhythms, accurately
  recreating the full intensity of Fleetwood Mac. Don’t miss North America's
  most authentic-sounding Fleetwood Mac tribute band! Cash bar and concessio
 ns available.\nTickets are only $38/ticket and are available online at ajax
 .ca/sfc or at the Ajax and McLean Community Centres, the Audley Recreation 
 Centre, at the St. Francis Centre Box Office, or by calling 905-619-2529, e
 xt. 2787 (ARTS)\n
X-ALT-DESC;FMTTYPE=text/html:<p>Join us for this stunning visual and musical tribute to Fleetwood Mac, w
 ith each seasoned performer channeling their spirit to capture the essence 
 of the original band. Including solo hits from Stevie Nicks, this concert d
 elivers a complete package that has captivated and surprised audiences from
  coast to coast. Fleetwood Mac Mania’s front line perfectly captures the ha
 rmonies and chemistry that made Fleetwood Mac one of the most successful ac
 ts in music history, and with years of world-class experience, the band’s r
 hythm section flawlessly maintains their signature driving rhythms, accurat
 ely recreating the full intensity of Fleetwood Mac. Don’t miss North Americ
 a's most authentic-sounding Fleetwood Mac tribute band! Cash bar and conces
 sions available.</p><p>Tickets are only $38/ticket and are available online
  at ajax.ca/sfc or at the Ajax and McLean Community Centres, the Audley Rec
 reation Centre, at the St. Francis Centre Box Office, or by calling 905-619
 -2529, ext. 2787 (ARTS)</p>
CONTACT:Franco Pang
DTSTAMP:20260421T160225
DTSTART;TZID=America/Toronto:20250524T190000
DTEND;TZID=America/Toronto:20250524T210000
SEQUENCE:0
TRANSP:OPAQUE
END:VEVENT
END:VCALENDAR