BEGIN:VCALENDAR
VERSION:2.0
PRODID:-//jEvents 2.0 for Joomla//EN
CALSCALE:GREGORIAN
METHOD:PUBLISH
BEGIN:VTIMEZONE
TZID:America/Toronto
BEGIN:STANDARD
DTSTART:20241103T010000
RDATE:20250309T030000
TZOFFSETFROM:-0400
TZOFFSETTO:-0500
TZNAME:America/Toronto EST
END:STANDARD
BEGIN:STANDARD
DTSTART:20251102T010000
RDATE:20260308T030000
TZOFFSETFROM:-0400
TZOFFSETTO:-0500
TZNAME:America/Toronto EST
END:STANDARD
BEGIN:STANDARD
DTSTART:20261101T010000
RDATE:20270314T030000
TZOFFSETFROM:-0400
TZOFFSETTO:-0500
TZNAME:America/Toronto EST
END:STANDARD
BEGIN:STANDARD
DTSTART:20271107T010000
RDATE:20280312T030000
TZOFFSETFROM:-0400
TZOFFSETTO:-0500
TZNAME:America/Toronto EST
END:STANDARD
BEGIN:STANDARD
DTSTART:20281105T010000
RDATE:20290311T030000
TZOFFSETFROM:-0400
TZOFFSETTO:-0500
TZNAME:America/Toronto EST
END:STANDARD
BEGIN:STANDARD
DTSTART:20291104T010000
RDATE:20300310T030000
TZOFFSETFROM:-0400
TZOFFSETTO:-0500
TZNAME:America/Toronto EST
END:STANDARD
BEGIN:STANDARD
DTSTART:20301103T010000
RDATE:20310309T030000
TZOFFSETFROM:-0400
TZOFFSETTO:-0500
TZNAME:America/Toronto EST
END:STANDARD
BEGIN:STANDARD
DTSTART:20311102T010000
RDATE:20320314T030000
TZOFFSETFROM:-0400
TZOFFSETTO:-0500
TZNAME:America/Toronto EST
END:STANDARD
BEGIN:DAYLIGHT
DTSTART:20240516T140000
RDATE:20241103T010000
TZOFFSETFROM:-0500
TZOFFSETTO:-0400
TZNAME:America/Toronto EDT
END:DAYLIGHT
BEGIN:DAYLIGHT
DTSTART:20250309T030000
RDATE:20251102T010000
TZOFFSETFROM:-0500
TZOFFSETTO:-0400
TZNAME:America/Toronto EDT
END:DAYLIGHT
BEGIN:DAYLIGHT
DTSTART:20260308T030000
RDATE:20261101T010000
TZOFFSETFROM:-0500
TZOFFSETTO:-0400
TZNAME:America/Toronto EDT
END:DAYLIGHT
BEGIN:DAYLIGHT
DTSTART:20270314T030000
RDATE:20271107T010000
TZOFFSETFROM:-0500
TZOFFSETTO:-0400
TZNAME:America/Toronto EDT
END:DAYLIGHT
BEGIN:DAYLIGHT
DTSTART:20280312T030000
RDATE:20281105T010000
TZOFFSETFROM:-0500
TZOFFSETTO:-0400
TZNAME:America/Toronto EDT
END:DAYLIGHT
BEGIN:DAYLIGHT
DTSTART:20290311T030000
RDATE:20291104T010000
TZOFFSETFROM:-0500
TZOFFSETTO:-0400
TZNAME:America/Toronto EDT
END:DAYLIGHT
BEGIN:DAYLIGHT
DTSTART:20300310T030000
RDATE:20301103T010000
TZOFFSETFROM:-0500
TZOFFSETTO:-0400
TZNAME:America/Toronto EDT
END:DAYLIGHT
BEGIN:DAYLIGHT
DTSTART:20310309T030000
RDATE:20311102T010000
TZOFFSETFROM:-0500
TZOFFSETTO:-0400
TZNAME:America/Toronto EDT
END:DAYLIGHT
END:VTIMEZONE
BEGIN:VEVENT
UID:f760fe4a9d07472437acf910772838e3
CATEGORIES:Durham Events
CREATED:20240929T141040
SUMMARY:Hullaboo and the End of Everything
LOCATION:St. Francis Centre for Community\, Arts &amp; Culture - 78 Church St. S.\, 
 Ajax
DESCRIPTION:Join us for this enchanting tale of an imaginary friend determined not to b
 e forgotten. Hullaboo has been Mikaila the Magnificent’s imaginary sidekick
  for as long as he can remember, going on incredible adventures with her, a
 nd fighting the evil Scowl. But now, Mikaila is growing up without him and 
 a new monster is hunting Hullaboo. What can an imaginary friend do to survi
 ve? Don’t miss this performance described as fierce, powerful and touching 
 - like a Pixar movie on stage. Concessions available.\nTickets are only $20
 /ticket and are available online at ajax.ca/sfc or at the Ajax and McLean C
 ommunity Centres, the Audley Recreation Centre, at the St. Francis Centre B
 ox Office, or by calling 905-619-2529, ext. 2787 (ARTS)\n
X-ALT-DESC;FMTTYPE=text/html:<p>Join us for this enchanting tale of an imaginary friend determined not t
 o be forgotten. Hullaboo has been Mikaila the Magnificent’s imaginary sidek
 ick for as long as he can remember, going on incredible adventures with her
 , and fighting the evil Scowl. But now, Mikaila is growing up without him a
 nd a new monster is hunting Hullaboo. What can an imaginary friend do to su
 rvive? Don’t miss this performance described as fierce, powerful and touchi
 ng - like a Pixar movie on stage. Concessions available.</p><p>Tickets are 
 only $20/ticket and are available online at ajax.ca/sfc or at the Ajax and 
 McLean Community Centres, the Audley Recreation Centre, at the St. Francis 
 Centre Box Office, or by calling 905-619-2529, ext. 2787 (ARTS)</p>
CONTACT:Franco Pang
DTSTAMP:20260421T160044
DTSTART;TZID=America/Toronto:20250517T140000
DTEND;TZID=America/Toronto:20250517T150000
SEQUENCE:0
TRANSP:OPAQUE
END:VEVENT
END:VCALENDAR