BEGIN:VCALENDAR
VERSION:2.0
PRODID:-//jEvents 2.0 for Joomla//EN
CALSCALE:GREGORIAN
METHOD:PUBLISH
BEGIN:VTIMEZONE
TZID:America/Toronto
BEGIN:STANDARD
DTSTART:20241103T010000
RDATE:20250309T030000
TZOFFSETFROM:-0400
TZOFFSETTO:-0500
TZNAME:America/Toronto EST
END:STANDARD
BEGIN:STANDARD
DTSTART:20251102T010000
RDATE:20260308T030000
TZOFFSETFROM:-0400
TZOFFSETTO:-0500
TZNAME:America/Toronto EST
END:STANDARD
BEGIN:STANDARD
DTSTART:20261101T010000
RDATE:20270314T030000
TZOFFSETFROM:-0400
TZOFFSETTO:-0500
TZNAME:America/Toronto EST
END:STANDARD
BEGIN:STANDARD
DTSTART:20271107T010000
RDATE:20280312T030000
TZOFFSETFROM:-0400
TZOFFSETTO:-0500
TZNAME:America/Toronto EST
END:STANDARD
BEGIN:STANDARD
DTSTART:20281105T010000
RDATE:20290311T030000
TZOFFSETFROM:-0400
TZOFFSETTO:-0500
TZNAME:America/Toronto EST
END:STANDARD
BEGIN:STANDARD
DTSTART:20291104T010000
RDATE:20300310T030000
TZOFFSETFROM:-0400
TZOFFSETTO:-0500
TZNAME:America/Toronto EST
END:STANDARD
BEGIN:STANDARD
DTSTART:20301103T010000
RDATE:20310309T030000
TZOFFSETFROM:-0400
TZOFFSETTO:-0500
TZNAME:America/Toronto EST
END:STANDARD
BEGIN:STANDARD
DTSTART:20311102T010000
RDATE:20320314T030000
TZOFFSETFROM:-0400
TZOFFSETTO:-0500
TZNAME:America/Toronto EST
END:STANDARD
BEGIN:DAYLIGHT
DTSTART:20240503T190000
RDATE:20241103T010000
TZOFFSETFROM:-0500
TZOFFSETTO:-0400
TZNAME:America/Toronto EDT
END:DAYLIGHT
BEGIN:DAYLIGHT
DTSTART:20250309T030000
RDATE:20251102T010000
TZOFFSETFROM:-0500
TZOFFSETTO:-0400
TZNAME:America/Toronto EDT
END:DAYLIGHT
BEGIN:DAYLIGHT
DTSTART:20260308T030000
RDATE:20261101T010000
TZOFFSETFROM:-0500
TZOFFSETTO:-0400
TZNAME:America/Toronto EDT
END:DAYLIGHT
BEGIN:DAYLIGHT
DTSTART:20270314T030000
RDATE:20271107T010000
TZOFFSETFROM:-0500
TZOFFSETTO:-0400
TZNAME:America/Toronto EDT
END:DAYLIGHT
BEGIN:DAYLIGHT
DTSTART:20280312T030000
RDATE:20281105T010000
TZOFFSETFROM:-0500
TZOFFSETTO:-0400
TZNAME:America/Toronto EDT
END:DAYLIGHT
BEGIN:DAYLIGHT
DTSTART:20290311T030000
RDATE:20291104T010000
TZOFFSETFROM:-0500
TZOFFSETTO:-0400
TZNAME:America/Toronto EDT
END:DAYLIGHT
BEGIN:DAYLIGHT
DTSTART:20300310T030000
RDATE:20301103T010000
TZOFFSETFROM:-0500
TZOFFSETTO:-0400
TZNAME:America/Toronto EDT
END:DAYLIGHT
BEGIN:DAYLIGHT
DTSTART:20310309T030000
RDATE:20311102T010000
TZOFFSETFROM:-0500
TZOFFSETTO:-0400
TZNAME:America/Toronto EDT
END:DAYLIGHT
END:VTIMEZONE
BEGIN:VEVENT
UID:82468382b56de9f7a73893f783bc375f
CATEGORIES:Durham Events
CREATED:20240929T141648
SUMMARY:Retro Reels: The Empire Strikes Back 45th Anniversary
LOCATION:St. Francis Centre for Community\, Arts &amp; Culture - 78 Church St. S.\, 
 Ajax
DESCRIPTION:Looking for something more than just a typical movie night? Celebrate the s
 ignificant anniversaries of our selected classic movies with fun trivia, pr
 izes/giveaways, and signature cocktails/treats! Costumes or PJs are encoura
 ged, as are blankets and/or pillows.\nThe Empire Strikes Back 45th Annivers
 ary Screening – Celebrate May the 4th with us at the St. Francis Centre!  I
 t’s been 3 years since the destruction of the Death Star, and the Galactic 
 Empire wants revenge. Hyperthermia on Hoth; hyperdrive malfunctions; a doub
 le cross in Cloud City…what’s a Rebel Alliance to do?\nTickets are only $5/
 ticket and are available online at ajax.ca/sfc or at the Ajax and McLean Co
 mmunity Centres, the Audley Recreation Centre, at the St. Francis Centre Bo
 x Office, or by calling 905-619-2529, ext. 2787 (ARTS)\n
X-ALT-DESC;FMTTYPE=text/html:<p>Looking for something more than just a typical movie night? Celebrate th
 e significant anniversaries of our selected classic movies with fun trivia,
  prizes/giveaways, and signature cocktails/treats! Costumes or PJs are enco
 uraged, as are blankets and/or pillows.</p><p>The Empire Strikes Back 45<su
 p>th</sup> Anniversary Screening – Celebrate May the 4<sup>th</sup> with us
  at the St. Francis Centre!  It’s been 3 years since the destruction of the
  Death Star, and the Galactic Empire wants revenge. Hyperthermia on Hoth; h
 yperdrive malfunctions; a double cross in Cloud City…what’s a Rebel Allianc
 e to do?</p><p>Tickets are only $5/ticket and are available online at ajax.
 ca/sfc or at the Ajax and McLean Community Centres, the Audley Recreation C
 entre, at the St. Francis Centre Box Office, or by calling 905-619-2529, ex
 t. 2787 (ARTS)</p>
CONTACT:Franco Pang
DTSTAMP:20260421T160028
DTSTART;TZID=America/Toronto:20250504T190000
DTEND;TZID=America/Toronto:20250504T210000
SEQUENCE:0
TRANSP:OPAQUE
END:VEVENT
END:VCALENDAR