BEGIN:VCALENDAR
VERSION:2.0
PRODID:-//jEvents 2.0 for Joomla//EN
CALSCALE:GREGORIAN
METHOD:PUBLISH
BEGIN:VTIMEZONE
TZID:America/Toronto
BEGIN:STANDARD
DTSTART:20241103T010000
RDATE:20250309T030000
TZOFFSETFROM:-0400
TZOFFSETTO:-0500
TZNAME:America/Toronto EST
END:STANDARD
BEGIN:STANDARD
DTSTART:20251102T010000
RDATE:20260308T030000
TZOFFSETFROM:-0400
TZOFFSETTO:-0500
TZNAME:America/Toronto EST
END:STANDARD
BEGIN:STANDARD
DTSTART:20261101T010000
RDATE:20270314T030000
TZOFFSETFROM:-0400
TZOFFSETTO:-0500
TZNAME:America/Toronto EST
END:STANDARD
BEGIN:STANDARD
DTSTART:20271107T010000
RDATE:20280312T030000
TZOFFSETFROM:-0400
TZOFFSETTO:-0500
TZNAME:America/Toronto EST
END:STANDARD
BEGIN:STANDARD
DTSTART:20281105T010000
RDATE:20290311T030000
TZOFFSETFROM:-0400
TZOFFSETTO:-0500
TZNAME:America/Toronto EST
END:STANDARD
BEGIN:STANDARD
DTSTART:20291104T010000
RDATE:20300310T030000
TZOFFSETFROM:-0400
TZOFFSETTO:-0500
TZNAME:America/Toronto EST
END:STANDARD
BEGIN:STANDARD
DTSTART:20301103T010000
RDATE:20310309T030000
TZOFFSETFROM:-0400
TZOFFSETTO:-0500
TZNAME:America/Toronto EST
END:STANDARD
BEGIN:STANDARD
DTSTART:20311102T010000
RDATE:20320314T030000
TZOFFSETFROM:-0400
TZOFFSETTO:-0500
TZNAME:America/Toronto EST
END:STANDARD
BEGIN:DAYLIGHT
DTSTART:20240318T190000
RDATE:20241103T010000
TZOFFSETFROM:-0500
TZOFFSETTO:-0400
TZNAME:America/Toronto EDT
END:DAYLIGHT
BEGIN:DAYLIGHT
DTSTART:20250309T030000
RDATE:20251102T010000
TZOFFSETFROM:-0500
TZOFFSETTO:-0400
TZNAME:America/Toronto EDT
END:DAYLIGHT
BEGIN:DAYLIGHT
DTSTART:20260308T030000
RDATE:20261101T010000
TZOFFSETFROM:-0500
TZOFFSETTO:-0400
TZNAME:America/Toronto EDT
END:DAYLIGHT
BEGIN:DAYLIGHT
DTSTART:20270314T030000
RDATE:20271107T010000
TZOFFSETFROM:-0500
TZOFFSETTO:-0400
TZNAME:America/Toronto EDT
END:DAYLIGHT
BEGIN:DAYLIGHT
DTSTART:20280312T030000
RDATE:20281105T010000
TZOFFSETFROM:-0500
TZOFFSETTO:-0400
TZNAME:America/Toronto EDT
END:DAYLIGHT
BEGIN:DAYLIGHT
DTSTART:20290311T030000
RDATE:20291104T010000
TZOFFSETFROM:-0500
TZOFFSETTO:-0400
TZNAME:America/Toronto EDT
END:DAYLIGHT
BEGIN:DAYLIGHT
DTSTART:20300310T030000
RDATE:20301103T010000
TZOFFSETFROM:-0500
TZOFFSETTO:-0400
TZNAME:America/Toronto EDT
END:DAYLIGHT
BEGIN:DAYLIGHT
DTSTART:20310309T030000
RDATE:20311102T010000
TZOFFSETFROM:-0500
TZOFFSETTO:-0400
TZNAME:America/Toronto EDT
END:DAYLIGHT
END:VTIMEZONE
BEGIN:VEVENT
UID:efeb98caa6d39f1ae315ceed5a84a277
CATEGORIES:Durham Events
CREATED:20240929T142423
SUMMARY:Books and Brews: A Man Called Otto
LOCATION:St. Francis Centre for Community\, Arts &amp; Culture - 78 Church St. S.\, 
 Ajax
DESCRIPTION:The St. Francis Centre and the Ajax Public Library proudly present Books an
 d Brews – a book club of a different kind! Pick up a copy of the featured b
 ook at the Ajax Library Main Branch before the movie screening and enjoy a 
 facilitated group discussion after the movie. And don’t forget to enjoy som
 e delicious brews on movie night including coffee, tea, and craft beers, as
  well as a movie-themed cocktail or a variety of other refreshments availab
 le for purchase. It’s stories, screens, and snacks all rolled into one!\nA 
 Man Called Otto (Book “A Man Called Ove” by Frederik Backman and film adapt
 ation directed by Marc Forster) is the story of a grumpy widower named Otto
  Anderson who clashes with a lively young family and meets his match in a q
 uick-witted pregnant woman named Marisol. This all leads up to an unlikely 
 friendship that turns his world upside down.\nThis is a free event, however
 , registration is required online at ajax.ca/sfc or by calling 905-619-2529
 , ext. 2787 (ARTS)\n
X-ALT-DESC;FMTTYPE=text/html:<p>The St. Francis Centre and the Ajax Public Library proudly present Books
  and Brews – a book club of a different kind! Pick up a copy of the feature
 d book at the Ajax Library Main Branch before the movie screening and enjoy
  a facilitated group discussion after the movie. And don’t forget to enjoy 
 some delicious brews on movie night including coffee, tea, and craft beers,
  as well as a movie-themed cocktail or a variety of other refreshments avai
 lable for purchase. It’s stories, screens, and snacks all rolled into one!<
 /p><p><strong><em>A Man Called Otto</em></strong> (Book “A Man Called Ove” 
 by Frederik Backman and film adaptation directed by Marc Forster) is the st
 ory of a grumpy widower named Otto Anderson who clashes with a lively young
  family and meets his match in a quick-witted pregnant woman named Marisol.
  This all leads up to an unlikely friendship that turns his world upside do
 wn.</p><p>This is a free event, however, registration is required online at
  ajax.ca/sfc or by calling 905-619-2529, ext. 2787 (ARTS)</p>
CONTACT:Franco Pang
DTSTAMP:20260422T073955
DTSTART;TZID=America/Toronto:20250319T190000
DTEND;TZID=America/Toronto:20250319T213000
SEQUENCE:0
TRANSP:OPAQUE
END:VEVENT
END:VCALENDAR