BEGIN:VCALENDAR
VERSION:2.0
PRODID:-//jEvents 2.0 for Joomla//EN
CALSCALE:GREGORIAN
METHOD:PUBLISH
BEGIN:VTIMEZONE
TZID:America/Toronto
BEGIN:STANDARD
DTSTART:20240221T190000
RDATE:20240310T030000
TZOFFSETFROM:-0400
TZOFFSETTO:-0500
TZNAME:America/Toronto EST
END:STANDARD
BEGIN:STANDARD
DTSTART:20241103T010000
RDATE:20250309T030000
TZOFFSETFROM:-0400
TZOFFSETTO:-0500
TZNAME:America/Toronto EST
END:STANDARD
BEGIN:STANDARD
DTSTART:20251102T010000
RDATE:20260308T030000
TZOFFSETFROM:-0400
TZOFFSETTO:-0500
TZNAME:America/Toronto EST
END:STANDARD
BEGIN:STANDARD
DTSTART:20261101T010000
RDATE:20270314T030000
TZOFFSETFROM:-0400
TZOFFSETTO:-0500
TZNAME:America/Toronto EST
END:STANDARD
BEGIN:STANDARD
DTSTART:20271107T010000
RDATE:20280312T030000
TZOFFSETFROM:-0400
TZOFFSETTO:-0500
TZNAME:America/Toronto EST
END:STANDARD
BEGIN:STANDARD
DTSTART:20281105T010000
RDATE:20290311T030000
TZOFFSETFROM:-0400
TZOFFSETTO:-0500
TZNAME:America/Toronto EST
END:STANDARD
BEGIN:STANDARD
DTSTART:20291104T010000
RDATE:20300310T030000
TZOFFSETFROM:-0400
TZOFFSETTO:-0500
TZNAME:America/Toronto EST
END:STANDARD
BEGIN:STANDARD
DTSTART:20301103T010000
RDATE:20310309T030000
TZOFFSETFROM:-0400
TZOFFSETTO:-0500
TZNAME:America/Toronto EST
END:STANDARD
BEGIN:STANDARD
DTSTART:20311102T010000
RDATE:20320314T030000
TZOFFSETFROM:-0400
TZOFFSETTO:-0500
TZNAME:America/Toronto EST
END:STANDARD
BEGIN:DAYLIGHT
DTSTART:20240310T030000
RDATE:20241103T010000
TZOFFSETFROM:-0500
TZOFFSETTO:-0400
TZNAME:America/Toronto EDT
END:DAYLIGHT
BEGIN:DAYLIGHT
DTSTART:20250309T030000
RDATE:20251102T010000
TZOFFSETFROM:-0500
TZOFFSETTO:-0400
TZNAME:America/Toronto EDT
END:DAYLIGHT
BEGIN:DAYLIGHT
DTSTART:20260308T030000
RDATE:20261101T010000
TZOFFSETFROM:-0500
TZOFFSETTO:-0400
TZNAME:America/Toronto EDT
END:DAYLIGHT
BEGIN:DAYLIGHT
DTSTART:20270314T030000
RDATE:20271107T010000
TZOFFSETFROM:-0500
TZOFFSETTO:-0400
TZNAME:America/Toronto EDT
END:DAYLIGHT
BEGIN:DAYLIGHT
DTSTART:20280312T030000
RDATE:20281105T010000
TZOFFSETFROM:-0500
TZOFFSETTO:-0400
TZNAME:America/Toronto EDT
END:DAYLIGHT
BEGIN:DAYLIGHT
DTSTART:20290311T030000
RDATE:20291104T010000
TZOFFSETFROM:-0500
TZOFFSETTO:-0400
TZNAME:America/Toronto EDT
END:DAYLIGHT
BEGIN:DAYLIGHT
DTSTART:20300310T030000
RDATE:20301103T010000
TZOFFSETFROM:-0500
TZOFFSETTO:-0400
TZNAME:America/Toronto EDT
END:DAYLIGHT
BEGIN:DAYLIGHT
DTSTART:20310309T030000
RDATE:20311102T010000
TZOFFSETFROM:-0500
TZOFFSETTO:-0400
TZNAME:America/Toronto EDT
END:DAYLIGHT
END:VTIMEZONE
BEGIN:VEVENT
UID:e3b9df5a2738a596c89a0606130feb34
CATEGORIES:Durham Events
CREATED:20240929T145608
SUMMARY:TIFF Ajax Film Circuit presents "Sing Sing"
LOCATION:St. Francis Centre for Community\, Arts &amp; Culture - 78 Church St. S.\, 
 Ajax
DESCRIPTION:Welcome to the Ajax Film Circuit! Join us for our screening of Sing Sing at
  the St. Francis Centre for Community, Arts and Culture.\n\nDivine G (Colem
 an Domingo) imprisoned at Sing Sing for a crime he didn’t commit, finds pur
 pose by acting in a theatre group alongside other incarcerated men.  Sing S
 ing is a stirring true story of resilience, humanity, and the transformativ
 e power of art, starring an unforgettable ensemble cast of formerly incarce
 rated actors. Concessions and cash bar available.\nTo view the Sing SIng tr
 ailer, please click HERE (https://www.youtube.com/watch?v=j3dXc6P3zH8).\nTi
 ckets are only $12/ticket and are available online at ajax.ca/sfc or at the
  Ajax and McLean Community Centres, the Audley Recreation Centre, at the St
 . Francis Centre Box Office, or by calling 905-619-2529, ext. 2787 (ARTS)\n
X-ALT-DESC;FMTTYPE=text/html:<p>Welcome to the Ajax Film Circuit! Join us for our screening of <strong><
 em>Sing Sing</em></strong> at the St. Francis Centre for Community, Arts an
 d Culture.<br /><br />Divine G (Coleman Domingo) imprisoned at Sing Sing fo
 r a crime he didn’t commit, finds purpose by acting in a theatre group alon
 gside other incarcerated men.  <strong><em>Sing Sing</em></strong> is a sti
 rring true story of resilience, humanity, and the transformative power of a
 rt, starring an unforgettable ensemble cast of formerly incarcerated actors
 . Concessions and cash bar available.</p><p>To view the <strong><em>Sing SI
 ng</em></strong> trailer, please click <a href="https://www.youtube.com/wat
 ch?v=j3dXc6P3zH8"><strong>HERE</strong></a>.</p><p>Tickets are only $12/tic
 ket and are available online at ajax.ca/sfc or at the Ajax and McLean Commu
 nity Centres, the Audley Recreation Centre, at the St. Francis Centre Box O
 ffice, or by calling 905-619-2529, ext. 2787 (ARTS)</p>
CONTACT:Franco Pang
DTSTAMP:20260421T134150
DTSTART;TZID=America/Toronto:20250221T190000
DTEND;TZID=America/Toronto:20250221T210000
SEQUENCE:0
TRANSP:OPAQUE
END:VEVENT
END:VCALENDAR