BEGIN:VCALENDAR
VERSION:2.0
PRODID:-//jEvents 2.0 for Joomla//EN
CALSCALE:GREGORIAN
METHOD:PUBLISH
BEGIN:VTIMEZONE
TZID:America/Toronto
BEGIN:STANDARD
DTSTART:20240306T190000
RDATE:20240310T030000
TZOFFSETFROM:-0400
TZOFFSETTO:-0500
TZNAME:America/Toronto EST
END:STANDARD
BEGIN:STANDARD
DTSTART:20241103T010000
RDATE:20250309T030000
TZOFFSETFROM:-0400
TZOFFSETTO:-0500
TZNAME:America/Toronto EST
END:STANDARD
BEGIN:STANDARD
DTSTART:20251102T010000
RDATE:20260308T030000
TZOFFSETFROM:-0400
TZOFFSETTO:-0500
TZNAME:America/Toronto EST
END:STANDARD
BEGIN:STANDARD
DTSTART:20261101T010000
RDATE:20270314T030000
TZOFFSETFROM:-0400
TZOFFSETTO:-0500
TZNAME:America/Toronto EST
END:STANDARD
BEGIN:STANDARD
DTSTART:20271107T010000
RDATE:20280312T030000
TZOFFSETFROM:-0400
TZOFFSETTO:-0500
TZNAME:America/Toronto EST
END:STANDARD
BEGIN:STANDARD
DTSTART:20281105T010000
RDATE:20290311T030000
TZOFFSETFROM:-0400
TZOFFSETTO:-0500
TZNAME:America/Toronto EST
END:STANDARD
BEGIN:STANDARD
DTSTART:20291104T010000
RDATE:20300310T030000
TZOFFSETFROM:-0400
TZOFFSETTO:-0500
TZNAME:America/Toronto EST
END:STANDARD
BEGIN:STANDARD
DTSTART:20301103T010000
RDATE:20310309T030000
TZOFFSETFROM:-0400
TZOFFSETTO:-0500
TZNAME:America/Toronto EST
END:STANDARD
BEGIN:STANDARD
DTSTART:20311102T010000
RDATE:20320314T030000
TZOFFSETFROM:-0400
TZOFFSETTO:-0500
TZNAME:America/Toronto EST
END:STANDARD
BEGIN:DAYLIGHT
DTSTART:20240310T030000
RDATE:20241103T010000
TZOFFSETFROM:-0500
TZOFFSETTO:-0400
TZNAME:America/Toronto EDT
END:DAYLIGHT
BEGIN:DAYLIGHT
DTSTART:20250309T030000
RDATE:20251102T010000
TZOFFSETFROM:-0500
TZOFFSETTO:-0400
TZNAME:America/Toronto EDT
END:DAYLIGHT
BEGIN:DAYLIGHT
DTSTART:20260308T030000
RDATE:20261101T010000
TZOFFSETFROM:-0500
TZOFFSETTO:-0400
TZNAME:America/Toronto EDT
END:DAYLIGHT
BEGIN:DAYLIGHT
DTSTART:20270314T030000
RDATE:20271107T010000
TZOFFSETFROM:-0500
TZOFFSETTO:-0400
TZNAME:America/Toronto EDT
END:DAYLIGHT
BEGIN:DAYLIGHT
DTSTART:20280312T030000
RDATE:20281105T010000
TZOFFSETFROM:-0500
TZOFFSETTO:-0400
TZNAME:America/Toronto EDT
END:DAYLIGHT
BEGIN:DAYLIGHT
DTSTART:20290311T030000
RDATE:20291104T010000
TZOFFSETFROM:-0500
TZOFFSETTO:-0400
TZNAME:America/Toronto EDT
END:DAYLIGHT
BEGIN:DAYLIGHT
DTSTART:20300310T030000
RDATE:20301103T010000
TZOFFSETFROM:-0500
TZOFFSETTO:-0400
TZNAME:America/Toronto EDT
END:DAYLIGHT
BEGIN:DAYLIGHT
DTSTART:20310309T030000
RDATE:20311102T010000
TZOFFSETFROM:-0500
TZOFFSETTO:-0400
TZNAME:America/Toronto EDT
END:DAYLIGHT
END:VTIMEZONE
BEGIN:VEVENT
UID:4219220363e806e783fc0618e6685044
CATEGORIES:Durham Events
CREATED:20240929T145730
SUMMARY:TIFF Ajax Film Circuit presents "The Old Oak"
LOCATION:St. Francis Centre for Community\, Arts &amp; Culture - 78 Church St. S.\, 
 Ajax
DESCRIPTION:Welcome to the Ajax Film Circuit! Join us for our screening of The Old Oak 
 at the St. Francis Centre for Community, Arts and Culture.\n\nThe Old Oak, 
 the last pub standing in a once thriving mining village in Northern England
 , has become a gathering space for a community that has fallen on hard time
 s. When a group of Syrian refugees move into the floundering village, a dec
 isive rift fueled by prejudice develops. But the formation of an unexpected
  friendship opens up new possibilities for the divided village.  The Old Oa
 k is a deeply moving drama about loss, fear, and the difficulty of finding 
 hope. Concessions and cash bar available.\nTo view The Old Oak trailer, ple
 ase click HERE (https://www.youtube.com/watch?v=Fwb0c5zqsyM).\nTickets are 
 $12/ticket and are available online at ajax.ca/sfc or at the Ajax and McLea
 n Community Centres, the Audley Recreation Centre, at the St. Francis Centr
 e Box Office, or by calling 905-619-2529, ext. 2787 (ARTS)\n
X-ALT-DESC;FMTTYPE=text/html:<p>Welcome to the Ajax Film Circuit! Join us for our screening of <strong><
 em>The Old Oak</em></strong> at the St. Francis Centre for Community, Arts 
 and Culture.<br /><br />The Old Oak, the last pub standing in a once thrivi
 ng mining village in Northern England, has become a gathering space for a c
 ommunity that has fallen on hard times. When a group of Syrian refugees mov
 e into the floundering village, a decisive rift fueled by prejudice develop
 s. But the formation of an unexpected friendship opens up new possibilities
  for the divided village.  <strong><em>The Old Oak</em></strong> is a deepl
 y moving drama about loss, fear, and the difficulty of finding hope. Conces
 sions and cash bar available.</p><p>To view <strong><em>The Old Oak</em></s
 trong> trailer, please click <a href="https://www.youtube.com/watch?v=Fwb0c
 5zqsyM"><strong>HERE</strong></a>.</p><p>Tickets are $12/ticket and are ava
 ilable online at ajax.ca/sfc or at the Ajax and McLean Community Centres, t
 he Audley Recreation Centre, at the St. Francis Centre Box Office, or by ca
 lling 905-619-2529, ext. 2787 (ARTS)</p>
CONTACT:Franco Pang
DTSTAMP:20260421T154712
DTSTART;TZID=America/Toronto:20250307T190000
DTEND;TZID=America/Toronto:20250307T210000
SEQUENCE:0
TRANSP:OPAQUE
END:VEVENT
END:VCALENDAR