BEGIN:VCALENDAR
VERSION:2.0
PRODID:-//jEvents 2.0 for Joomla//EN
CALSCALE:GREGORIAN
METHOD:PUBLISH
BEGIN:VTIMEZONE
TZID:America/Toronto
BEGIN:STANDARD
DTSTART:20241103T010000
RDATE:20250309T030000
TZOFFSETFROM:-0400
TZOFFSETTO:-0500
TZNAME:America/Toronto EST
END:STANDARD
BEGIN:STANDARD
DTSTART:20251102T010000
RDATE:20260308T030000
TZOFFSETFROM:-0400
TZOFFSETTO:-0500
TZNAME:America/Toronto EST
END:STANDARD
BEGIN:STANDARD
DTSTART:20261101T010000
RDATE:20270314T030000
TZOFFSETFROM:-0400
TZOFFSETTO:-0500
TZNAME:America/Toronto EST
END:STANDARD
BEGIN:STANDARD
DTSTART:20271107T010000
RDATE:20280312T030000
TZOFFSETFROM:-0400
TZOFFSETTO:-0500
TZNAME:America/Toronto EST
END:STANDARD
BEGIN:STANDARD
DTSTART:20281105T010000
RDATE:20290311T030000
TZOFFSETFROM:-0400
TZOFFSETTO:-0500
TZNAME:America/Toronto EST
END:STANDARD
BEGIN:STANDARD
DTSTART:20291104T010000
RDATE:20300310T030000
TZOFFSETFROM:-0400
TZOFFSETTO:-0500
TZNAME:America/Toronto EST
END:STANDARD
BEGIN:STANDARD
DTSTART:20301103T010000
RDATE:20310309T030000
TZOFFSETFROM:-0400
TZOFFSETTO:-0500
TZNAME:America/Toronto EST
END:STANDARD
BEGIN:STANDARD
DTSTART:20311102T010000
RDATE:20320314T030000
TZOFFSETFROM:-0400
TZOFFSETTO:-0500
TZNAME:America/Toronto EST
END:STANDARD
BEGIN:DAYLIGHT
DTSTART:20240501T070000
RDATE:20241103T010000
TZOFFSETFROM:-0500
TZOFFSETTO:-0400
TZNAME:America/Toronto EDT
END:DAYLIGHT
BEGIN:DAYLIGHT
DTSTART:20250309T030000
RDATE:20251102T010000
TZOFFSETFROM:-0500
TZOFFSETTO:-0400
TZNAME:America/Toronto EDT
END:DAYLIGHT
BEGIN:DAYLIGHT
DTSTART:20260308T030000
RDATE:20261101T010000
TZOFFSETFROM:-0500
TZOFFSETTO:-0400
TZNAME:America/Toronto EDT
END:DAYLIGHT
BEGIN:DAYLIGHT
DTSTART:20270314T030000
RDATE:20271107T010000
TZOFFSETFROM:-0500
TZOFFSETTO:-0400
TZNAME:America/Toronto EDT
END:DAYLIGHT
BEGIN:DAYLIGHT
DTSTART:20280312T030000
RDATE:20281105T010000
TZOFFSETFROM:-0500
TZOFFSETTO:-0400
TZNAME:America/Toronto EDT
END:DAYLIGHT
BEGIN:DAYLIGHT
DTSTART:20290311T030000
RDATE:20291104T010000
TZOFFSETFROM:-0500
TZOFFSETTO:-0400
TZNAME:America/Toronto EDT
END:DAYLIGHT
BEGIN:DAYLIGHT
DTSTART:20300310T030000
RDATE:20301103T010000
TZOFFSETFROM:-0500
TZOFFSETTO:-0400
TZNAME:America/Toronto EDT
END:DAYLIGHT
BEGIN:DAYLIGHT
DTSTART:20310309T030000
RDATE:20311102T010000
TZOFFSETFROM:-0500
TZOFFSETTO:-0400
TZNAME:America/Toronto EDT
END:DAYLIGHT
END:VTIMEZONE
BEGIN:VEVENT
UID:c5708e19d22167a56343f8d5fed8a03b
CATEGORIES:Durham Events
CREATED:20240929T145932
SUMMARY:TIFF Ajax Film Circuit presents "Cafe Daughter"
LOCATION:St. Francis Centre for Community\, Arts &amp; Culture - 78 Church St. S.\, 
 Ajax
DESCRIPTION:Welcome to the Ajax Film Circuit! Join us for our screening of Café Daughte
 r at the St. Francis Centre for Community, Arts and Culture.\n\nBased on th
 e play of the same name, and inspired by true events, Café Daughter is a co
 ming-of-age story about Yvette Wong, a young Chinese Cree girl in 1960s Sas
 katchewan, who explores and embraces her Cree identity after the passing of
  her mother. Her journey to reconnect is further bolstered by Maggie Wolf, 
 a part Mi’kmaq girl, who encourages her to take pride in who she is and whe
 re her family comes from. When Yvette’s ancestry is revealed, the attitudes
  of her fellow students and teachers soon turn to discrimination against he
 r and her dreams of going to medical school. In the face of all of this, Yv
 ette chooses to persevere and succeed. Rooted in the experiences of Dr. Lil
 lian Dyck, Order of Canada, the film’s cast compose a story of inspiration 
 and champion what is possible in overcoming adversity and forging your own 
 path. Concessions and cash bar available.\nTo view the Café Daughter traile
 r, please click HERE (https://www.youtube.com/watch?v=xdRvzyKg5hQ).\nTicket
 s are only $12/ticket and are available online at ajax.ca/sfc or at the Aja
 x and McLean Community Centres, the Audley Recreation Centre, at the St. Fr
 ancis Centre Box Office, or by calling 905-619-2529, ext. 2787 (ARTS)\n
X-ALT-DESC;FMTTYPE=text/html:<p>Welcome to the Ajax Film Circuit! Join us for our screening of <strong><
 em>Café Daughter </em></strong>at the St. Francis Centre for Community, Art
 s and Culture.<br /><br />Based on the play of the same name, and inspired 
 by true events, Café Daughter is a coming-of-age story about Yvette Wong, a
  young Chinese Cree girl in 1960s Saskatchewan, who explores and embraces h
 er Cree identity after the passing of her mother. Her journey to reconnect 
 is further bolstered by Maggie Wolf, a part Mi’kmaq girl, who encourages he
 r to take pride in who she is and where her family comes from. When Yvette’
 s ancestry is revealed, the attitudes of her fellow students and teachers s
 oon turn to discrimination against her and her dreams of going to medical s
 chool. In the face of all of this, Yvette chooses to persevere and succeed.
  Rooted in the experiences of Dr. Lillian Dyck, Order of Canada, the film’s
  cast compose a story of inspiration and champion what is possible in overc
 oming adversity and forging your own path. Concessions and cash bar availab
 le.</p><p>To view the <strong><em>Café Daughter </em></strong>trailer, plea
 se click <a href="https://www.youtube.com/watch?v=xdRvzyKg5hQ"><strong>HERE
 </strong></a>.</p><p>Tickets are only $12/ticket and are available online a
 t ajax.ca/sfc or at the Ajax and McLean Community Centres, the Audley Recre
 ation Centre, at the St. Francis Centre Box Office, or by calling 905-619-2
 529, ext. 2787 (ARTS)</p>
CONTACT:Franco Pang
DTSTAMP:20260421T160044
DTSTART;TZID=America/Toronto:20250502T070000
DTEND;TZID=America/Toronto:20250502T203000
SEQUENCE:0
TRANSP:OPAQUE
END:VEVENT
END:VCALENDAR